Workbook
Name _____________r: [1]Dane!$BB$67
Name ____________r: [1]Dane!$BB$67
Name __________r: [1]Dane!$BB$67
Name _________r: [1]Dane!$BB$67
Name _______r: [1]Dane!$BB$67
Name ______r: [1]Dane!$BB$67
Name _____r: [1]Dane!$BB$67
Name ____r: [2]Dane!$BB$67
Name ____ww242: [3]DANE!$W$135
Name ___r: [4]Dane!$BB$67
Name ___ww242: [3]DANE!$W$135
Name __r: [4]Dane!$BB$67
Name __ww242: [3]DANE!$W$135
Name _9._Analysis_of_net_debt: #REF!
Name _GoBack: instrukcja!#REF!
Name _r: [2]Dane!$BB$67
Name _ww242: [3]DANE!$W$135
Name a: [7]Dane!$BB$63
Name aa: [8]Dane!$BB$99
Name aaa: [9]Analiza!$A$1:$Y$65536
Name aaaaaaaaa: [10]Dane!$BB$108
Name aaaaaaaaaaaaaa: [11]Dane!$BB$72
Name ab: [12]Dane!$BB$63
Name ADANEDOANAL: [3]DANE!$E$169
Name Adres1: #REF!
Name Adres2: #REF!
Name AGA: #REF!
Name b: [13]Dane!$BB$48
Name Balham: #REF!
Name Balham: #REF!
Name banana: '[14]Balance Sheet Consolidated'!$C$5:$J$59
Name basa: [15]Analiza!$A$1:$Y$65536
Name bbb: #REF!
Name BOMinusJeden: [16]Dane!$BB$61
Name BZ: [16]Dane!$BB$55
Name bza: [17]Dane!$BB$59
Name BZPoprzedni: [16]Dane!$BB$56
Name BZPoprzedniAlt: [10]Dane!$BB$59
Name CASHFLOW: #REF!
Name CASHFLOW: #REF!
Name ccc: [18]Analiza!$A$1:$Y$65536
Name COMPANY: [19]Entities!$C$3:$C$31
Name CU: '[20]WYKRES WYNIK'!$AB$4:$AB$30
Name d: #REF!
Name d: #REF!
Name DANE: [21]DANE!$A$5:$AP$145
Name dane1: [18]Analiza!$A$1:$Y$65536
Name ddd: #REF!
Name DEC: [22]Flash_sierpień!$G$1
Name df: #REF!
Name df: #REF!
Name DoDniaBilans: #REF!
Name drukfinanse: #REF!
Name drukprodukcja: #REF!
Name ds: #REF!
Name dtmKoncOkrPoprz: [16]Dane!$AM$36
Name dtmKoncOkrPoprzAlt: [13]Dane!$AM$38
Name dtmKoncOkrSpraw: [16]Dane!$AM$34
Name dtmPoczOkrPoprz: [16]Dane!$AC$36
Name dtmPoczOkrPoprzAlt: [13]Dane!$AC$38

Sheet Uwagi
B3: Struktura ilościowa pakietów
B4: Ilość narzędzi - klucz do pracochłonności
B5: Objętość pakietu - klucz do kosztów procesów i transportu
B7: Harmonogram spływu pakietów do sterylizatorni - jak pokazać: co do godziny, dwóch?
B8: Z czego wynika, czy da się ustalić na podstawie danych operatywy?
B9: Czy wystarczy ilość narzędzi?
B10: Piki dzienne
B11: Jak szybko trzeba obrobić narzędzia?
B12: Z harmonogramu spływu zrobić grafik procesów w podziale na godziny - z wyliczeniem potrzebnych zasobów: ludzie, urządzenia
B15: Jaki jest kształt pakietów brudnych; jak się przekłada na kolejne etapy obróbki?
B16: Czy z jednej tacki może powstać wiele pakietów?
B19: Procesy:
... B25: Określić zakres raportów
A28: 43236
B29: Jaki przyjąć standard zużycia testów na proces sterylizacji parowej i plazmowej - jakie indeksy i ilości?
B30: Jaki przyjąć standard zużycia preparatów na proces mycia/dezynfekcji automatycznej - jakie indeksy i ilości?
B31: Jakie czasy obróbki jednego narzędzia można przyjąć z podziałem na strefę brudną i czystą?
B32: Jakie przyjąć standardowe czasy jednego procesu: sterylizatora parowego, sterylizatora niskotemperaturowego, myjki?
A34: Poznań
B35: Podsumować ich koszty miesięczne sterylizacji - w razie czego wyłapać brakujące elementy i doszacować
B36: Stworzyć miesięczną strukturę asortymentową w ujęciu cennikowym - na podstawie Medok i specyfikacji ze Szpitala
B37: Pozostałe 3 Szpitale oszacować na podstawie ilości i rodzaju zabiegów
A39: 43326
B40: Zdjęto w Bydgoszczy materiały z konta 501 (produkcja podkładów gin.) w danych rzeczywistych
B41: Zdjęto koszty osobowe z pakietowni, dotyczące pakietów i podkładów - nie dotyczą narzędzi; do zrobienia w pozostałych Citonetach
B42: Dodano koszty opakowań miesięcznie w Citonetach - kwota dodawana do modelowania ogólnego; wyliczenie w pliku "2018 Księgowania GM - Koszty w Citonetach"
A44: 43332
B45: zmiana czasów pracy ręcznej procesowej z dotychczasowej CitoNet Toruń na pomiary w CitoNet Warszawa - arkusz Procesy ilość użycia w kolumnie H dla zasobu Pracownik
B46: odjęcie kosztów osobowych konfekcjonerów usługi pakietowania, kosztów materiałów do produkcji podkładów oraz przychodów ze sprzedaży usługi pakietowania dla TZMO - arkusz PORÓWNIANIE MIESIĘCZNIE
A48: 43336
B49: zmiana objętości na podstawie danych z wizji lokalnej w ICZMP Łódź
A51: 43342
B52: w wersji wyceny usługi z CitoNet Łódź zmiana sterylizacji EO na plazma => arkusz Relacje objętości AA72:AA111

Sheet Struktura sprzedaży
B3: Nazwa | C3: Ilość | D3: Okres | E3: Klasyfikacja Cennik | F3: Ilość narzędzi | G3: Objętość | H3: Opakowanie | I3: Rodzaj obróbki

Sheet FC
B1: SZPITAL SPECJALISTYCZNY IM. STEFANA ŻEROMSKIEGO SP ZOZ W KRAKOWIE | L1: załącznik nr 1
B2: OS. NA. SKARPIE 66
B3: 31-913- KRAKÓW
B5: 1 | F5: 2 | G5: 3 | H5: 4 | I5: 5 | J5: 6 | K5: 7 | L5: 8
B6: NAZWA | F6: ILOŚĆ* | G6: Cena jednostkowa netto | H6: Wartość netto (kol. 2x3) | I6: Stawka VAT | J6: Wartość VAT (kol. 4x5) | K6: Wartość brutto (kol. 4+6) | L6: Wartość brutto (kol. 7x2 miesiące)
B8: 1. USŁUGA STERYLIZACJI WYSOKOTEMPERATUROWEJ PARĄ WODNĄ
B9: Z 3 TRANSPORTAMI / PONIEDZIAŁEK - PIĄTEK /
B10: DUŻY zestaw narzędzi chirurgicznych (1STE) pakowany w 2 warstwy papieru krepowanego lub kontener Zleceniodawcy | F10: 1200
B11: ŚREDNI zestaw narzędzi chirurgicznych (3/4 STE) pakowany w 2 warstwy papieru krepowanego lub kontener Zleceniodawcy | F11: 80
B12: MAŁY zestaw narzędzi chirurgicznych (1/2 STE) pakowany w 2 warstwy papieru krepowanego lub kontener Zleceniodawcy | F12: 200
B13: Narzędzia chir., mat. opatrunkowy lub bielizna pakowane w rękaw papierowo – foliowy o szer. 5-10 cm | F13: 1200
B14: Narzędzia chir., mat. opatrunkowy lub bielizna pakowane w rękaw papierowo – foliowy o szer. 12-15 cm | F14: 3280
B15: Narzędzia chir., mat. opatrunkowy lub bielizna pakowane w rękaw papierowo – foliowy o szer. 20-25 cm | F15: 2500
B16: Narzędzia chir., mat. opatrunkowy lub bielizna pakowane w rękaw papierowo – foliowy o szer. 30-42 cm | F16: 50
B17: 2. USŁUGA STERYLIZACJI WYSOKOTEMPERATUROWEJ PARĄ WODNĄ Z 2 TRANSPORTAMI /SOBOTA /
B18: DUŻY zestaw narzędzi chirurgicznych (1STE) pakowany w 2 warstwy papieru krepowanego lub kontener Zleceniodawcy | F18: 100
B19: ŚREDNI zestaw narzędzi chirurgicznych (3/4 STE) pakowany w 2 warstwy papieru krepowanego lub kontener Zleceniodawcy | F19: 10
B20: MAŁY zestaw narzędzi chirurgicznych (1/2 STE) pakowany w 2 warstwy papieru krepowanego lub kontener Zleceniodawcy | F20: 15
B21: Narzędzia chir., mat. opatrunkowy lub bielizna pakowane w rękaw papierowo – foliowy o szer. 5-10 cm | F21: 100
B22: Narzędzia chir., mat. opatrunkowy lub bielizna pakowane w rękaw papierowo – foliowy o szer. 12-15 cm | F22: 100
B23: Narzędzia chir., mat. opatrunkowy lub bielizna pakowane w rękaw papierowo – foliowy o szer. 20-25 cm | F23: 50
B24: Narzędzia chir., mat. opatrunkowy lub bielizna pakowane w rękaw papierowo – foliowy o szer. 30-42 cm | F24: 5
B25: 3. USŁUGA STERYLIZACJI WYSOKOTEMPERATUROWEJ PARĄ WODNĄ Z 2 TRANSPORTAMI /NIEDZIELA /
B26: DUŻY zestaw narzędzi chirurgicznych (1STE) pakowany w 2 warstwy papieru krepowanego lub kontener Zleceniodawcy | F26: 150
B27: ŚREDNI zestaw narzędzi chirurgicznych (3/4 STE) pakowany w 2 warstwy papieru krepowanego lub kontener Zleceniodawcy | F27: 10
B28: MAŁY zestaw narzędzi chirurgicznych (1/2 STE) pakowany w 2 warstwy papieru krepowanego lub kontener Zleceniodawcy | F28: 10
B29: Narzędzia chir., mat. opatrunkowy lub bielizna pakowane w rękaw papierowo – foliowy o szer. 5-10 cm | F29: 500
B30: Narzędzia chir., mat. opatrunkowy lub bielizna pakowane w rękaw papierowo – foliowy o szer. 12-15 cm | F30: 400
B31: Narzędzia chir., mat. opatrunkowy lub bielizna pakowane w rękaw papierowo – foliowy o szer. 20-25 cm | F31: 190
B32: Narzędzia chir., mat. opatrunkowy lub bielizna pakowane w rękaw papierowo – foliowy o szer. 30-42 cm | F32: 5
B33: 4. USŁUGA MYCIA, DEZYNFEKCJI I STERYLIZACJI WYSOKOTEMPERATUROWEJ PARĄ WODNĄ
B34: Z 2 TRANSPORTAMI / w sytuacjach awaryjnych i uprzednio zgłoszonych
B35: DUŻY zestaw narzędzi chirurgicznych (1STE) pakowany w 2 warstwy papieru krepowanego lub kontener Zleceniodawcy | F35: 125
B36: ŚREDNI zestaw narzędzi chirurgicznych (3/4 STE) pakowany w 2 warstwy papieru krepowanego lub kontener Zleceniodawcy | F36: 5
B37: MAŁY zestaw narzędzi chirurgicznych (1/2 STE) pakowany w 2 warstwy papieru krepowanego lub kontener Zleceniodawcy | F37: 10
B38: Narzędzia chir., mat. opatrunkowy lub bielizna pakowane w rękaw papierowo – foliowy o szer. 5-10 cm | F38: 150
B39: Narzędzia chir., mat. opatrunkowy lub bielizna pakowane w rękaw papierowo – foliowy o szer. 12-15 cm | F39: 200
B40: Narzędzia chir., mat. opatrunkowy lub bielizna pakowane w rękaw papierowo – foliowy o szer. 20-25 cm | F40: 125
B41: Narzędzia chir., mat. opatrunkowy lub bielizna pakowane w rękaw papierowo – foliowy o szer. 30-42 cm | F41: 10
B42: 5. USŁUGA CITO STERYLIZACJI WYSOKOTEMPERATUROWEJ PARĄ WODNĄ Z 2 TRANSPORTAMI
...

Sheet instrukcja
A1: Model Citonet - instrukcja obsługi modelu w procesie ustalania cen usług sterylizacyjnych
A3: Dane wsadowe:
A4: arkusz Założenia
A5: - wprowadzamy dane dotyczące zmianowości oraz hramonogramu pracy, a także jednostkowe koszty mediów oraz kursy walut
A7: arkusz Usługi
A8: - wklejamy do kolumny AO dane popytowe klienta dotyczące miesięcznych wykonań zmapowane dla poszczególnych Grup cenowych i indeksów Oracle (z kolumn B i C)
A10: arkusz Procesy
A11: - w kolumnie H wpisujemy ilość użycia poszczególnych zasobów przypadających na wskazany proces
A13: W modelu wydzielono następujące procesy (działania) w sterylizatorni:
A14: Proces | B14: Jedn. Rozliczeniowa | C14: Zasoby | D14: Opis
A15: Brudna - Manual | B15: Narzędzie | C15: Pracownik, Woda, Preparaty myjące | D15: Proces ręczny - mycie wstępne na strefie brudnej - kluczowy jest czas obróbki narzędzia
A16: Myjka | B16: Objętość | C16: Pracownik, Woda, Energia elektryczna, Preparaty myjące, Testy | D16: Mycie automatyczne - Proces automatyczny z określoną objętością i kosztem procesu
A17: Czysta - Manual | B17: Narzędzie | C17: Pracownik | D17: Proces ręczny- konfekcjonowanie na strefie czystej - kluczowy jest czas obróbki narzędzia
A18: Steryl. Para | B18: Objętość | C18: Pracownik, Woda, Energia elektryczna, Testy | D18: Sterylizacja parowa - Proces automatyczny z określoną objętością i kosztem procesu
A19: Steryl. EO | B19: Objętość | C19: Pracownik, Energia elektryczna, nabój z EO, Testy | D19: Sterylizacja tlenkiem etylenu - Proces automatyczny z określoną objętością i kosztem procesu
A20: Steryl. Plazma | B20: Objętość | C20: Pracownik, Energia elektryczna, kaseta do plazmy, Testy | D20: Sterylizacja plazmowa - Proces automatyczny z określoną objętością i kosztem procesu
A22: Pracownik
A23: - zmierzono w Sterylizatorni Toruń czasy przypadające na poszczególne procesy;
A24: - do oszczacowania pozostaje czas pracy poza czynnościami procesowymi, który istnieje i nie da się go wyeliminować
A25: Woda i energia elektryczna
A26: - z powodu braku rzeczywistego pomiaru zużycia w poszczególnych procesach, całość zużycia tych zasobów przypisano do procesu Steryl. Para (ponad 90% procesów sterylizacji we wszystkich Citonetach)
A27: - ilość zużycia zasobów na proces określono na podstawie danych historycznych z Citonetu Warszawa
A28: Materiały - testy, preparaty, naboje, kasety itd.
A29: - określono normatywy zużycia na każdy proces
A31: arkusz Osobowe
A32: - wpisujemy koszty wynagrodzeń dla poszczególnych stanowisk oraz liczbę etatów (z wyjątkiem operatorów procesu, których liczba wylicza się na podstawie przyjętych czasów obróbki ręcznej dla poszczególnych w arkuszu Procesy
A34: arkusz Koszty stałe
A35: - równe kosztom CitoNetu wybranego w arkuszu Rachunek wyników (w komórce J2)
... A51: Do zdefiniowania pozostał proces - transport. Nieistotny w przypadku starylizatorni na terenie szpitala.

Sheet map_opakowania
A1: Grupa cenowa | B1: Indeks Oracle | C1: Opis Oracle | D1: typ_ster | E1: Rodzaj produktu - opis | F1: szer (cm) | G1: dł (cm) | H1: wys (cm) | I1: indeks opak | J1: opis opak | K1: ilość | L1: cena jedn | M1: koszt_opak
A2: BIE 1/1 | B2: UK-UKA-ST10-001 | C2: STER PARA BIELIZNA 1 STE | D2: PARA | E2: RĘKAWY Z FAŁDĄ | F2: 42 | G2: 60 | H2: 9 | I2: =VLOOKUP($D2&$E2&$F2&$H2,Materiały!$B:$K,2,0) -> OM-194-FPFA-014 | J2: =VLOOKUP($I2,Materiały!$C:$K,2,0) -> RĘK P-F F STEAM/EO FORM 100M 420X90MM | K2: =MID(J2,SEARCH("FORM",J2)+5,3)/1*100 -> 10000 | L2: =VLOOKUP($I2,Materiały!$C:$K,4,0) -> 111.6 | M2: =L2*(G2/K2) -> 0.6696 | N2: =M2*1 -> 0.6696
A3: BIE 1/2 | B3: UK-UKA-ST12-001 | C3: STER PARA BIELIZNA 1/2 STE | D3: PARA | E3: RĘKAWY Z FAŁDĄ | F3: 20 | G3: 60 | H3: 5 | I3: =VLOOKUP($D3&$E3&$F3&$H3,Materiały!$B:$K,2,0) -> OM-194-FPFA-010 | J3: =VLOOKUP($I3,Materiały!$C:$K,2,0) -> RĘK P-F F STEAM/EO FORM 100M 200X50MM | K3: =MID(J3,SEARCH("FORM",J3)+5,3)/1*100 -> 10000 | L3: =VLOOKUP($I3,Materiały!$C:$K,4,0) -> 57.09 | M3: =L3*(G3/K3) -> 0.34254 | N3: =M3*2 -> 0.68508
A4: BIE 1/4 | B4: UK-UKA-ST14-001 | C4: STER PARA BIELIZNA 1/4 STE | D4: PARA | E4: RĘKAWY Z FAŁDĄ | F4: 15 | G4: 40 | H4: 5 | I4: =VLOOKUP($D4&$E4&$F4&$H4,Materiały!$B:$K,2,0) -> OM-194-FPFA-009 | J4: =VLOOKUP($I4,Materiały!$C:$K,2,0) -> RĘK P-F F STEAM/EO FORM 100M 150X50MM | K4: =MID(J4,SEARCH("FORM",J4)+5,3)/1*100 -> 10000 | L4: =VLOOKUP($I4,Materiały!$C:$K,4,0) -> 46.68 | M4: =L4*(G4/K4) -> 0.18672 | N4: =M4*4 -> 0.74688
A5: BIE 1/6 | B5: UK-UKA-ST16-001 | C5: STER PARA BIELIZNA 1/6 STE | D5: PARA | E5: RĘKAWY Z FAŁDĄ | F5: 15 | G5: 20 | H5: 5 | I5: =VLOOKUP($D5&$E5&$F5&$H5,Materiały!$B:$K,2,0) -> OM-194-FPFA-009 | J5: =VLOOKUP($I5,Materiały!$C:$K,2,0) -> RĘK P-F F STEAM/EO FORM 100M 150X50MM | K5: =MID(J5,SEARCH("FORM",J5)+5,3)/1*100 -> 10000 | L5: =VLOOKUP($I5,Materiały!$C:$K,4,0) -> 46.68 | M5: =L5*(G5/K5) -> 0.09336 | N5: =M5*6 -> 0.56016
A6: BIE 1/8 | B6: UK-UKA-ST18-001 | C6: STER PARA BIELIZNA 1/8 STE | D6: PARA | E6: RĘKAWY Z FAŁDĄ | F6: 10 | G6: 20 | H6: 4 | I6: =VLOOKUP($D6&$E6&$F6&$H6,Materiały!$B:$K,2,0) -> OM-194-FPFA-008 | J6: =VLOOKUP($I6,Materiały!$C:$K,2,0) -> RĘK P-F F STEAM/EO FORM 100M 100X40MM | K6: =MID(J6,SEARCH("FORM",J6)+5,3)/1*100 -> 10000 | L6: =VLOOKUP($I6,Materiały!$C:$K,4,0) -> 32.82 | M6: =L6*(G6/K6) -> 0.06564 | N6: =M6*8 -> 0.52512
A7: BIE 3/4 | B7: UK-UKA-ST34-001 | C7: STER PARA BIELIZNA 3/4 STE | D7: PARA | E7: RĘKAWY Z FAŁDĄ | F7: 38 | G7: 60 | H7: 8 | I7: =VLOOKUP($D7&$E7&$F7&$H7,Materiały!$B:$K,2,0) -> OM-194-FPFA-013 | J7: =VLOOKUP($I7,Materiały!$C:$K,2,0) -> RĘK P-F F STEAM/EO FORM 100M 380X80MM | K7: =MID(J7,SEARCH("FORM",J7)+5,3)/1*100 -> 10000 | L7: =VLOOKUP($I7,Materiały!$C:$K,4,0) -> 104.89 | M7: =L7*(G7/K7) -> 0.62934 | N7: =M7*4/3 -> 0.83912
A8: PA R 7,5 x 20 | B8: UK-UKB-0020-001 | C8: STER PARA NARZ 1->4 W REK DO 20|7,5 | D8: PARA | E8: RĘKAWY PŁASKIE | F8: =MID(C8,SEARCH("|",C8)+1,3)/1 -> 7.5 | G8: =MID(C8,SEARCH("DO",C8)+3,2)/1 -> 20 | H8: =1/10 -> 0.1 | I8: =VLOOKUP($D8&$E8&$F8&$H8,Materiały!$B:$K,2,0) -> OM-194-FPPA-012 | J8: =VLOOKUP($I8,Materiały!$C:$K,2,0) -> RĘK P-F P STEAM/EO/FORM 200M 75MM | K8: =VLOOKUP($D8&$E8&$F8&$H8,Materiały!$B:$K,7,0) -> 20000 | L8: =VLOOKUP($I8,Materiały!$C:$K,4,0) -> 31.96 | M8: =L8*(G8/K8) -> 0.03196
A9: PA R 10 x 20 | B9: UK-UKB-0020-002 | C9: STER PARA NARZ 1->4 W REK DO 20|10 | D9: PARA | E9: RĘKAWY PŁASKIE | F9: =MID(C9,SEARCH("|",C9)+1,3)/1 -> 10 | G9: =MID(C9,SEARCH("DO",C9)+3,2)/1 -> 20 | H9: =1/10 -> 0.1 | I9: =VLOOKUP($D9&$E9&$F9&$H9,Materiały!$B:$K,2,0) -> OM-194-FPPA-013 | J9: =VLOOKUP($I9,Materiały!$C:$K,2,0) -> RĘK F-P P STEAM/EO/FORM 200M 100MM | K9: =VLOOKUP($D9&$E9&$F9&$H9,Materiały!$B:$K,7,0) -> 20000 | L9: =VLOOKUP($I9,Materiały!$C:$K,4,0) -> 40.28 | M9: =L9*(G9/K9) -> 0.04028
A10: PA R 12 x 20 | B10: UK-UKB-0020-003 | C10: STER PARA NARZ 1->4 W REK DO 20|12 | D10: PARA | E10: RĘKAWY PŁASKIE | F10: =MID(C10,SEARCH("|",C10)+1,3)/1 -> 12 | G10: =MID(C10,SEARCH("DO",C10)+3,2)/1 -> 20 | H10: =1/10 -> 0.1 | I10: =VLOOKUP($D10&$E10&$F10&$H10,Materiały!$B:$K,2,0) -> OM-194-FPPA-014 | J10: =VLOOKUP($I10,Materiały!$C:$K,2,0) -> RĘK P-F P STEAM/EO/FORM 200M 120MM | K10: =VLOOKUP($D10&$E10&$F10&$H10,Materiały!$B:$K,7,0) -> 20000 | L10: =VLOOKUP($I10,Materiały!$C:$K,4,0) -> 56.26 | M10: =L10*(G10/K10) -> 0.05626
A11: PA R 15 x 20 | B11: UK-UKB-0020-004 | C11: STER PARA NARZ 1->4 W REK DO 20|15 | D11: PARA | E11: RĘKAWY PŁASKIE | F11: =MID(C11,SEARCH("|",C11)+1,3)/1 -> 15 | G11: =MID(C11,SEARCH("DO",C11)+3,2)/1 -> 20 | H11: =1/10 -> 0.1 | I11: =VLOOKUP($D11&$E11&$F11&$H11,Materiały!$B:$K,2,0) -> OM-194-FPPA-015 | J11: =VLOOKUP($I11,Materiały!$C:$K,2,0) -> RĘK P-F P STEAM/EO FORM 200M 150MM | K11: =VLOOKUP($D11&$E11&$F11&$H11,Materiały!$B:$K,7,0) -> 20000 | L11: =VLOOKUP($I11,Materiały!$C:$K,4,0) -> 58.64 | M11: =L11*(G11/K11) -> 0.05864
A12: PA R 7,5 x 40 | B12: UK-UKB-0040-001 | C12: STER PARA NARZ 1->4 W REK DO 40|7,5 | D12: PARA | E12: RĘKAWY PŁASKIE | F12: =MID(C12,SEARCH("|",C12)+1,3)/1 -> 7.5 | G12: =MID(C12,SEARCH("DO",C12)+3,2)/1 -> 40 | H12: =1/10 -> 0.1 | I12: =VLOOKUP($D12&$E12&$F12&$H12,Materiały!$B:$K,2,0) -> OM-194-FPPA-012 | J12: =VLOOKUP($I12,Materiały!$C:$K,2,0) -> RĘK P-F P STEAM/EO/FORM 200M 75MM | K12: =VLOOKUP($D12&$E12&$F12&$H12,Materiały!$B:$K,7,0) -> 20000 | L12: =VLOOKUP($I12,Materiały!$C:$K,4,0) -> 31.96 | M12: =L12*(G12/K12) -> 0.06392
A13: PA R 10 x 40 | B13: UK-UKB-0040-002 | C13: STER PARA NARZ 1->4 W REK DO 40|10 | D13: PARA | E13: RĘKAWY PŁASKIE | F13: =MID(C13,SEARCH("|",C13)+1,3)/1 -> 10 | G13: =MID(C13,SEARCH("DO",C13)+3,2)/1 -> 40 | H13: =1/10 -> 0.1 | I13: =VLOOKUP($D13&$E13&$F13&$H13,Materiały!$B:$K,2,0) -> OM-194-FPPA-013 | J13: =VLOOKUP($I13,Materiały!$C:$K,2,0) -> RĘK F-P P STEAM/EO/FORM 200M 100MM | K13: =VLOOKUP($D13&$E13&$F13&$H13,Materiały!$B:$K,7,0) -> 20000 | L13: =VLOOKUP($I13,Materiały!$C:$K,4,0) -> 40.28 | M13: =L13*(G13/K13) -> 0.08056
A14: PA R 12 x 40 | B14: UK-UKB-0040-003 | C14: STER PARA NARZ 1->4 W REK DO 40|12 | D14: PARA | E14: RĘKAWY PŁASKIE | F14: =MID(C14,SEARCH("|",C14)+1,3)/1 -> 12 | G14: =MID(C14,SEARCH("DO",C14)+3,2)/1 -> 40 | H14: =1/10 -> 0.1 | I14: =VLOOKUP($D14&$E14&$F14&$H14,Materiały!$B:$K,2,0) -> OM-194-FPPA-014 | J14: =VLOOKUP($I14,Materiały!$C:$K,2,0) -> RĘK P-F P STEAM/EO/FORM 200M 120MM | K14: =VLOOKUP($D14&$E14&$F14&$H14,Materiały!$B:$K,7,0) -> 20000 | L14: =VLOOKUP($I14,Materiały!$C:$K,4,0) -> 56.26 | M14: =L14*(G14/K14) -> 0.11252
A15: PA R 15 x 40 | B15: UK-UKB-0040-004 | C15: STER PARA NARZ 1->4 W REK DO 40|15 | D15: PARA | E15: RĘKAWY PŁASKIE | F15: =MID(C15,SEARCH("|",C15)+1,3)/1 -> 15 | G15: =MID(C15,SEARCH("DO",C15)+3,2)/1 -> 40 | H15: =1/10 -> 0.1 | I15: =VLOOKUP($D15&$E15&$F15&$H15,Materiały!$B:$K,2,0) -> OM-194-FPPA-015 | J15: =VLOOKUP($I15,Materiały!$C:$K,2,0) -> RĘK P-F P STEAM/EO FORM 200M 150MM | K15: =VLOOKUP($D15&$E15&$F15&$H15,Materiały!$B:$K,7,0) -> 20000 | L15: =VLOOKUP($I15,Materiały!$C:$K,4,0) -> 58.64 | M15: =L15*(G15/K15) -> 0.11728
A16: PA R 20 x 40 | B16: UK-UKB-0040-005 | C16: STER PARA NARZ 1->4 W REK DO 40|20 | D16: PARA | E16: RĘKAWY PŁASKIE | F16: =MID(C16,SEARCH("|",C16)+1,3)/1 -> 20 | G16: =MID(C16,SEARCH("DO",C16)+3,2)/1 -> 40 | H16: =1/10 -> 0.1 | I16: =VLOOKUP($D16&$E16&$F16&$H16,Materiały!$B:$K,2,0) -> OM-194-FPPA-016 | J16: =VLOOKUP($I16,Materiały!$C:$K,2,0) -> RĘK P-F P STEAM/EO FORM 200M 200MM | K16: =VLOOKUP($D16&$E16&$F16&$H16,Materiały!$B:$K,7,0) -> 20000 | L16: =VLOOKUP($I16,Materiały!$C:$K,4,0) -> 76.71 | M16: =L16*(G16/K16) -> 0.15342
A17: PA R 25 x 40 | B17: UK-UKB-0040-006 | C17: STER PARA NARZ 1->4 W REK DO 40|25 | D17: PARA | E17: RĘKAWY PŁASKIE | F17: =MID(C17,SEARCH("|",C17)+1,3)/1 -> 25 | G17: =MID(C17,SEARCH("DO",C17)+3,2)/1 -> 40 | H17: =1/10 -> 0.1 | I17: =VLOOKUP($D17&$E17&$F17&$H17,Materiały!$B:$K,2,0) -> OM-194-FPPA-007 | J17: =VLOOKUP($I17,Materiały!$C:$K,2,0) -> RĘK P-F P STEAM/EO FORM 100M 250MM | K17: =VLOOKUP($D17&$E17&$F17&$H17,Materiały!$B:$K,7,0) -> 10000 | L17: =VLOOKUP($I17,Materiały!$C:$K,4,0) -> 99.87 | M17: =L17*(G17/K17) -> 0.39948
A18: PA R 32 x 40 | B18: UK-UKB-0040-007 | C18: STER PARA NARZ 1->4 W REK DO 40|32 | D18: PARA | E18: RĘKAWY PŁASKIE | F18: =MID(C18,SEARCH("|",C18)+1,3)/1 -> 32 | G18: =MID(C18,SEARCH("DO",C18)+3,2)/1 -> 40 | H18: =1/10 -> 0.1 | I18: =VLOOKUP($D18&$E18&$F18&$H18,Materiały!$B:$K,2,0) -> OM-194-FPPA-009 | J18: =VLOOKUP($I18,Materiały!$C:$K,2,0) -> RĘK P-F P STEAM/EO FORM 100M 320MM | K18: =VLOOKUP($D18&$E18&$F18&$H18,Materiały!$B:$K,7,0) -> 10000 | L18: =VLOOKUP($I18,Materiały!$C:$K,4,0) -> 77.47 | M18: =L18*(G18/K18) -> 0.30988
A19: PA R 42 x 40 | B19: UK-UKB-0040-008 | C19: STER PARA NARZ 1->4 W REK DO 40|42 | D19: PARA | E19: RĘKAWY PŁASKIE | F19: =MID(C19,SEARCH("|",C19)+1,3)/1 -> 42 | G19: =MID(C19,SEARCH("DO",C19)+3,2)/1 -> 40 | H19: =1/10 -> 0.1 | I19: =VLOOKUP($D19&$E19&$F19&$H19,Materiały!$B:$K,2,0) -> OM-194-FPPA-010 | J19: =VLOOKUP($I19,Materiały!$C:$K,2,0) -> RĘK P-F P STEAM/EO FORM 100M 420MM | K19: =VLOOKUP($D19&$E19&$F19&$H19,Materiały!$B:$K,7,0) -> 10000 | L19: =VLOOKUP($I19,Materiały!$C:$K,4,0) -> 152.08 | M19: =L19*(G19/K19) -> 0.60832
... A27: PA R 42 x 60 | B27: UK-UKB-0060-008 | C27: STER PARA NARZ 1->4 W REK DO 60|42 | D27: PARA | E27: RĘKAWY PŁASKIE | F27: =MID(C27,SEARCH("|",C27)+1,3)/1 -> 42 | G27: =MID(C27,SEARCH("DO",C27)+3,2)/1 -> 60 | H27: =1/10 -> 0.1 | I27: =VLOOKUP($D27&$E27&$F27&$H27,Materiały!$B:$K,2,0) -> OM-194-FPPA-010 | J27: =VLOOKUP($I27,Materiały!$C:$K,2,0) -> RĘK P-F P STEAM/EO FORM 100M 420MM | K27: =VLOOKUP($D27&$E27&$F27&$H27,Materiały!$B:$K,7,0) -> 10000 | L27: =VLOOKUP($I27,Materiały!$C:$K,4,0) -> 152.08 | M27: =L27*(G27/K27) -> 0.91248
A28: PA P ≤10 | B28: UK-UKB-WB10-001 | C28: STER PARA, <10 NARZ, BLOK OP. | D28: PARA | E28: PAPIER DO STERYLIZACJI | G28: 1 | I28: OM-195-B060-001 | J28: =VLOOKUP($I28,Materiały!$C:$K,2,0) -> PK B 300X300MM A2000 | K28: =VLOOKUP($I28,Materiały!$C:$L,10,0) -> 2000 | L28: =VLOOKUP($I28,Materiały!$C:$K,4,0) -> 116.35 | M28: =L28*(G28/K28) -> 0.058175 | N28: kontener?
A29: PA P ≤10 | B29: UK-UKB-WB10-001 | C29: STER PARA, <10 NARZ, BLOK OP. | D29: PARA | E29: PAPIER DO STERYLIZACJI | G29: 1 | I29: OM-195-K060-003 | J29: =VLOOKUP($I29,Materiały!$C:$K,2,0) -> PK Z 500X500MM A500 | K29: =VLOOKUP($I29,Materiały!$C:$L,10,0) -> 500 | L29: =VLOOKUP($I29,Materiały!$C:$K,4,0) -> 76.88 | M29: =L29*(G29/K29) -> 0.15376 | N29: kontener?
A30: PA P ≤30 | B30: UK-UKB-WB30-001 | C30: STER PARA, <30 NARZ, BLOK OP. | D30: PARA | E30: PAPIER DO STERYLIZACJI | G30: 1 | I30: OM-195-K060-003 | J30: =VLOOKUP($I30,Materiały!$C:$K,2,0) -> PK Z 500X500MM A500 | K30: =VLOOKUP($I30,Materiały!$C:$L,10,0) -> 500 | L30: =VLOOKUP($I30,Materiały!$C:$K,4,0) -> 76.88 | M30: =L30*(G30/K30) -> 0.15376 | N30: kontener?
A31: PA P ≤30 | B31: UK-UKB-WB30-001 | C31: STER PARA, <30 NARZ, BLOK OP. | D31: PARA | E31: PAPIER DO STERYLIZACJI | G31: 1 | I31: OM-195-B060-004 | J31: =VLOOKUP($I31,Materiały!$C:$K,2,0) -> PK B 600X600MM A500 | K31: =VLOOKUP($I31,Materiały!$C:$L,10,0) -> 500 | L31: =VLOOKUP($I31,Materiały!$C:$K,4,0) -> 105.43 | M31: =L31*(G31/K31) -> 0.21086 | N31: kontener?
A32: PA P ≤50 | B32: UK-UKB-WB50-001 | C32: STER PARA, <50 NARZ, BLOK OP. | D32: PARA | E32: PAPIER DO STERYLIZACJI | G32: 1 | I32: OM-195-B060-004 | J32: =VLOOKUP($I32,Materiały!$C:$K,2,0) -> PK B 600X600MM A500 | K32: =VLOOKUP($I32,Materiały!$C:$L,10,0) -> 500 | L32: =VLOOKUP($I32,Materiały!$C:$K,4,0) -> 105.43 | M32: =L32*(G32/K32) -> 0.21086 | N32: kontener?
A33: PA P ≤50 | B33: UK-UKB-WB50-001 | C33: STER PARA, <50 NARZ, BLOK OP. | D33: PARA | E33: PAPIER DO STERYLIZACJI | G33: 1 | I33: OM-195-MIX1-005 | J33: =VLOOKUP($I33,Materiały!$C:$K,2,0) -> PK ST MIX 58G B/Z 750X750MM A250 | K33: =VLOOKUP($I33,Materiały!$C:$L,10,0) -> 250 | L33: =VLOOKUP($I33,Materiały!$C:$K,4,0) -> 84.56 | M33: =L33*(G33/K33) -> 0.33824 | N33: kontener?
A34: PA P ≤70 | B34: UK-UKB-WB70-001 | C34: STER PARA, <70 NARZ, BLOK OP. | D34: PARA | E34: PAPIER DO STERYLIZACJI | G34: 1 | I34: OM-195-MIX1-005 | J34: =VLOOKUP($I34,Materiały!$C:$K,2,0) -> PK ST MIX 58G B/Z 750X750MM A250 | K34: =VLOOKUP($I34,Materiały!$C:$L,10,0) -> 250 | L34: =VLOOKUP($I34,Materiały!$C:$K,4,0) -> 84.56 | M34: =L34*(G34/K34) -> 0.33824 | N34: kontener?
A35: PA P ≤70 | B35: UK-UKB-WB70-001 | C35: STER PARA, <70 NARZ, BLOK OP. | D35: PARA | E35: PAPIER DO STERYLIZACJI | G35: 1 | I35: OM-195-MIX1-006 | J35: =VLOOKUP($I35,Materiały!$C:$K,2,0) -> PK ST MIX 58G B/Z 900X900MM A250 | K35: =VLOOKUP($I35,Materiały!$C:$L,10,0) -> 250 | L35: =VLOOKUP($I35,Materiały!$C:$K,4,0) -> 115.32 | M35: =L35*(G35/K35) -> 0.46128 | N35: kontener?
A36: PA P ≤90 | B36: UK-UKB-WB90-001 | C36: STER PARA, <90 NARZ, BLOK OP. | D36: PARA | E36: PAPIER DO STERYLIZACJI | G36: 1 | I36: OM-195-MIX1-006 | J36: =VLOOKUP($I36,Materiały!$C:$K,2,0) -> PK ST MIX 58G B/Z 900X900MM A250 | K36: =VLOOKUP($I36,Materiały!$C:$L,10,0) -> 250 | L36: =VLOOKUP($I36,Materiały!$C:$K,4,0) -> 115.32 | M36: =L36*(G36/K36) -> 0.46128 | N36: kontener?
A37: PA P ≤90 | B37: UK-UKB-WB90-001 | C37: STER PARA, <90 NARZ, BLOK OP. | D37: PARA | E37: PAPIER DO STERYLIZACJI | G37: 1 | I37: OM-195-MIX1-007 | J37: =VLOOKUP($I37,Materiały!$C:$K,2,0) -> PK ST MIX 58G B/Z 1000X1000MM A250 | K37: =VLOOKUP($I37,Materiały!$C:$L,10,0) -> 250 | L37: =VLOOKUP($I37,Materiały!$C:$K,4,0) -> 147.62 | M37: =L37*(G37/K37) -> 0.59048 | N37: kontener?
A38: PA P >90 | B38: UK-UKB-WB91-001 | C38: STER PARA, >91 NARZ, BLOK OP. | D38: PARA | E38: PAPIER DO STERYLIZACJI | G38: 1 | I38: OM-195-MIX1-007 | J38: =VLOOKUP($I38,Materiały!$C:$K,2,0) -> PK ST MIX 58G B/Z 1000X1000MM A250 | K38: =VLOOKUP($I38,Materiały!$C:$L,10,0) -> 250 | L38: =VLOOKUP($I38,Materiały!$C:$K,4,0) -> 147.62 | M38: =L38*(G38/K38) -> 0.59048 | N38: kontener?
A39: PA P >90 | B39: UK-UKB-WB91-001 | C39: STER PARA, >91 NARZ, BLOK OP. | D39: PARA | E39: PAPIER DO STERYLIZACJI | G39: 1 | I39: OM-195-MIX1-008 | J39: =VLOOKUP($I39,Materiały!$C:$K,2,0) -> PK ST MIX 58G B/Z 1200X1200MM A100 | K39: =VLOOKUP($I39,Materiały!$C:$L,10,0) -> 100 | L39: =VLOOKUP($I39,Materiały!$C:$K,4,0) -> 100.2 | M39: =L39*(G39/K39) -> 1.002 | N39: kontener?
B40: UK-UKB-WR10-001 | C40: STER PARA, <10 NARZ, BLOK OP. ORT i NEUR | D40: PARA | E40: PAPIER DO STERYLIZACJI | G40: 1 | I40: OM-195-B060-001 | J40: =VLOOKUP($I40,Materiały!$C:$K,2,0) -> PK B 300X300MM A2000 | K40: =VLOOKUP($I40,Materiały!$C:$L,10,0) -> 2000 | L40: =VLOOKUP($I40,Materiały!$C:$K,4,0) -> 116.35 | M40: =L40*(G40/K40) -> 0.058175 | N40: kontener?
B41: UK-UKB-WR10-001 | C41: STER PARA, <10 NARZ, BLOK OP. ORT i NEUR | D41: PARA | E41: PAPIER DO STERYLIZACJI | G41: 1 | I41: OM-195-K060-003 | J41: =VLOOKUP($I41,Materiały!$C:$K,2,0) -> PK Z 500X500MM A500 | K41: =VLOOKUP($I41,Materiały!$C:$L,10,0) -> 500 | L41: =VLOOKUP($I41,Materiały!$C:$K,4,0) -> 76.88 | M41: =L41*(G41/K41) -> 0.15376 | N41: kontener?
B42: UK-UKB-WR30-001 | C42: STER PARA, <30 NARZ, BLOK OP. ORT i NEUR | D42: PARA | E42: PAPIER DO STERYLIZACJI | G42: 1 | I42: OM-195-K060-003 | J42: =VLOOKUP($I42,Materiały!$C:$K,2,0) -> PK Z 500X500MM A500 | K42: =VLOOKUP($I42,Materiały!$C:$L,10,0) -> 500 | L42: =VLOOKUP($I42,Materiały!$C:$K,4,0) -> 76.88 | M42: =L42*(G42/K42) -> 0.15376 | N42: kontener?
B43: UK-UKB-WR30-001 | C43: STER PARA, <30 NARZ, BLOK OP. ORT i NEUR | D43: PARA | E43: PAPIER DO STERYLIZACJI | G43: 1 | I43: OM-195-B060-004 | J43: =VLOOKUP($I43,Materiały!$C:$K,2,0) -> PK B 600X600MM A500 | K43: =VLOOKUP($I43,Materiały!$C:$L,10,0) -> 500 | L43: =VLOOKUP($I43,Materiały!$C:$K,4,0) -> 105.43 | M43: =L43*(G43/K43) -> 0.21086 | N43: kontener?
B44: UK-UKB-WR50-001 | C44: STER PARA, <50 NARZ, BLOK OP. ORT i NEUR | D44: PARA | E44: PAPIER DO STERYLIZACJI | G44: 1 | I44: OM-195-B060-004 | J44: =VLOOKUP($I44,Materiały!$C:$K,2,0) -> PK B 600X600MM A500 | K44: =VLOOKUP($I44,Materiały!$C:$L,10,0) -> 500 | L44: =VLOOKUP($I44,Materiały!$C:$K,4,0) -> 105.43 | M44: =L44*(G44/K44) -> 0.21086 | N44: kontener?
B45: UK-UKB-WR50-001 | C45: STER PARA, <50 NARZ, BLOK OP. ORT i NEUR | D45: PARA | E45: PAPIER DO STERYLIZACJI | G45: 1 | I45: OM-195-MIX1-005 | J45: =VLOOKUP($I45,Materiały!$C:$K,2,0) -> PK ST MIX 58G B/Z 750X750MM A250 | K45: =VLOOKUP($I45,Materiały!$C:$L,10,0) -> 250 | L45: =VLOOKUP($I45,Materiały!$C:$K,4,0) -> 84.56 | M45: =L45*(G45/K45) -> 0.33824 | N45: kontener?
B46: UK-UKB-WR70-001 | C46: STER PARA, <70 NARZ, BLOK OP. ORT i NEUR | D46: PARA | E46: PAPIER DO STERYLIZACJI | G46: 1 | I46: OM-195-MIX1-005 | J46: =VLOOKUP($I46,Materiały!$C:$K,2,0) -> PK ST MIX 58G B/Z 750X750MM A250 | K46: =VLOOKUP($I46,Materiały!$C:$L,10,0) -> 250 | L46: =VLOOKUP($I46,Materiały!$C:$K,4,0) -> 84.56 | M46: =L46*(G46/K46) -> 0.33824 | N46: kontener?
B47: UK-UKB-WR70-001 | C47: STER PARA, <70 NARZ, BLOK OP. ORT i NEUR | D47: PARA | E47: PAPIER DO STERYLIZACJI | G47: 1 | I47: OM-195-MIX1-006 | J47: =VLOOKUP($I47,Materiały!$C:$K,2,0) -> PK ST MIX 58G B/Z 900X900MM A250 | K47: =VLOOKUP($I47,Materiały!$C:$L,10,0) -> 250 | L47: =VLOOKUP($I47,Materiały!$C:$K,4,0) -> 115.32 | M47: =L47*(G47/K47) -> 0.46128 | N47: kontener?
...

Sheet Relacje objętości
R1: formułami z wizji lokalnej | X1: formułami z wizji lokalnej | AD1: obj dla 70% z 60x30x30
R2: formułami z wizji lokalnej | X2: ekstrapolacja z 5 na 23 dni | AD2: =60*30*30*0.7 -> 37800
A3: Indeks Oracle | B3: Opis Oracle | C3: Długość | D3: Szerokość | E3: Wysokość | F3: Objętość w cm3 | G3: Relacja objętości do najmniejszego | H3: Relacja objętości do mniejszego | I3: Relacja objętości do największego | K3: Cena do Miejskiego | L3: Relacja cenowa do największego | N3: kod | O3: Grupa cenowa | P3: Indeks Oracle | Q3: Opis Oracle | R3: ile w STE (ICZMP) | S3: ile w STE (model wg CiTo) | T3: Długość (cm) | U3: Szerokość (cm) | V3: Wysokość (cm) | W3: Objętość w cm3 | X3: ilosc produktow w mies | Y3: STE w mies | Z3: śr waż liczba w STE | AD3: ile w STE (wg rozm opakowań) | AG3: CiLo Wysokość (cm)
A4: UK-UKB-0020-001 | B4: STER PARA NARZ 1->4 W REK DO 20|7,5 | C4: 20 | D4: 7.5 | E4: 3 | F4: =C4*D4*E4 -> 450 | I4: =F$23/F4 -> 16.8 | K4: =SUMIF('Umowa Miejski'!H:H,'Relacje objętości'!A4,'Umowa Miejski'!K:K) -> 1.8 | L4: =K$23/K4 -> 18.333333 | N4: =O4&P4 -> BIE 1/1UK-UKA-ST10-001 | O4: BIE 1/1 | P4: UK-UKA-ST10-001 | Q4: STER PARA BIELIZNA 1 STE | R4: 0 | S4: 1 | W4: =T4*U4*V4 -> 0 | X4: 0 | Y4: =IFERROR(X4/R4,0) -> 0 | AD4: =1/1 -> 1
A5: UK-UKB-0020-002 | B5: STER PARA NARZ 1->4 W REK DO 20|10 | C5: 20 | D5: 10 | E5: =E4 -> 3 | F5: =C5*D5*E5 -> 600 | G5: =F5/F$4 -> 1.3333333 | H5: =F5/F4 -> 1.3333333 | I5: =F$23/F5 -> 12.6 | K5: =SUMIF('Umowa Miejski'!H:H,'Relacje objętości'!A5,'Umowa Miejski'!K:K) -> 2.6 | L5: =K$23/K5 -> 12.692308 | N5: =O5&P5 -> BIE 1/2UK-UKA-ST12-001 | O5: BIE 1/2 | P5: UK-UKA-ST12-001 | Q5: STER PARA BIELIZNA 1/2 STE | R5: 0 | S5: 2 | W5: =T5*U5*V5 -> 0 | X5: 0 | Y5: =IFERROR(X5/R5,0) -> 0 | AD5: =2/1 -> 2
A6: UK-UKB-0020-003 | B6: STER PARA NARZ 1->4 W REK DO 20|12 | C6: 20 | D6: 12 | E6: =E5 -> 3 | F6: =C6*D6*E6 -> 720 | G6: =F6/F$4 -> 1.6 | H6: =F6/F5 -> 1.2 | I6: =F$23/F6 -> 10.5 | K6: =SUMIF('Umowa Miejski'!H:H,'Relacje objętości'!A6,'Umowa Miejski'!K:K) -> 3.3 | L6: =K$23/K6 -> 10 | N6: =O6&P6 -> BIE 1/4UK-UKA-ST14-001 | O6: BIE 1/4 | P6: UK-UKA-ST14-001 | Q6: STER PARA BIELIZNA 1/4 STE | R6: 0 | S6: 4 | W6: =T6*U6*V6 -> 0 | X6: 0 | Y6: =IFERROR(X6/R6,0) -> 0 | AD6: =4/1 -> 4
A7: UK-UKB-0020-004 | B7: STER PARA NARZ 1->4 W REK DO 20|15 | C7: 20 | D7: 15 | E7: =E6 -> 3 | F7: =C7*D7*E7 -> 900 | G7: =F7/F$4 -> 2 | H7: =F7/F6 -> 1.25 | I7: =F$23/F7 -> 8.4 | K7: =SUMIF('Umowa Miejski'!H:H,'Relacje objętości'!A7,'Umowa Miejski'!K:K) -> 4.1 | L7: =K$23/K7 -> 8.0487805 | N7: =O7&P7 -> BIE 1/6UK-UKA-ST16-001 | O7: BIE 1/6 | P7: UK-UKA-ST16-001 | Q7: STER PARA BIELIZNA 1/6 STE | R7: 0 | S7: 6 | W7: =T7*U7*V7 -> 0 | X7: 0 | Y7: =IFERROR(X7/R7,0) -> 0 | AD7: =6/1 -> 6
A8: UK-UKB-0040-001 | B8: STER PARA NARZ 1->4 W REK DO 40|7,5 | C8: 40 | D8: 7.5 | E8: =E7 -> 3 | F8: =C8*D8*E8 -> 900 | G8: =F8/F$4 -> 2 | H8: =F8/F7 -> 1 | I8: =F$23/F8 -> 8.4 | K8: =SUMIF('Umowa Miejski'!H:H,'Relacje objętości'!A8,'Umowa Miejski'!K:K) -> 2.95 | L8: =K$23/K8 -> 11.186441 | N8: =O8&P8 -> BIE 1/8UK-UKA-ST18-001 | O8: BIE 1/8 | P8: UK-UKA-ST18-001 | Q8: STER PARA BIELIZNA 1/8 STE | R8: 0 | S8: 8 | W8: =T8*U8*V8 -> 0 | X8: 0 | Y8: =IFERROR(X8/R8,0) -> 0 | AD8: =8/1 -> 8
A9: UK-UKB-0040-002 | B9: STER PARA NARZ 1->4 W REK DO 40|10 | C9: 40 | D9: 10 | E9: =E8 -> 3 | F9: =C9*D9*E9 -> 1200 | G9: =F9/F$4 -> 2.6666667 | H9: =F9/F8 -> 1.3333333 | I9: =F$23/F9 -> 6.3 | K9: =SUMIF('Umowa Miejski'!H:H,'Relacje objętości'!A9,'Umowa Miejski'!K:K) -> 3.81 | L9: =K$23/K9 -> 8.6614173 | N9: =O9&P9 -> BIE 3/4UK-UKA-ST34-001 | O9: BIE 3/4 | P9: UK-UKA-ST34-001 | Q9: STER PARA BIELIZNA 3/4 STE | R9: 0 | S9: 1.3333333 | W9: =T9*U9*V9 -> 0 | X9: 0 | Y9: =IFERROR(X9/R9,0) -> 0 | AD9: =4/3 -> 1.3333333
A10: UK-UKB-0040-003 | B10: STER PARA NARZ 1->4 W REK DO 40|12 | C10: 40 | D10: 12 | E10: =E9 -> 3 | F10: =C10*D10*E10 -> 1440 | G10: =F10/F$4 -> 3.2 | H10: =F10/F9 -> 1.2 | I10: =F$23/F10 -> 5.25 | K10: =SUMIF('Umowa Miejski'!H:H,'Relacje objętości'!A10,'Umowa Miejski'!K:K) -> 4.61 | L10: =K$23/K10 -> 7.1583514 | N10: =O10&P10 -> PA R 7,5 x 20UK-UKB-0020-001 | O10: PA R 7,5 x 20 | P10: UK-UKB-0020-001 | Q10: STER PARA NARZ 1->4 W REK DO 20|7,5 | R10: 124.86328 | S10: 18.333333 | T10: 20 | U10: 7.5 | V10: 2 | W10: =T10*U10*V10 -> 300 | X10: 1177.6 | Y10: =IFERROR(X10/R10,0) -> 9.4311153 | AD10: =$AD$2/W10 -> 126 | AE10: =SUMPRODUCT(R10:R13,X10:X13) -> 304681
A11: UK-UKB-0040-004 | B11: STER PARA NARZ 1->4 W REK DO 40|15 | C11: 40 | D11: 15 | E11: =E10 -> 3 | F11: =C11*D11*E11 -> 1800 | G11: =F11/F$4 -> 4 | H11: =F11/F10 -> 1.25 | I11: =F$23/F11 -> 4.2 | K11: =SUMIF('Umowa Miejski'!H:H,'Relacje objętości'!A11,'Umowa Miejski'!K:K) -> 5.99 | L11: =K$23/K11 -> 5.509182 | N11: =O11&P11 -> PA R 10 x 20UK-UKB-0020-002 | O11: PA R 10 x 20 | P11: UK-UKB-0020-002 | Q11: STER PARA NARZ 1->4 W REK DO 20|10 | R11: 159.54023 | S11: 12.692308 | T11: 20 | U11: 10 | V11: 2 | W11: =T11*U11*V11 -> 400 | X11: 800.4 | Y11: =IFERROR(X11/R11,0) -> 5.0169164 | AD11: =$AD$2/W11 -> 94.5 | AE11: =SUMPRODUCT(AD10:AD13,X10:X13) -> 275817.15
A12: UK-UKB-0040-005 | B12: STER PARA NARZ 1->4 W REK DO 40|20 | C12: 40 | D12: 20 | E12: =E11 -> 3 | F12: =C12*D12*E12 -> 2400 | G12: =F12/F$4 -> 5.3333333 | H12: =F12/F11 -> 1.3333333 | I12: =F$23/F12 -> 3.15 | K12: =SUMIF('Umowa Miejski'!H:H,'Relacje objętości'!A12,'Umowa Miejski'!K:K) -> 7.99 | L12: =K$23/K12 -> 4.1301627 | N12: =O12&P12 -> PA R 12 x 20UK-UKB-0020-003 | O12: PA R 12 x 20 | P12: UK-UKB-0020-003 | Q12: STER PARA NARZ 1->4 W REK DO 20|12 | R12: 45.524476 | S12: 10 | T12: 20 | U12: 12 | V12: 2 | W12: =T12*U12*V12 -> 480 | X12: 657.8 | Y12: =IFERROR(X12/R12,0) -> 14.44937 | AD12: =$AD$2/W12 -> 78.75 | AE12: =AE11-AE10 -> -28863.85
A13: UK-UKB-0040-006 | B13: STER PARA NARZ 1->4 W REK DO 40|25 | C13: 40 | D13: 25 | E13: =E12 -> 3 | F13: =C13*D13*E13 -> 3000 | G13: =F13/F$4 -> 6.6666667 | H13: =F13/F12 -> 1.25 | I13: =F$23/F13 -> 2.52 | K13: =SUMIF('Umowa Miejski'!H:H,'Relacje objętości'!A13,'Umowa Miejski'!K:K) -> 13.88 | L13: =K$23/K13 -> 2.3775216 | N13: =O13&P13 -> PA R 15 x 20UK-UKB-0020-004 | O13: PA R 15 x 20 | P13: UK-UKB-0020-004 | Q13: STER PARA NARZ 1->4 W REK DO 20|15 | R13: 0 | S13: 8.0487805 | T13: 20 | U13: 15 | V13: 2 | W13: =T13*U13*V13 -> 600 | X13: 0 | Y13: =IFERROR(X13/R13,0) -> 0 | AD13: =$AD$2/W13 -> 63
A14: UK-UKB-0040-007 | B14: STER PARA NARZ 1->4 W REK DO 40|32 | C14: 40 | D14: 32 | E14: =E13 -> 3 | F14: =C14*D14*E14 -> 3840 | G14: =F14/F$4 -> 8.5333333 | H14: =F14/F13 -> 1.28 | I14: =F$23/F14 -> 1.96875 | K14: =SUMIF('Umowa Miejski'!H:H,'Relacje objętości'!A14,'Umowa Miejski'!K:K) -> 16.99 | L14: =K$23/K14 -> 1.942319 | N14: =O14&P14 -> PA R 7,5 x 40UK-UKB-0040-001 | O14: PA R 7,5 x 40 | P14: UK-UKB-0040-001 | Q14: STER PARA NARZ 1->4 W REK DO 40|7,5 | R14: 102.78689 | S14: 11.186441 | T14: 40 | U14: 7.5 | V14: 2 | W14: =T14*U14*V14 -> 600 | X14: 280.6 | Y14: =IFERROR(X14/R14,0) -> 2.7299203 | Z14: =SUMPRODUCT(R$14:R$21,X$14:X$21)/SUMPRODUCT(X$14:X$21) -> 42.068834 | AA14: =$Z$14/AB14 -> 917.10057 | AB14: =W14/SUM(W$14:W$21) -> 0.04587156 | AC14: =SUMPRODUCT(W$14:W$21,X$14:X$21)/SUM(X$14:X$21) -> 1209.2161 | AD14: =$AD$2/W14 -> 63 | AE14: =SUMPRODUCT(R14:R21,X14:X21) -> 202418.4
A15: UK-UKB-0040-008 | B15: STER PARA NARZ 1->4 W REK DO 40|42 | C15: 40 | D15: 42 | E15: =E14 -> 3 | F15: =C15*D15*E15 -> 5040 | G15: =F15/F$4 -> 11.2 | H15: =F15/F14 -> 1.3125 | I15: =F$23/F15 -> 1.5 | K15: =SUMIF('Umowa Miejski'!H:H,'Relacje objętości'!A15,'Umowa Miejski'!K:K) -> 20.99 | L15: =K$23/K15 -> 1.5721772 | N15: =O15&P15 -> PA R 10 x 40UK-UKB-0040-002 | O15: PA R 10 x 40 | P15: UK-UKB-0040-002 | Q15: STER PARA NARZ 1->4 W REK DO 40|10 | R15: 47.096386 | S15: 8.6614173 | T15: 40 | U15: 10 | V15: 2 | W15: =T15*U15*V15 -> 800 | X15: 763.6 | Y15: =IFERROR(X15/R15,0) -> 16.213558 | Z15: =SUMPRODUCT(R$14:R$21,X$14:X$21,W$14:W$21)/SUMPRODUCT(X$14:X$21,W$14:W$21) -> 37.10901 | AA15: =$Z$14/AB15 -> 687.82543 | AB15: =W15/SUM(W$14:W$21) -> 0.06116208 | AC15: =SUMPRODUCT(W$14:W$21,X$14:X$21)/SUM(X$14:X$21) -> 1209.2161 | AD15: =$AD$2/W15 -> 47.25 | AE15: =SUMPRODUCT(AD14:AD21,X14:X21) -> 168953.4
A16: UK-UKB-0060-001 | B16: STER PARA NARZ 1->4 W REK DO 60|7,5 | C16: 60 | D16: 7.5 | E16: =E15 -> 3 | F16: =C16*D16*E16 -> 1350 | G16: =F16/F$4 -> 3 | H16: =F16/F15 -> 0.26785714 | I16: =F$23/F16 -> 5.6 | K16: =SUMIF('Umowa Miejski'!H:H,'Relacje objętości'!A16,'Umowa Miejski'!K:K) -> 4.33 | L16: =K$23/K16 -> 7.6212471 | N16: =O16&P16 -> PA R 12 x 40UK-UKB-0040-003 | O16: PA R 12 x 40 | P16: UK-UKB-0040-003 | Q16: STER PARA NARZ 1->4 W REK DO 40|12 | R16: 50.428571 | S16: 7.1583514 | T16: 40 | U16: 12 | V16: 2 | W16: =T16*U16*V16 -> 960 | X16: 1352.4 | Y16: =IFERROR(X16/R16,0) -> 26.81813 | AA16: =$Z$14/AB16 -> 573.18786 | AB16: =W16/SUM(W$14:W$21) -> 0.073394495 | AC16: =SUMPRODUCT(W$14:W$21,X$14:X$21)/SUM(X$14:X$21) -> 1209.2161 | AD16: =$AD$2/W16 -> 39.375 | AE16: =AE15-AE14 -> -33465
A17: UK-UKB-0060-002 | B17: STER PARA NARZ 1->4 W REK DO 60|10 | C17: 60 | D17: 10 | E17: =E16 -> 3 | F17: =C17*D17*E17 -> 1800 | G17: =F17/F$4 -> 4 | H17: =F17/F16 -> 1.3333333 | I17: =F$23/F17 -> 4.2 | K17: =SUMIF('Umowa Miejski'!H:H,'Relacje objętości'!A17,'Umowa Miejski'!K:K) -> 5.89 | L17: =K$23/K17 -> 5.6027165 | N17: =O17&P17 -> PA R 15 x 40UK-UKB-0040-004 | O17: PA R 15 x 40 | P17: UK-UKB-0040-004 | Q17: STER PARA NARZ 1->4 W REK DO 40|15 | R17: 33.801688 | S17: 5.509182 | T17: 40 | U17: 15 | V17: 2 | W17: =T17*U17*V17 -> 1200 | X17: 1090.2 | Y17: =IFERROR(X17/R17,0) -> 32.252827 | AA17: =$Z$14/AB17 -> 458.55029 | AB17: =W17/SUM(W$14:W$21) -> 0.091743119 | AC17: =SUMPRODUCT(W$14:W$21,X$14:X$21)/SUM(X$14:X$21) -> 1209.2161 | AD17: =$AD$2/W17 -> 31.5
A18: UK-UKB-0060-003 | B18: STER PARA NARZ 1->4 W REK DO 60|12 | C18: 60 | D18: 12 | E18: =E17 -> 3 | F18: =C18*D18*E18 -> 2160 | G18: =F18/F$4 -> 4.8 | H18: =F18/F17 -> 1.2 | I18: =F$23/F18 -> 3.5 | K18: =SUMIF('Umowa Miejski'!H:H,'Relacje objętości'!A18,'Umowa Miejski'!K:K) -> 6.99 | L18: =K$23/K18 -> 4.72103 | N18: =O18&P18 -> PA R 20 x 40UK-UKB-0040-005 | O18: PA R 20 x 40 | P18: UK-UKB-0040-005 | Q18: STER PARA NARZ 1->4 W REK DO 40|20 | R18: 22.957627 | S18: 4.1301627 | T18: 40 | U18: 20 | V18: 2 | W18: =T18*U18*V18 -> 1600 | X18: 542.8 | Y18: =IFERROR(X18/R18,0) -> 23.643559 | AA18: =$Z$14/AB18 -> 343.91272 | AB18: =W18/SUM(W$14:W$21) -> 0.12232416 | AC18: =SUMPRODUCT(W$14:W$21,X$14:X$21)/SUM(X$14:X$21) -> 1209.2161 | AD18: =$AD$2/W18 -> 23.625
A19: UK-UKB-0060-004 | B19: STER PARA NARZ 1->4 W REK DO 60|15 | C19: 60 | D19: 15 | E19: =E18 -> 3 | F19: =C19*D19*E19 -> 2700 | G19: =F19/F$4 -> 6 | H19: =F19/F18 -> 1.25 | I19: =F$23/F19 -> 2.8 | K19: =SUMIF('Umowa Miejski'!H:H,'Relacje objętości'!A19,'Umowa Miejski'!K:K) -> 8.66 | L19: =K$23/K19 -> 3.8106236 | N19: =O19&P19 -> PA R 25 x 40UK-UKB-0040-006 | O19: PA R 25 x 40 | P19: UK-UKB-0040-006 | Q19: STER PARA NARZ 1->4 W REK DO 40|25 | R19: 25.705882 | S19: 2.3775216 | T19: 40 | U19: 25 | V19: 2 | W19: =T19*U19*V19 -> 2000 | X19: 782 | Y19: =IFERROR(X19/R19,0) -> 30.421053 | AA19: =$Z$14/AB19 -> 275.13017 | AB19: =W19/SUM(W$14:W$21) -> 0.1529052 | AC19: =SUMPRODUCT(W$14:W$21,X$14:X$21)/SUM(X$14:X$21) -> 1209.2161 | AD19: =$AD$2/W19 -> 18.9
A20: UK-UKB-0060-005 | B20: STER PARA NARZ 1->4 W REK DO 60|20 | C20: 60 | D20: 20 | E20: =E19 -> 3 | F20: =C20*D20*E20 -> 3600 | G20: =F20/F$4 -> 8 | H20: =F20/F19 -> 1.3333333 | I20: =F$23/F20 -> 2.1 | K20: =SUMIF('Umowa Miejski'!H:H,'Relacje objętości'!A20,'Umowa Miejski'!K:K) -> 10.99 | L20: =K$23/K20 -> 3.0027298 | N20: =O20&P20 -> PA R 32 x 40UK-UKB-0040-007 | O20: PA R 32 x 40 | P20: UK-UKB-0040-007 | Q20: STER PARA NARZ 1->4 W REK DO 40|32 | R20: 0 | S20: 1.942319 | T20: 40 | U20: 32 | V20: 2 | W20: =T20*U20*V20 -> 2560 | X20: 0 | Y20: =IFERROR(X20/R20,0) -> 0 | AA20: =$Z$14/AB20 -> 214.94545 | AB20: =W20/SUM(W$14:W$21) -> 0.19571865 | AC20: =SUMPRODUCT(W$14:W$21,X$14:X$21)/SUM(X$14:X$21) -> 1209.2161 | AD20: =$AD$2/W20 -> 14.765625
A21: UK-UKB-0060-006 | B21: STER PARA NARZ 1->4 W REK DO 60|25 | C21: 60 | D21: 25 | E21: =E20 -> 3 | F21: =C21*D21*E21 -> 4500 | G21: =F21/F$4 -> 10 | H21: =F21/F20 -> 1.25 | I21: =F$23/F21 -> 1.68 | K21: =SUMIF('Umowa Miejski'!H:H,'Relacje objętości'!A21,'Umowa Miejski'!K:K) -> 14.6 | L21: =K$23/K21 -> 2.260274 | N21: =O21&P21 -> PA R 42 x 40UK-UKB-0040-008 | O21: PA R 42 x 40 | P21: UK-UKB-0040-008 | Q21: STER PARA NARZ 1->4 W REK DO 40|42 | R21: 0 | S21: 1.5721772 | T21: 40 | U21: 42 | V21: 2 | W21: =T21*U21*V21 -> 3360 | X21: 0 | Y21: =IFERROR(X21/R21,0) -> 0 | AA21: =$Z$14/AB21 -> 163.76796 | AB21: =W21/SUM(W$14:W$21) -> 0.25688073 | AC21: =SUMPRODUCT(W$14:W$21,X$14:X$21)/SUM(X$14:X$21) -> 1209.2161 | AD21: =$AD$2/W21 -> 11.25
A22: UK-UKB-0060-007 | B22: STER PARA NARZ 1->4 W REK DO 60|32 | C22: 60 | D22: 32 | E22: =E21 -> 3 | F22: =C22*D22*E22 -> 5760 | G22: =F22/F$4 -> 12.8 | H22: =F22/F21 -> 1.28 | I22: =F$23/F22 -> 1.3125 | K22: =SUMIF('Umowa Miejski'!H:H,'Relacje objętości'!A22,'Umowa Miejski'!K:K) -> 25.5 | L22: =K$23/K22 -> 1.2941176 | N22: =O22&P22 -> PA R 7,5 x 60UK-UKB-0060-001 | O22: PA R 7,5 x 60 | P22: UK-UKB-0060-001 | Q22: STER PARA NARZ 1->4 W REK DO 60|7,5 | R22: 45.9375 | S22: 7.6212471 | T22: 60 | U22: 7.5 | V22: 2 | W22: =T22*U22*V22 -> 900 | X22: 147.2 | Y22: =IFERROR(X22/R22,0) -> 3.2043537 | AD22: =$AD$2/W22 -> 42 | AE22: =SUMPRODUCT(R22:R29,X22:X29) -> 42324.6
A23: UK-UKB-0060-008 | B23: STER PARA NARZ 1->4 W REK DO 60|42 | C23: 60 | D23: 42 | E23: =E22 -> 3 | F23: =C23*D23*E23 -> 7560 | G23: =F23/F$4 -> 16.8 | H23: =F23/F22 -> 1.3125 | I23: 1 | K23: =SUMIF('Umowa Miejski'!H:H,'Relacje objętości'!A23,'Umowa Miejski'!K:K) -> 33 | L23: 1 | N23: =O23&P23 -> PA R 10 x 60UK-UKB-0060-002 | O23: PA R 10 x 60 | P23: UK-UKB-0060-002 | Q23: STER PARA NARZ 1->4 W REK DO 60|10 | R23: 10.090909 | S23: 5.6027165 | T23: 60 | U23: 10 | V23: 2 | W23: =T23*U23*V23 -> 1200 | X23: 50.6 | Y23: =IFERROR(X23/R23,0) -> 5.0144144 | AD23: =$AD$2/W23 -> 31.5 | AE23: =SUMPRODUCT(AD22:AD29,X22:X29) -> 41473.054
N24: =O24&P24 -> PA R 12 x 60UK-UKB-0060-003 | O24: PA R 12 x 60 | P24: UK-UKB-0060-003 | Q24: STER PARA NARZ 1->4 W REK DO 60|12 | R24: 27.777778 | S24: 4.72103 | T24: 60 | U24: 12 | V24: 2 | W24: =T24*U24*V24 -> 1440 | X24: 82.8 | Y24: =IFERROR(X24/R24,0) -> 2.9808 | AD24: =$AD$2/W24 -> 26.25 | AE24: =AE23-AE22 -> -851.54625
A25: UK-UKB-A040-104 | B25: AUTOMATYCZNA DEZYNFEKCJA NARZĘDZI W RĘKAWIE DO 40|7,5 | C25: 40 | D25: 7.5 | E25: =E23 -> 3 | F25: =C25*D25*E25 -> 900 | I25: 1 | K25: =SUMIF('Umowa Miejski'!H:H,'Relacje objętości'!A25,'Umowa Miejski'!K:K) -> 1.54 | L25: =L8 -> 11.186441 | N25: =O25&P25 -> PA R 15 x 60UK-UKB-0060-004 | O25: PA R 15 x 60 | P25: UK-UKB-0060-004 | Q25: STER PARA NARZ 1->4 W REK DO 60|15 | R25: 24.489583 | S25: 3.8106236 | T25: 60 | U25: 15 | V25: 2 | W25: =T25*U25*V25 -> 1800 | X25: 441.6 | Y25: =IFERROR(X25/R25,0) -> 18.032157 | AD25: =$AD$2/W25 -> 21
A26: UK-UKB-A040-105 | B26: AUTOMATYCZNA DEZYNFEKCJA NARZĘDZI W RĘKAWIE DO 40|10 | C26: 40 | D26: 10 | E26: =E25 -> 3 | F26: =C26*D26*E26 -> 1200 | G26: =F26/F$4 -> 2.6666667 | H26: =F26/F25 -> 1.3333333 | I26: 1 | K26: =SUMIF('Umowa Miejski'!H:H,'Relacje objętości'!A26,'Umowa Miejski'!K:K) -> 1.92 | L26: =L9 -> 8.6614173 | N26: =O26&P26 -> PA R 20 x 60UK-UKB-0060-005 | O26: PA R 20 x 60 | P26: UK-UKB-0060-005 | Q26: STER PARA NARZ 1->4 W REK DO 60|20 | R26: 14.405172 | S26: 3.0027298 | T26: 60 | U26: 20 | V26: 2 | W26: =T26*U26*V26 -> 2400 | X26: 533.6 | Y26: =IFERROR(X26/R26,0) -> 37.04225 | AD26: =$AD$2/W26 -> 15.75
A27: UK-UKB-A040-102 | B27: AUTOMATYCZNA DEZYNFEKCJA NARZĘDZI W RĘKAWIE DO 40|12 | C27: 40 | D27: 12 | E27: =E25 -> 3 | F27: =C27*D27*E27 -> 1440 | G27: =F27/F$4 -> 3.2 | H27: =F27/F26 -> 1.2 | I27: 1 | K27: =SUMIF('Umowa Miejski'!H:H,'Relacje objętości'!A27,'Umowa Miejski'!K:K) -> 2.41 | L27: =L10 -> 7.1583514 | N27: =O27&P27 -> PA R 25 x 60UK-UKB-0060-006 | O27: PA R 25 x 60 | P27: UK-UKB-0060-006 | Q27: STER PARA NARZ 1->4 W REK DO 60|25 | R27: 14.60241 | S27: 2.260274 | T27: 60 | U27: 25 | V27: 2 | W27: =T27*U27*V27 -> 3000 | X27: 763.6 | Y27: =IFERROR(X27/R27,0) -> 52.292739 | AD27: =$AD$2/W27 -> 12.6
A28: UK-UKB-A040-106 | B28: AUTOMATYCZNA DEZYNFEKCJA NARZĘDZI W RĘKAWIE DO 40|15 | C28: 40 | D28: 15 | E28: =E26 -> 3 | F28: =C28*D28*E28 -> 1800 | G28: =F28/F$4 -> 4 | H28: =F28/F26 -> 1.5 | I28: 1 | K28: =SUMIF('Umowa Miejski'!H:H,'Relacje objętości'!A28,'Umowa Miejski'!K:K) -> 3.02 | L28: =L11 -> 5.509182 | N28: =O28&P28 -> PA R 32 x 60UK-UKB-0060-007 | O28: PA R 32 x 60 | P28: UK-UKB-0060-007 | Q28: STER PARA NARZ 1->4 W REK DO 60|32 | R28: 2.7118644 | S28: 1.2941176 | T28: 60 | U28: 32 | V28: 2 | W28: =T28*U28*V28 -> 3840 | X28: 271.4 | Y28: =IFERROR(X28/R28,0) -> 100.07875 | AD28: =$AD$2/W28 -> 9.84375
A29: UK-UKB-A040-107 | B29: AUTOMATYCZNA DEZYNFEKCJA NARZĘDZI W RĘKAWIE DO 40|20 | C29: 40 | D29: 20 | E29: =E28 -> 3 | F29: =C29*D29*E29 -> 2400 | G29: =F29/F$4 -> 5.3333333 | H29: =F29/F28 -> 1.3333333 | I29: 1 | K29: =SUMIF('Umowa Miejski'!H:H,'Relacje objętości'!A29,'Umowa Miejski'!K:K) -> 4.05 | L29: =L12 -> 4.1301627 | N29: =O29&P29 -> PA R 42 x 60UK-UKB-0060-008 | O29: PA R 42 x 60 | P29: UK-UKB-0060-008 | Q29: STER PARA NARZ 1->4 W REK DO 60|42 | R29: 11.422222 | S29: 1 | T29: 60 | U29: 42 | V29: 2 | W29: =T29*U29*V29 -> 5040 | X29: 207 | Y29: =IFERROR(X29/R29,0) -> 18.122568 | AD29: =$AD$2/W29 -> 7.5
A30: UK-UKB-A040-103 | B30: AUTOMATYCZNA DEZYNFEKCJA NARZĘDZI W RĘKAWIE DO 40|25 | C30: 40 | D30: 25 | E30: =E29 -> 3 | F30: =C30*D30*E30 -> 3000 | G30: =F30/F$4 -> 6.6666667 | H30: =F30/F29 -> 1.25 | I30: 1 | K30: =SUMIF('Umowa Miejski'!H:H,'Relacje objętości'!A30,'Umowa Miejski'!K:K) -> 6.93 | L30: =L13 -> 2.3775216 | N30: =O30&P30 -> PA P ≤10UK-UKB-WB10-001 | O30: PA P ≤10 | P30: UK-UKB-WB10-001 | Q30: STER PARA, <10 NARZ, BLOK OP. | R30: 5.037037 | S30: 8 | W30: =T30*U30*V30 -> 0 | X30: 745.2 | Y30: =IFERROR(X30/R30,0) -> 147.94412 | AD30: =R30 -> 5.037037
A31: UK-UKB-A040-108 | B31: AUTOMATYCZNA DEZYNFEKCJA NARZĘDZI W RĘKAWIE DO 40|32 | C31: 40 | D31: 32 | E31: =E29 -> 3 | F31: =C31*D31*E31 -> 3840 | G31: =F31/F$4 -> 8.5333333 | H31: =F31/F29 -> 1.6 | I31: 1 | K31: =SUMIF('Umowa Miejski'!H:H,'Relacje objętości'!A31,'Umowa Miejski'!K:K) -> 8.78 | L31: =L14 -> 1.942319 | N31: =O31&P31 -> PA P ≤30UK-UKB-WB30-001 | O31: PA P ≤30 | P31: UK-UKB-WB30-001 | Q31: STER PARA, <30 NARZ, BLOK OP. | R31: 4.456 | S31: 6 | W31: =T31*U31*V31 -> 0 | X31: 1150 | Y31: =IFERROR(X31/R31,0) -> 258.07899 | AD31: =R31 -> 4.456
A32: UK-UKB-A040-109 | B32: AUTOMATYCZNA DEZYNFEKCJA NARZĘDZI W RĘKAWIE DO 40|42 | C32: 40 | D32: 42 | E32: =E31 -> 3 | F32: =C32*D32*E32 -> 5040 | G32: =F32/F$4 -> 11.2 | H32: =F32/F31 -> 1.3125 | I32: 1 | K32: =SUMIF('Umowa Miejski'!H:H,'Relacje objętości'!A32,'Umowa Miejski'!K:K) -> 11.54 | L32: =L15 -> 1.5721772 | N32: =O32&P32 -> PA P ≤50UK-UKB-WB50-001 | O32: PA P ≤50 | P32: UK-UKB-WB50-001 | Q32: STER PARA, <50 NARZ, BLOK OP. | R32: 3.2924528 | S32: 4 | W32: =T32*U32*V32 -> 0 | X32: 975.2 | Y32: =IFERROR(X32/R32,0) -> 296.19255 | AD32: =R32 -> 3.2924528
N33: =O33&P33 -> PA P ≤70UK-UKB-WB70-001 | O33: PA P ≤70 | P33: UK-UKB-WB70-001 | Q33: STER PARA, <70 NARZ, BLOK OP. | R33: 1.3177966 | S33: 2 | W33: =T33*U33*V33 -> 0 | X33: 271.4 | Y33: =IFERROR(X33/R33,0) -> 205.94984 | AD33: =R33 -> 1.3177966
A34: UK-UKB-N020-008 | B34: STER NISKOT NARZ 1->4 W REK DO 20|7,5 | C34: 20 | D34: 7.5 | E34: 3 | F34: =C34*D34*E34 -> 450 | I34: =F$53/F34 -> 16.8 | K34: =SUMIF('Umowa Miejski'!H:H,'Relacje objętości'!A34,'Umowa Miejski'!K:K) -> 3.1 | L34: =K$53/K34 -> 23.225806 | N34: =O34&P34 -> PA P ≤90UK-UKB-WB90-001 | O34: PA P ≤90 | P34: UK-UKB-WB90-001 | Q34: STER PARA, <90 NARZ, BLOK OP. | R34: 1.2631579 | S34: 1.3333333 | W34: =T34*U34*V34 -> 0 | X34: 262.2 | Y34: =IFERROR(X34/R34,0) -> 207.575 | AD34: =R34 -> 1.2631579
A35: UK-UKB-N020-001 | B35: STER NISKOT NARZ 1->4 W REK DO 20|10 | C35: 20 | D35: 10 | E35: =E34 -> 3 | F35: =C35*D35*E35 -> 600 | G35: =F35/F$34 -> 1.3333333 | H35: =F35/F34 -> 1.3333333 | I35: =F$53/F35 -> 12.6 | K35: =SUMIF('Umowa Miejski'!H:H,'Relacje objętości'!A35,'Umowa Miejski'!K:K) -> 4.3 | L35: =K$53/K35 -> 16.744186 | N35: =O35&P35 -> PA P >90UK-UKB-WB91-001 | O35: PA P >90 | P35: UK-UKB-WB91-001 | Q35: STER PARA, >91 NARZ, BLOK OP. | R35: 1.2727273 | S35: 1 | W35: =T35*U35*V35 -> 0 | X35: 151.8 | Y35: =IFERROR(X35/R35,0) -> 119.27143 | AD35: =R35 -> 1.2727273
A36: UK-UKB-N020-002 | B36: STER NISKOT NARZ 1->4 W REK DO 20|12 | C36: 20 | D36: 12 | E36: =E35 -> 3 | F36: =C36*D36*E36 -> 720 | G36: =F36/F$34 -> 1.6 | H36: =F36/F35 -> 1.2 | I36: =F$53/F36 -> 10.5 | K36: =SUMIF('Umowa Miejski'!H:H,'Relacje objętości'!A36,'Umowa Miejski'!K:K) -> 5.5 | L36: =K$53/K36 -> 13.090909 | N36: =O36&P36 -> PA P =50 | O36: PA P =50 | Q36: STER PARA, =50 NARZ, BLOK OP. | R36: 0 | S36: 4 | W36: =T36*U36*V36 -> 0 | X36: 0 | Y36: =IFERROR(X36/R36,0) -> 0 | AD36: =R32*50/50 -> 3.2924528
A37: UK-UKB-N020-003 | B37: STER NISKOT NARZ 1->4 W REK DO 20|15 | C37: 20 | D37: 15 | E37: =E36 -> 3 | F37: =C37*D37*E37 -> 900 | G37: =F37/F$34 -> 2 | H37: =F37/F36 -> 1.25 | I37: =F$53/F37 -> 8.4 | K37: =SUMIF('Umowa Miejski'!H:H,'Relacje objętości'!A37,'Umowa Miejski'!K:K) -> 6.2 | L37: =K$53/K37 -> 11.612903 | N37: =O37&P37 -> PA P =55 | O37: PA P =55 | Q37: STER PARA, =55 NARZ, BLOK OP. | R37: 0 | S37: 3.6363636 | W37: =T37*U37*V37 -> 0 | X37: 0 | Y37: =IFERROR(X37/R37,0) -> 0 | AD37: =R32*50/55 -> 2.9931389
A38: UK-UKB-N040-008 | B38: STER NISKOT NARZ 1->4 W REK DO 40|7,5 | C38: 40 | D38: 7.5 | E38: =E37 -> 3 | F38: =C38*D38*E38 -> 900 | G38: =F38/F$34 -> 2 | H38: =F38/F37 -> 1 | I38: =F$53/F38 -> 8.4 | K38: =SUMIF('Umowa Miejski'!H:H,'Relacje objętości'!A38,'Umowa Miejski'!K:K) -> 4.8 | L38: =K$53/K38 -> 15 | N38: =O38&P38 -> PA P =80 | O38: PA P =80 | Q38: STER PARA, =80 NARZ, BLOK OP. | R38: 0 | S38: 2.5 | W38: =T38*U38*V38 -> 0 | X38: 0 | Y38: =IFERROR(X38/R38,0) -> 0 | AD38: =R32*50/80 -> 2.057783
A39: UK-UKB-N040-001 | B39: STER NISKOT NARZ 1->4 W REK DO 40|10 | C39: 40 | D39: 10 | E39: =E38 -> 3 | F39: =C39*D39*E39 -> 1200 | G39: =F39/F$34 -> 2.6666667 | H39: =F39/F38 -> 1.3333333 | I39: =F$53/F39 -> 6.3 | K39: =SUMIF('Umowa Miejski'!H:H,'Relacje objętości'!A39,'Umowa Miejski'!K:K) -> 6.25 | L39: =K$53/K39 -> 11.52 | N39: =O39&P39 -> PA P ≤10 ONUK-UKB-WR10-001 | O39: PA P ≤10 ON | P39: UK-UKB-WR10-001 | Q39: STER PARA, <10 NARZ, BLOK OP. ORT i NEUR | R39: 0 | S39: 8 | W39: =T39*U39*V39 -> 0 | X39: 0 | Y39: =IFERROR(X39/R39,0) -> 0 | AD39: =R30 -> 5.037037
A40: UK-UKB-N040-002 | B40: STER NISKOT NARZ 1->4 W REK DO 40|12 | C40: 40 | D40: 12 | E40: =E39 -> 3 | F40: =C40*D40*E40 -> 1440 | G40: =F40/F$34 -> 3.2 | H40: =F40/F39 -> 1.2 | I40: =F$53/F40 -> 5.25 | K40: =SUMIF('Umowa Miejski'!H:H,'Relacje objętości'!A40,'Umowa Miejski'!K:K) -> 7.44 | L40: =K$53/K40 -> 9.6774194 | N40: =O40&P40 -> PA P ≤30 ONUK-UKB-WR30-001 | O40: PA P ≤30 ON | P40: UK-UKB-WR30-001 | Q40: STER PARA, <30 NARZ, BLOK OP. ORT i NEUR | R40: 0 | S40: 6 | W40: =T40*U40*V40 -> 0 | X40: 0 | Y40: =IFERROR(X40/R40,0) -> 0 | AD40: =R31 -> 4.456
...

Sheet Urządzenia
R1: R2=0 => wypełnienie 100%; R2=1 => wypełnienie rzeczywiste
R2: 1
G3: =SUM(G6:G20) -> #REF! | H3: =SUM(H6:H20) -> #REF! | U3: =SUM(U6:U20) -> #REF! | V3: =SUM(V6:V20) -> #REF!
B4: Typ urządzenia | C4: Nazwa urządzenia | D4: Ilość STE | E4: Wartość urządzenia w walucie | F4: Waluta | G4: Wartość urządzenia w PLN | H4: Remonty i naprawy | I4: Ilość procesów na zmianę | J4: Ilość procesów miesięcznie | K4: Czas użycia na max w latach | L4: Ilość procesów życia | M4: Wartość urządzenia na proces | N4: Remonty i naprawy na proces | P4: Koszt urządzeń na proces | R4: Zakładany % załadunku urządzenia | S4: Ilość procesów miesięcznie real | T4: Wykorzystanie mocy | U4: Amortyzacja miesięcznie | V4: Remonty i naprawy miesięcznie
B6: Myjka | C6: Myjnia narzędziowa PG 8528 (15 tac) Miele | D6: 6 | E6: 190138 | F6: PLN | G6: =SUMIF(#REF!,Urządzenia!F6,#REF!)*E6 -> #REF! | H6: =G6*4%*K6 -> #REF! | I6: 7 | J6: =I6*#REF!*#REF! -> #REF! | K6: 10 | L6: =I6*#REF!*#REF!*12*Urządzenia!K6 -> #REF! | M6: =G6/L6 -> #REF! | N6: =H6/L6 -> #REF! | P6: =SUM(M6:O6) -> #REF! | R6: =IF($R$2=0,100%,80%) -> 0.8 | S6: =SUMIF(#REF!,Urządzenia!B6,#REF!) -> #REF! | T6: =S6/J6 -> #REF! | U6: =(G6/K6/12)*ROUNDUP(T6,0) -> #REF! | V6: =(H6/K6/12)*ROUNDUP(T6,0) -> #REF!
B7: Sterylizator parowy | C7: Sterylizator parowy Getinge GSS67H20 E | D7: 12 | E7: 390000 | F7: PLN | G7: =SUMIF(#REF!,Urządzenia!F7,#REF!)*E7 -> #REF! | H7: =G7*4%*K7 -> #REF! | I7: 5 | J7: =I7*#REF!*#REF! -> #REF! | K7: 10 | L7: =I7*#REF!*#REF!*12*Urządzenia!K7 -> #REF! | M7: =G7/L7 -> #REF! | N7: =H7/L7 -> #REF! | P7: =SUM(M7:O7) -> #REF! | R7: =IF($R$2=0,100%,70%) -> 0.7 | S7: =SUMIF(#REF!,Urządzenia!B7,#REF!) -> #REF! | T7: =S7/J7 -> #REF! | U7: =(G7/K7/12)*ROUNDUP(T7,0) -> #REF! | V7: =(H7/K7/12)*ROUNDUP(T7,0) -> #REF!
A8: ? | B8: Sterylizator plazmowy | D8: 1 | E8: 400000 | F8: PLN | G8: =SUMIF(#REF!,Urządzenia!F8,#REF!)*E8 -> #REF! | H8: =G8*4%*K8 -> #REF! | I8: 7 | J8: =I8*#REF!*#REF! -> #REF! | K8: 10 | L8: =I8*#REF!*#REF!*12*Urządzenia!K8 -> #REF! | M8: =G8/L8 -> #REF! | N8: =H8/L8 -> #REF! | P8: =SUM(M8:O8) -> #REF! | R8: =IF($R$2=0,100%,70%) -> 0.7 | S8: =SUMIF(#REF!,Urządzenia!B8,#REF!) -> #REF! | T8: =S8/J8 -> #REF! | U8: =(G8/K8/12)*ROUNDUP(T8,0) -> #REF! | V8: =(H8/K8/12)*ROUNDUP(T8,0) -> #REF!
A9: ? | B9: Sterylizator EO | D9: 1.5 | E9: 100000 | F9: EUR | G9: =SUMIF(#REF!,Urządzenia!F9,#REF!)*E9 -> #REF! | H9: =G9*4%*K9 -> #REF! | I9: 1 | J9: =I9*#REF!*#REF! -> #REF! | K9: 10 | L9: =I9*#REF!*#REF!*12*Urządzenia!K9 -> #REF! | M9: =G9/L9 -> #REF! | N9: =H9/L9 -> #REF! | P9: =SUM(M9:O9) -> #REF! | R9: =IF($R$2=0,100%,70%) -> 0.7 | S9: =SUMIF(#REF!,Urządzenia!B9,#REF!) -> #REF! | T9: =S9/J9 -> #REF! | U9: =(G9/K9/12)*ROUNDUP(T9,0) -> #REF! | V9: =(H9/K9/12)*ROUNDUP(T9,0) -> #REF!
A10: ? | B10: Stacja uzdatniania wody | E10: 100000 | F10: PLN | G10: =SUMIF(#REF!,Urządzenia!F10,#REF!)*E10 -> #REF! | H10: =G10*4%*K10 -> #REF! | K10: 10 | L10: =I10*#REF!*#REF!*12*Urządzenia!K10 -> #REF! | T10: 1 | U10: =(G10/K10/12)*ROUNDUP(T10,0) -> #REF! | V10: =(H10/K10/12)*ROUNDUP(T10,0) -> #REF!
B11: Myjnia duża | C11: KEN A/S CWD 5000 | D11: =#REF! -> #REF! | E11: 300000 | F11: PLN | G11: =SUMIF(#REF!,Urządzenia!F11,#REF!)*E11 -> #REF! | H11: =G11*4%*K11 -> #REF! | I11: 7 | J11: =I11*#REF!*#REF! -> #REF! | K11: 10 | L11: =I11*#REF!*#REF!*12*Urządzenia!K11 -> #REF! | M11: =G11/L11 -> #REF! | N11: =H11/L11 -> #REF! | P11: =SUM(M11:O11) -> #REF! | R11: =IF($R$2=0,100%,70%) -> 0.7 | S11: =SUMIF(#REF!,Urządzenia!B11,#REF!) -> #REF! | T11: =S11/J11 -> #REF! | U11: =(G11/K11/12)*ROUNDUP(T11,0) -> #REF! | V11: =(H11/K11/12)*ROUNDUP(T11,0) -> #REF!

Sheet Materiały
B2: 1 | C2: 2 | D2: 3 | E2: 4 | F2: 5 | G2: 6 | H2: 7 | I2: 8 | J2: 9 | K2: 10
B3: klucz | C3: Kod pozycji | D3: Opis | E3: Główna jednostka miary | F3: Koszt jedn | G3: szer (cm) | H3: dł (cm) | I3: wys (cm) | J3: Rodzaj produktu - opis | K3: typ_ster
C4: 01-KAN-00ZR-267 | D4: Kartonik "Absorgyn 10-27cmx7,5cm" | E4: SZTUKA | F4: 0.65
C5: 01-PUN-5W2S-005 | D5: KAR 5W 590X390X350 Z/N MATOPAT | E5: SZTUKA | F5: 3.12
C6: 01-WKL-B060-010 | D6: WKŁADKI DO KOSZY 300X500 A'500 | E6: OPAKOWANIE | F6: 131.31
C7: 01-WYW-M045-001 | D7: WYKROJ TMS 45X45CM | E7: SZTUKA | F7: 0.08
C8: 01-WYW-M130-001 | D8: WYKRÓJ TMS 130X80CM | E8: SZTUKA | F8: 0.46
C9: 01-WYW-M160-003 | D9: WYKRÓJ TMS 160X90CM | E9: SZTUKA | F9: 0.55
C10: 05-PRE-XXXX-237 | D10: OLEJ SILIKONOWY OM 1000 | E10: SZTUKA | F10: 18.04
C11: 06-DEK-PNHP-003 | D11: Orange Solvent 500 ml | E11: SZTUKA | F11: 43.71
C12: 07-ART-ETYK-010 | D12: Etykieta termotransferowa 102x55,8 trójdzielna | E12: SZTUKA | F12: 42.98
C13: 07-ART-XXXX-038 | D13: plomby do kontenerów bez wskaźnika (1000szt.) | E13: OPAKOWANIE | F13: 249
C14: 07-ART-XXXX-039 | D14: plomby do kontenerów Uniclip bez wskaźnika (1000szt.) | E14: OPAKOWANIE | F14: 249
C15: 07-ART-XXXX-040 | D15: kontrola zgrzewu (250szt.) | E15: OPAKOWANIE | F15: 239.84
... C24: 11-MMG-PEN8-001 | D24: MMG PENDRIVE MATOPAT/TRICOMED/CITONET 8GB | E24: SZTUKA | F24: 15.15
A25: Steryl. Plazma | C25: 13-CZM-0000-346 | D25: Kaseta Sterrad 100S 5 szt. | E25: OPAKOWANIE | F25: 1771.14
A26: Steryl. EO | C26: 14-ODC-XXXX-222 | D26: Naboje z tlenkiem etylenu GS-2 | E26: SZTUKA | F26: 27.54
C27: 14-ODC-XXXX-223 | D27: HELIX test kontr.ster.EO aplik.A'100 | E27: OPAKOWANIE | F27: 273
C28: 14-ODC-XXXX-224 | D28: DESPREY 5L | E28: OPAKOWANIE | F28: 76
C29: 14-ODC-XXXX-226 | D29: Chromol 500 ml | E29: SZTUKA | F29: 29.32
C30: 14-ODC-XXXX-228 | D30: Incidin M Spray ( do spr. obuwia) | E30: SZTUKA | F30: 20.61
C31: 14-ODC-XXXX-236 | D31: Virkon 200g | E31: SZTUKA | F31: 18.61
C32: 14-ODC-XXXX-257 | D32: SÓL TABLETKOWANA 1KG | E32: KILOGRAM | F32: 1.15
C33: 14-ODC-XXXX-272 | D33: Olej sterylit GB600 300 ml. | E33: SZTUKA | F33: 210
C34: 14-ODC-XXXX-277 | D34: Orange Solvent DE 500 ml | E34: SZTUKA | F34: 41
C35: 14-ODC-XXXX-278 | D35: G-502 BUZ POINT 200 ml | E35: SZTUKA | F35: 29.19
C36: 14-ODC-XXXX-283 | D36: Viruton Strong 5 litrów | E36: OPAKOWANIE | F36: 361.28
C37: 14-ODC-XXXX-306 | D37: Spezial Oilspray 500ml | E37: OPAKOWANIE | F37: 17
C38: 14-ODC-XXXX-307 | D38: NEODISHER DEKONTA AF 20L | E38: OPAKOWANIE | F38: 543.36
... C139: BE-043-Z004-R07 | D139: P T KARO A4-ŻÓŁTY 981 | E139: OPAKOWANIE | F139: 1.99
C140: BE-139-N010-022 | D140: ABSORGYN 27X7,5CM Z FOLIA A10 KAR J | E140: OPAKOWANIE | F140: #DIV/0!
C141: BE-139-N400-003 | D141: ABSORGYN 27X7,5CM Z FOLIA A400 | E141: OPAKOWANIE | F141: 60.2
C142: CH-221-N500-G03 | D142: DR MAX NEW PŁYN NACZ ALOES SEHR GUT 500ML | E142: OPAKOWANIE | F142: 1.79
C143: CH-221-N500-N09 | D143: ***DR MAX NEW PL DO NACZ MIET 500ML-PL EX | E143: OPAKOWANIE | F143: 1.64
C144: CH-221-N500-N10 | D144: DR MAX NEW PL DO NACZ CYTR 500ML-PL E | E144: OPAKOWANIE | F144: 1.64
C145: CH-221-NC5L-N01 | D145: DR MAX PŁ DO NACZ CYTR 5L-ET PL EX | E145: OPAKOWANIE | F145: 8.9
C146: CH-221-NM5L-N01 | D146: DR MAX PŁ DO NACZ MIĘT 5L- PL EX* | E146: OPAKOWANIE | F146: 10.34
C147: CH-221-S500-N01 | D147: DR MAX NEW PŁ DO SZYB NIE AT 500ML-PL EX | E147: OPAKOWANIE | F147: 2.05
C148: CH-221-SZ5L-N01 | D148: DR MAX PŁ DO SZ ZIEL 5L-ET PL EX* | E148: OPAKOWANIE | F148: 5.96
C149: CH-221-UC5L-N01 | D149: DR MAX PŁ UNI CYTR 5L-ET PL EX | E149: OPAKOWANIE | F149: 9.51
...

Sheet Budynki
A1: Budynki i budowle
B2: Wartość inwestycji na m2 | C2: 4500
C4: Jedn. Rozliczeniowa | D4: Ilość m2 na jedn. Rozl. | E4: Ilość jedn. Rozl. na zmianę | F4: Powierzchnia w m2 | G4: Wartość budynków | H4: Amortyzacja miesięcznie | I4: Remonty i naprawy miesięcznie
B5: Biura | C5: Stała | D5: 60 | E5: 1 | F5: =D5*E5 -> 60 | G5: =F5*$C$2 -> 270000 | H5: =G5/$G$19/12 -> 562.5 | I5: =G5*1%/12 -> 225
B6: Pomieszczenia socjalne | C6: Pracownik | D6: 4 | E6: =(#REF!+#REF!)/#REF! -> #REF! | F6: =D6*E6 -> #REF! | G6: =F6*$C$2 -> #REF! | H6: =G6/$G$19/12 -> #REF! | I6: =G6*1%/12 -> #REF!
B7: Magazynek materiałów | C7: Ilość STE | F7: =D7*E7 -> 0 | G7: =F7*$C$2 -> 0 | H7: =G7/$G$19/12 -> 0 | I7: =G7*1%/12 -> 0
