Workbook
Name _____________r: [1]Dane!$BB$67
Name ____________r: [1]Dane!$BB$67
Name __________r: [1]Dane!$BB$67
Name _________r: [1]Dane!$BB$67
Name _______r: [1]Dane!$BB$67
Name ______r: [1]Dane!$BB$67
Name _____r: [1]Dane!$BB$67
Name ____r: [2]Dane!$BB$67
Name ____ww242: [3]DANE!$W$135
Name ___r: [4]Dane!$BB$67
Name ___ww242: [3]DANE!$W$135
Name __r: [4]Dane!$BB$67
Name __ww242: [3]DANE!$W$135
Name _9._Analysis_of_net_debt: #REF!
Name _GoBack: instrukcja!#REF!
Name _r: [2]Dane!$BB$67
Name _ww242: [3]DANE!$W$135
Name a: [7]Dane!$BB$63
Name aa: [8]Dane!$BB$99
Name aaa: [9]Analiza!$A$1:$Y$65536
Name aaaaaaaaa: [10]Dane!$BB$108
Name aaaaaaaaaaaaaa: [11]Dane!$BB$72
Name ab: [12]Dane!$BB$63
Name ADANEDOANAL: [3]DANE!$E$169
Name Adres1: #REF!
Name Adres2: #REF!
Name AGA: #REF!
Name b: [13]Dane!$BB$48
Name Balham: #REF!
Name Balham: #REF!
Name banana: '[14]Balance Sheet Consolidated'!$C$5:$J$59
Name basa: [15]Analiza!$A$1:$Y$65536
Name bbb: #REF!
Name BOMinusJeden: [16]Dane!$BB$61
Name BZ: [16]Dane!$BB$55
Name bza: [17]Dane!$BB$59
Name BZPoprzedni: [16]Dane!$BB$56
Name BZPoprzedniAlt: [10]Dane!$BB$59
Name CASHFLOW: #REF!
Name CASHFLOW: #REF!
Name ccc: [18]Analiza!$A$1:$Y$65536
Name COMPANY: [19]Entities!$C$3:$C$31
Name CU: '[20]WYKRES WYNIK'!$AB$4:$AB$30
Name d: #REF!
Name d: #REF!
Name DANE: [21]DANE!$A$5:$AP$145
Name dane1: [18]Analiza!$A$1:$Y$65536
Name ddd: #REF!
Name DEC: [22]Flash_sierpień!$G$1
Name df: #REF!
Name df: #REF!
Name DoDniaBilans: #REF!
Name drukfinanse: #REF!
Name drukprodukcja: #REF!
Name ds: #REF!
Name dtmKoncOkrPoprz: [16]Dane!$AM$36
Name dtmKoncOkrPoprzAlt: [13]Dane!$AM$38
Name dtmKoncOkrSpraw: [16]Dane!$AM$34
Name dtmPoczOkrPoprz: [16]Dane!$AC$36
Name dtmPoczOkrPoprzAlt: [13]Dane!$AC$38

Sheet Uwagi
B3: Struktura ilościowa pakietów
B4: Ilość narzędzi - klucz do pracochłonności
B5: Objętość pakietu - klucz do kosztów procesów i transportu
B7: Harmonogram spływu pakietów do sterylizatorni - jak pokazać: co do godziny, dwóch?
B8: Z czego wynika, czy da się ustalić na podstawie danych operatywy?
B9: Czy wystarczy ilość narzędzi?
B10: Piki dzienne
B11: Jak szybko trzeba obrobić narzędzia?
B12: Z harmonogramu spływu zrobić grafik procesów w podziale na godziny - z wyliczeniem potrzebnych zasobów: ludzie, urządzenia
B15: Jaki jest kształt pakietów brudnych; jak się przekłada na kolejne etapy obróbki?
B16: Czy z jednej tacki może powstać wiele pakietów?
B19: Procesy:
... B25: Określić zakres raportów
A28: 43236
B29: Jaki przyjąć standard zużycia testów na proces sterylizacji parowej i plazmowej - jakie indeksy i ilości?
B30: Jaki przyjąć standard zużycia preparatów na proces mycia/dezynfekcji automatycznej - jakie indeksy i ilości?
B31: Jakie czasy obróbki jednego narzędzia można przyjąć z podziałem na strefę brudną i czystą?
B32: Jakie przyjąć standardowe czasy jednego procesu: sterylizatora parowego, sterylizatora niskotemperaturowego, myjki?
A34: Poznań
B35: Podsumować ich koszty miesięczne sterylizacji - w razie czego wyłapać brakujące elementy i doszacować
B36: Stworzyć miesięczną strukturę asortymentową w ujęciu cennikowym - na podstawie Medok i specyfikacji ze Szpitala
B37: Pozostałe 3 Szpitale oszacować na podstawie ilości i rodzaju zabiegów
A39: 43326
B40: Zdjęto w Bydgoszczy materiały z konta 501 (produkcja podkładów gin.) w danych rzeczywistych
B41: Zdjęto koszty osobowe z pakietowni, dotyczące pakietów i podkładów - nie dotyczą narzędzi; do zrobienia w pozostałych Citonetach
B42: Dodano koszty opakowań miesięcznie w Citonetach - kwota dodawana do modelowania ogólnego; wyliczenie w pliku "2018 Księgowania GM - Koszty w Citonetach"
A44: 43332
B45: zmiana czasów pracy ręcznej procesowej z dotychczasowej CitoNet Toruń na pomiary w CitoNet Warszawa - arkusz Procesy ilość użycia w kolumnie H dla zasobu Pracownik
B46: odjęcie kosztów osobowych konfekcjonerów usługi pakietowania, kosztów materiałów do produkcji podkładów oraz przychodów ze sprzedaży usługi pakietowania dla TZMO - arkusz PORÓWNIANIE MIESIĘCZNIE
A48: 43336
B49: zmiana objętości na podstawie danych z wizji lokalnej w ICZMP Łódź
A51: 43342
B52: w wersji wyceny usługi z CitoNet Łódź zmiana sterylizacji EO na plazma => arkusz Relacje objętości AA72:AA111

Sheet Struktura sprzedaży
B3: Nazwa | C3: Ilość | D3: Okres | E3: Klasyfikacja Cennik | F3: Ilość narzędzi | G3: Objętość | H3: Opakowanie | I3: Rodzaj obróbki

Sheet FC
B1: SZPITAL SPECJALISTYCZNY IM. STEFANA ŻEROMSKIEGO SP ZOZ W KRAKOWIE | L1: załącznik nr 1
B2: OS. NA. SKARPIE 66
B3: 31-913- KRAKÓW
B5: 1 | F5: 2 | G5: 3 | H5: 4 | I5: 5 | J5: 6 | K5: 7 | L5: 8
B6: NAZWA | F6: ILOŚĆ* | G6: Cena jednostkowa netto | H6: Wartość netto (kol. 2x3) | I6: Stawka VAT | J6: Wartość VAT (kol. 4x5) | K6: Wartość brutto (kol. 4+6) | L6: Wartość brutto (kol. 7x2 miesiące)
B8: 1. USŁUGA STERYLIZACJI WYSOKOTEMPERATUROWEJ PARĄ WODNĄ
B9: Z 3 TRANSPORTAMI / PONIEDZIAŁEK - PIĄTEK /
B10: DUŻY zestaw narzędzi chirurgicznych (1STE) pakowany w 2 warstwy papieru krepowanego lub kontener Zleceniodawcy | F10: 1200
B11: ŚREDNI zestaw narzędzi chirurgicznych (3/4 STE) pakowany w 2 warstwy papieru krepowanego lub kontener Zleceniodawcy | F11: 80
B12: MAŁY zestaw narzędzi chirurgicznych (1/2 STE) pakowany w 2 warstwy papieru krepowanego lub kontener Zleceniodawcy | F12: 200
B13: Narzędzia chir., mat. opatrunkowy lub bielizna pakowane w rękaw papierowo – foliowy o szer. 5-10 cm | F13: 1200
B14: Narzędzia chir., mat. opatrunkowy lub bielizna pakowane w rękaw papierowo – foliowy o szer. 12-15 cm | F14: 3280
B15: Narzędzia chir., mat. opatrunkowy lub bielizna pakowane w rękaw papierowo – foliowy o szer. 20-25 cm | F15: 2500
B16: Narzędzia chir., mat. opatrunkowy lub bielizna pakowane w rękaw papierowo – foliowy o szer. 30-42 cm | F16: 50
B17: 2. USŁUGA STERYLIZACJI WYSOKOTEMPERATUROWEJ PARĄ WODNĄ Z 2 TRANSPORTAMI /SOBOTA /
B18: DUŻY zestaw narzędzi chirurgicznych (1STE) pakowany w 2 warstwy papieru krepowanego lub kontener Zleceniodawcy | F18: 100
B19: ŚREDNI zestaw narzędzi chirurgicznych (3/4 STE) pakowany w 2 warstwy papieru krepowanego lub kontener Zleceniodawcy | F19: 10
B20: MAŁY zestaw narzędzi chirurgicznych (1/2 STE) pakowany w 2 warstwy papieru krepowanego lub kontener Zleceniodawcy | F20: 15
B21: Narzędzia chir., mat. opatrunkowy lub bielizna pakowane w rękaw papierowo – foliowy o szer. 5-10 cm | F21: 100
B22: Narzędzia chir., mat. opatrunkowy lub bielizna pakowane w rękaw papierowo – foliowy o szer. 12-15 cm | F22: 100
B23: Narzędzia chir., mat. opatrunkowy lub bielizna pakowane w rękaw papierowo – foliowy o szer. 20-25 cm | F23: 50
B24: Narzędzia chir., mat. opatrunkowy lub bielizna pakowane w rękaw papierowo – foliowy o szer. 30-42 cm | F24: 5
B25: 3. USŁUGA STERYLIZACJI WYSOKOTEMPERATUROWEJ PARĄ WODNĄ Z 2 TRANSPORTAMI /NIEDZIELA /
B26: DUŻY zestaw narzędzi chirurgicznych (1STE) pakowany w 2 warstwy papieru krepowanego lub kontener Zleceniodawcy | F26: 150
B27: ŚREDNI zestaw narzędzi chirurgicznych (3/4 STE) pakowany w 2 warstwy papieru krepowanego lub kontener Zleceniodawcy | F27: 10
B28: MAŁY zestaw narzędzi chirurgicznych (1/2 STE) pakowany w 2 warstwy papieru krepowanego lub kontener Zleceniodawcy | F28: 10
B29: Narzędzia chir., mat. opatrunkowy lub bielizna pakowane w rękaw papierowo – foliowy o szer. 5-10 cm | F29: 500
B30: Narzędzia chir., mat. opatrunkowy lub bielizna pakowane w rękaw papierowo – foliowy o szer. 12-15 cm | F30: 400
B31: Narzędzia chir., mat. opatrunkowy lub bielizna pakowane w rękaw papierowo – foliowy o szer. 20-25 cm | F31: 190
B32: Narzędzia chir., mat. opatrunkowy lub bielizna pakowane w rękaw papierowo – foliowy o szer. 30-42 cm | F32: 5
B33: 4. USŁUGA MYCIA, DEZYNFEKCJI I STERYLIZACJI WYSOKOTEMPERATUROWEJ PARĄ WODNĄ
B34: Z 2 TRANSPORTAMI / w sytuacjach awaryjnych i uprzednio zgłoszonych
B35: DUŻY zestaw narzędzi chirurgicznych (1STE) pakowany w 2 warstwy papieru krepowanego lub kontener Zleceniodawcy | F35: 125
B36: ŚREDNI zestaw narzędzi chirurgicznych (3/4 STE) pakowany w 2 warstwy papieru krepowanego lub kontener Zleceniodawcy | F36: 5
B37: MAŁY zestaw narzędzi chirurgicznych (1/2 STE) pakowany w 2 warstwy papieru krepowanego lub kontener Zleceniodawcy | F37: 10
B38: Narzędzia chir., mat. opatrunkowy lub bielizna pakowane w rękaw papierowo – foliowy o szer. 5-10 cm | F38: 150
B39: Narzędzia chir., mat. opatrunkowy lub bielizna pakowane w rękaw papierowo – foliowy o szer. 12-15 cm | F39: 200
B40: Narzędzia chir., mat. opatrunkowy lub bielizna pakowane w rękaw papierowo – foliowy o szer. 20-25 cm | F40: 125
B41: Narzędzia chir., mat. opatrunkowy lub bielizna pakowane w rękaw papierowo – foliowy o szer. 30-42 cm | F41: 10
B42: 5. USŁUGA CITO STERYLIZACJI WYSOKOTEMPERATUROWEJ PARĄ WODNĄ Z 2 TRANSPORTAMI
B43: DUŻY zestaw narzędzi chirurgicznych (1STE) pakowany w 2 warstwy papieru krepowanego lub kontener Zleceniodawcy | F43: 1
B44: ŚREDNI zestaw narzędzi chirurgicznych (3/4 STE) pakowany w 2 warstwy papieru krepowanego lub kontener Zleceniodawcy | F44: 1
B45: MAŁY zestaw narzędzi chirurgicznych (1/2 STE) pakowany w 2 warstwy papieru krepowanego lub kontener Zleceniodawcy | F45: 1
B46: Narzędzia chir., mat. opatrunkowy lub bielizna pakowane w rękaw papierowo – foliowy o szer. 5-10 cm | F46: 1
B47: Narzędzia chir., mat. opatrunkowy lub bielizna pakowane w rękaw papierowo – foliowy o szer. 12-15 cm | F47: 1
B48: Narzędzia chir., mat. opatrunkowy lub bielizna pakowane w rękaw papierowo – foliowy o szer. 20-25 cm | F48: 1
B49: Narzędzia chir., mat. opatrunkowy lub bielizna pakowane w rękaw papierowo – foliowy o szer. 30-42 cm | F49: 1
B50: RAZEM POZYCJA 1- 5
B54: *średnia ilość miesięcznie

Sheet instrukcja
A1: Model Citonet - instrukcja obsługi modelu w procesie ustalania cen usług sterylizacyjnych
A3: Dane wsadowe:
A4: arkusz Założenia
A5: - wprowadzamy dane dotyczące zmianowości oraz hramonogramu pracy, a także jednostkowe koszty mediów oraz kursy walut
A7: arkusz Usługi
A8: - wklejamy do kolumny AO dane popytowe klienta dotyczące miesięcznych wykonań zmapowane dla poszczególnych Grup cenowych i indeksów Oracle (z kolumn B i C)
A10: arkusz Procesy
A11: - w kolumnie H wpisujemy ilość użycia poszczególnych zasobów przypadających na wskazany proces
A13: W modelu wydzielono następujące procesy (działania) w sterylizatorni:
A14: Proces | B14: Jedn. Rozliczeniowa | C14: Zasoby | D14: Opis
A15: Brudna - Manual | B15: Narzędzie | C15: Pracownik, Woda, Preparaty myjące | D15: Proces ręczny - mycie wstępne na strefie brudnej - kluczowy jest czas obróbki narzędzia
A16: Myjka | B16: Objętość | C16: Pracownik, Woda, Energia elektryczna, Preparaty myjące, Testy | D16: Mycie automatyczne - Proces automatyczny z określoną objętością i kosztem procesu
A17: Czysta - Manual | B17: Narzędzie | C17: Pracownik | D17: Proces ręczny- konfekcjonowanie na strefie czystej - kluczowy jest czas obróbki narzędzia
A18: Steryl. Para | B18: Objętość | C18: Pracownik, Woda, Energia elektryczna, Testy | D18: Sterylizacja parowa - Proces automatyczny z określoną objętością i kosztem procesu
A19: Steryl. EO | B19: Objętość | C19: Pracownik, Energia elektryczna, nabój z EO, Testy | D19: Sterylizacja tlenkiem etylenu - Proces automatyczny z określoną objętością i kosztem procesu
A20: Steryl. Plazma | B20: Objętość | C20: Pracownik, Energia elektryczna, kaseta do plazmy, Testy | D20: Sterylizacja plazmowa - Proces automatyczny z określoną objętością i kosztem procesu
A22: Pracownik
A23: - zmierzono w Sterylizatorni Toruń czasy przypadające na poszczególne procesy;
A24: - do oszczacowania pozostaje czas pracy poza czynnościami procesowymi, który istnieje i nie da się go wyeliminować
A25: Woda i energia elektryczna
A26: - z powodu braku rzeczywistego pomiaru zużycia w poszczególnych procesach, całość zużycia tych zasobów przypisano do procesu Steryl. Para (ponad 90% procesów sterylizacji we wszystkich Citonetach)
A27: - ilość zużycia zasobów na proces określono na podstawie danych historycznych z Citonetu Warszawa
A28: Materiały - testy, preparaty, naboje, kasety itd.
A29: - określono normatywy zużycia na każdy proces
A31: arkusz Osobowe
A32: - wpisujemy koszty wynagrodzeń dla poszczególnych stanowisk oraz liczbę etatów (z wyjątkiem operatorów procesu, których liczba wylicza się na podstawie przyjętych czasów obróbki ręcznej dla poszczególnych w arkuszu Procesy
A34: arkusz Koszty stałe
A35: - równe kosztom CitoNetu wybranego w arkuszu Rachunek wyników (w komórce J2)
... A51: Do zdefiniowania pozostał proces - transport. Nieistotny w przypadku starylizatorni na terenie szpitala.

Sheet map_opakowania
A1: Grupa cenowa | B1: Indeks Oracle | C1: Opis Oracle | D1: typ_ster | E1: Rodzaj produktu - opis | F1: szer (cm) | G1: dł (cm) | H1: wys (cm) | I1: indeks opak | J1: opis opak | K1: ilość | L1: cena jedn | M1: koszt_opak
A2: BIE 1/1 | B2: UK-UKA-ST10-001 | C2: STER PARA BIELIZNA 1 STE | D2: PARA | E2: RĘKAWY Z FAŁDĄ | F2: 42 | G2: 60 | H2: 9 | I2: =VLOOKUP($D2&$E2&$F2&$H2,Materiały!$B:$K,2,0) -> OM-194-FPFA-014 | J2: =VLOOKUP($I2,Materiały!$C:$K,2,0) -> RĘK P-F F STEAM/EO FORM 100M 420X90MM | K2: =MID(J2,SEARCH("FORM",J2)+5,3)/1*100 -> 10000 | L2: =VLOOKUP($I2,Materiały!$C:$K,4,0) -> 111.6 | M2: =L2*(G2/K2) -> 0.6696 | N2: =M2*1 -> 0.6696
A3: BIE 1/2 | B3: UK-UKA-ST12-001 | C3: STER PARA BIELIZNA 1/2 STE | D3: PARA | E3: RĘKAWY Z FAŁDĄ | F3: 20 | G3: 60 | H3: 5 | I3: =VLOOKUP($D3&$E3&$F3&$H3,Materiały!$B:$K,2,0) -> OM-194-FPFA-010 | J3: =VLOOKUP($I3,Materiały!$C:$K,2,0) -> RĘK P-F F STEAM/EO FORM 100M 200X50MM | K3: =MID(J3,SEARCH("FORM",J3)+5,3)/1*100 -> 10000 | L3: =VLOOKUP($I3,Materiały!$C:$K,4,0) -> 57.09 | M3: =L3*(G3/K3) -> 0.34254 | N3: =M3*2 -> 0.68508
A4: BIE 1/4 | B4: UK-UKA-ST14-001 | C4: STER PARA BIELIZNA 1/4 STE | D4: PARA | E4: RĘKAWY Z FAŁDĄ | F4: 15 | G4: 40 | H4: 5 | I4: =VLOOKUP($D4&$E4&$F4&$H4,Materiały!$B:$K,2,0) -> OM-194-FPFA-009 | J4: =VLOOKUP($I4,Materiały!$C:$K,2,0) -> RĘK P-F F STEAM/EO FORM 100M 150X50MM | K4: =MID(J4,SEARCH("FORM",J4)+5,3)/1*100 -> 10000 | L4: =VLOOKUP($I4,Materiały!$C:$K,4,0) -> 46.68 | M4: =L4*(G4/K4) -> 0.18672 | N4: =M4*4 -> 0.74688
A5: BIE 1/6 | B5: UK-UKA-ST16-001 | C5: STER PARA BIELIZNA 1/6 STE | D5: PARA | E5: RĘKAWY Z FAŁDĄ | F5: 15 | G5: 20 | H5: 5 | I5: =VLOOKUP($D5&$E5&$F5&$H5,Materiały!$B:$K,2,0) -> OM-194-FPFA-009 | J5: =VLOOKUP($I5,Materiały!$C:$K,2,0) -> RĘK P-F F STEAM/EO FORM 100M 150X50MM | K5: =MID(J5,SEARCH("FORM",J5)+5,3)/1*100 -> 10000 | L5: =VLOOKUP($I5,Materiały!$C:$K,4,0) -> 46.68 | M5: =L5*(G5/K5) -> 0.09336 | N5: =M5*6 -> 0.56016
A6: BIE 1/8 | B6: UK-UKA-ST18-001 | C6: STER PARA BIELIZNA 1/8 STE | D6: PARA | E6: RĘKAWY Z FAŁDĄ | F6: 10 | G6: 20 | H6: 4 | I6: =VLOOKUP($D6&$E6&$F6&$H6,Materiały!$B:$K,2,0) -> OM-194-FPFA-008 | J6: =VLOOKUP($I6,Materiały!$C:$K,2,0) -> RĘK P-F F STEAM/EO FORM 100M 100X40MM | K6: =MID(J6,SEARCH("FORM",J6)+5,3)/1*100 -> 10000 | L6: =VLOOKUP($I6,Materiały!$C:$K,4,0) -> 32.82 | M6: =L6*(G6/K6) -> 0.06564 | N6: =M6*8 -> 0.52512
A7: BIE 3/4 | B7: UK-UKA-ST34-001 | C7: STER PARA BIELIZNA 3/4 STE | D7: PARA | E7: RĘKAWY Z FAŁDĄ | F7: 38 | G7: 60 | H7: 8 | I7: =VLOOKUP($D7&$E7&$F7&$H7,Materiały!$B:$K,2,0) -> OM-194-FPFA-013 | J7: =VLOOKUP($I7,Materiały!$C:$K,2,0) -> RĘK P-F F STEAM/EO FORM 100M 380X80MM | K7: =MID(J7,SEARCH("FORM",J7)+5,3)/1*100 -> 10000 | L7: =VLOOKUP($I7,Materiały!$C:$K,4,0) -> 104.89 | M7: =L7*(G7/K7) -> 0.62934 | N7: =M7*4/3 -> 0.83912
A8: PA R 7,5 x 20 | B8: UK-UKB-0020-001 | C8: STER PARA NARZ 1->4 W REK DO 20|7,5 | D8: PARA | E8: RĘKAWY PŁASKIE | F8: =MID(C8,SEARCH("|",C8)+1,3)/1 -> 7.5 | G8: =MID(C8,SEARCH("DO",C8)+3,2)/1 -> 20 | H8: =1/10 -> 0.1 | I8: =VLOOKUP($D8&$E8&$F8&$H8,Materiały!$B:$K,2,0) -> OM-194-FPPA-012 | J8: =VLOOKUP($I8,Materiały!$C:$K,2,0) -> RĘK P-F P STEAM/EO/FORM 200M 75MM | K8: =VLOOKUP($D8&$E8&$F8&$H8,Materiały!$B:$K,7,0) -> 20000 | L8: =VLOOKUP($I8,Materiały!$C:$K,4,0) -> 31.96 | M8: =L8*(G8/K8) -> 0.03196
A9: PA R 10 x 20 | B9: UK-UKB-0020-002 | C9: STER PARA NARZ 1->4 W REK DO 20|10 | D9: PARA | E9: RĘKAWY PŁASKIE | F9: =MID(C9,SEARCH("|",C9)+1,3)/1 -> 10 | G9: =MID(C9,SEARCH("DO",C9)+3,2)/1 -> 20 | H9: =1/10 -> 0.1 | I9: =VLOOKUP($D9&$E9&$F9&$H9,Materiały!$B:$K,2,0) -> OM-194-FPPA-013 | J9: =VLOOKUP($I9,Materiały!$C:$K,2,0) -> RĘK F-P P STEAM/EO/FORM 200M 100MM | K9: =VLOOKUP($D9&$E9&$F9&$H9,Materiały!$B:$K,7,0) -> 20000 | L9: =VLOOKUP($I9,Materiały!$C:$K,4,0) -> 40.28 | M9: =L9*(G9/K9) -> 0.04028
A10: PA R 12 x 20 | B10: UK-UKB-0020-003 | C10: STER PARA NARZ 1->4 W REK DO 20|12 | D10: PARA | E10: RĘKAWY PŁASKIE | F10: =MID(C10,SEARCH("|",C10)+1,3)/1 -> 12 | G10: =MID(C10,SEARCH("DO",C10)+3,2)/1 -> 20 | H10: =1/10 -> 0.1 | I10: =VLOOKUP($D10&$E10&$F10&$H10,Materiały!$B:$K,2,0) -> OM-194-FPPA-014 | J10: =VLOOKUP($I10,Materiały!$C:$K,2,0) -> RĘK P-F P STEAM/EO/FORM 200M 120MM | K10: =VLOOKUP($D10&$E10&$F10&$H10,Materiały!$B:$K,7,0) -> 20000 | L10: =VLOOKUP($I10,Materiały!$C:$K,4,0) -> 56.26 | M10: =L10*(G10/K10) -> 0.05626
A11: PA R 15 x 20 | B11: UK-UKB-0020-004 | C11: STER PARA NARZ 1->4 W REK DO 20|15 | D11: PARA | E11: RĘKAWY PŁASKIE | F11: =MID(C11,SEARCH("|",C11)+1,3)/1 -> 15 | G11: =MID(C11,SEARCH("DO",C11)+3,2)/1 -> 20 | H11: =1/10 -> 0.1 | I11: =VLOOKUP($D11&$E11&$F11&$H11,Materiały!$B:$K,2,0) -> OM-194-FPPA-015 | J11: =VLOOKUP($I11,Materiały!$C:$K,2,0) -> RĘK P-F P STEAM/EO FORM 200M 150MM | K11: =VLOOKUP($D11&$E11&$F11&$H11,Materiały!$B:$K,7,0) -> 20000 | L11: =VLOOKUP($I11,Materiały!$C:$K,4,0) -> 58.64 | M11: =L11*(G11/K11) -> 0.05864
A12: PA R 7,5 x 40 | B12: UK-UKB-0040-001 | C12: STER PARA NARZ 1->4 W REK DO 40|7,5 | D12: PARA | E12: RĘKAWY PŁASKIE | F12: =MID(C12,SEARCH("|",C12)+1,3)/1 -> 7.5 | G12: =MID(C12,SEARCH("DO",C12)+3,2)/1 -> 40 | H12: =1/10 -> 0.1 | I12: =VLOOKUP($D12&$E12&$F12&$H12,Materiały!$B:$K,2,0) -> OM-194-FPPA-012 | J12: =VLOOKUP($I12,Materiały!$C:$K,2,0) -> RĘK P-F P STEAM/EO/FORM 200M 75MM | K12: =VLOOKUP($D12&$E12&$F12&$H12,Materiały!$B:$K,7,0) -> 20000 | L12: =VLOOKUP($I12,Materiały!$C:$K,4,0) -> 31.96 | M12: =L12*(G12/K12) -> 0.06392
A13: PA R 10 x 40 | B13: UK-UKB-0040-002 | C13: STER PARA NARZ 1->4 W REK DO 40|10 | D13: PARA | E13: RĘKAWY PŁASKIE | F13: =MID(C13,SEARCH("|",C13)+1,3)/1 -> 10 | G13: =MID(C13,SEARCH("DO",C13)+3,2)/1 -> 40 | H13: =1/10 -> 0.1 | I13: =VLOOKUP($D13&$E13&$F13&$H13,Materiały!$B:$K,2,0) -> OM-194-FPPA-013 | J13: =VLOOKUP($I13,Materiały!$C:$K,2,0) -> RĘK F-P P STEAM/EO/FORM 200M 100MM | K13: =VLOOKUP($D13&$E13&$F13&$H13,Materiały!$B:$K,7,0) -> 20000 | L13: =VLOOKUP($I13,Materiały!$C:$K,4,0) -> 40.28 | M13: =L13*(G13/K13) -> 0.08056
A14: PA R 12 x 40 | B14: UK-UKB-0040-003 | C14: STER PARA NARZ 1->4 W REK DO 40|12 | D14: PARA | E14: RĘKAWY PŁASKIE | F14: =MID(C14,SEARCH("|",C14)+1,3)/1 -> 12 | G14: =MID(C14,SEARCH("DO",C14)+3,2)/1 -> 40 | H14: =1/10 -> 0.1 | I14: =VLOOKUP($D14&$E14&$F14&$H14,Materiały!$B:$K,2,0) -> OM-194-FPPA-014 | J14: =VLOOKUP($I14,Materiały!$C:$K,2,0) -> RĘK P-F P STEAM/EO/FORM 200M 120MM | K14: =VLOOKUP($D14&$E14&$F14&$H14,Materiały!$B:$K,7,0) -> 20000 | L14: =VLOOKUP($I14,Materiały!$C:$K,4,0) -> 56.26 | M14: =L14*(G14/K14) -> 0.11252
A15: PA R 15 x 40 | B15: UK-UKB-0040-004 | C15: STER PARA NARZ 1->4 W REK DO 40|15 | D15: PARA | E15: RĘKAWY PŁASKIE | F15: =MID(C15,SEARCH("|",C15)+1,3)/1 -> 15 | G15: =MID(C15,SEARCH("DO",C15)+3,2)/1 -> 40 | H15: =1/10 -> 0.1 | I15: =VLOOKUP($D15&$E15&$F15&$H15,Materiały!$B:$K,2,0) -> OM-194-FPPA-015 | J15: =VLOOKUP($I15,Materiały!$C:$K,2,0) -> RĘK P-F P STEAM/EO FORM 200M 150MM | K15: =VLOOKUP($D15&$E15&$F15&$H15,Materiały!$B:$K,7,0) -> 20000 | L15: =VLOOKUP($I15,Materiały!$C:$K,4,0) -> 58.64 | M15: =L15*(G15/K15) -> 0.11728
A16: PA R 20 x 40 | B16: UK-UKB-0040-005 | C16: STER PARA NARZ 1->4 W REK DO 40|20 | D16: PARA | E16: RĘKAWY PŁASKIE | F16: =MID(C16,SEARCH("|",C16)+1,3)/1 -> 20 | G16: =MID(C16,SEARCH("DO",C16)+3,2)/1 -> 40 | H16: =1/10 -> 0.1 | I16: =VLOOKUP($D16&$E16&$F16&$H16,Materiały!$B:$K,2,0) -> OM-194-FPPA-016 | J16: =VLOOKUP($I16,Materiały!$C:$K,2,0) -> RĘK P-F P STEAM/EO FORM 200M 200MM | K16: =VLOOKUP($D16&$E16&$F16&$H16,Materiały!$B:$K,7,0) -> 20000 | L16: =VLOOKUP($I16,Materiały!$C:$K,4,0) -> 76.71 | M16: =L16*(G16/K16) -> 0.15342
A17: PA R 25 x 40 | B17: UK-UKB-0040-006 | C17: STER PARA NARZ 1->4 W REK DO 40|25 | D17: PARA | E17: RĘKAWY PŁASKIE | F17: =MID(C17,SEARCH("|",C17)+1,3)/1 -> 25 | G17: =MID(C17,SEARCH("DO",C17)+3,2)/1 -> 40 | H17: =1/10 -> 0.1 | I17: =VLOOKUP($D17&$E17&$F17&$H17,Materiały!$B:$K,2,0) -> OM-194-FPPA-007 | J17: =VLOOKUP($I17,Materiały!$C:$K,2,0) -> RĘK P-F P STEAM/EO FORM 100M 250MM | K17: =VLOOKUP($D17&$E17&$F17&$H17,Materiały!$B:$K,7,0) -> 10000 | L17: =VLOOKUP($I17,Materiały!$C:$K,4,0) -> 99.87 | M17: =L17*(G17/K17) -> 0.39948
A18: PA R 32 x 40 | B18: UK-UKB-0040-007 | C18: STER PARA NARZ 1->4 W REK DO 40|32 | D18: PARA | E18: RĘKAWY PŁASKIE | F18: =MID(C18,SEARCH("|",C18)+1,3)/1 -> 32 | G18: =MID(C18,SEARCH("DO",C18)+3,2)/1 -> 40 | H18: =1/10 -> 0.1 | I18: =VLOOKUP($D18&$E18&$F18&$H18,Materiały!$B:$K,2,0) -> OM-194-FPPA-009 | J18: =VLOOKUP($I18,Materiały!$C:$K,2,0) -> RĘK P-F P STEAM/EO FORM 100M 320MM | K18: =VLOOKUP($D18&$E18&$F18&$H18,Materiały!$B:$K,7,0) -> 10000 | L18: =VLOOKUP($I18,Materiały!$C:$K,4,0) -> 77.47 | M18: =L18*(G18/K18) -> 0.30988
A19: PA R 42 x 40 | B19: UK-UKB-0040-008 | C19: STER PARA NARZ 1->4 W REK DO 40|42 | D19: PARA | E19: RĘKAWY PŁASKIE | F19: =MID(C19,SEARCH("|",C19)+1,3)/1 -> 42 | G19: =MID(C19,SEARCH("DO",C19)+3,2)/1 -> 40 | H19: =1/10 -> 0.1 | I19: =VLOOKUP($D19&$E19&$F19&$H19,Materiały!$B:$K,2,0) -> OM-194-FPPA-010 | J19: =VLOOKUP($I19,Materiały!$C:$K,2,0) -> RĘK P-F P STEAM/EO FORM 100M 420MM | K19: =VLOOKUP($D19&$E19&$F19&$H19,Materiały!$B:$K,7,0) -> 10000 | L19: =VLOOKUP($I19,Materiały!$C:$K,4,0) -> 152.08 | M19: =L19*(G19/K19) -> 0.60832
... A27: PA R 42 x 60 | B27: UK-UKB-0060-008 | C27: STER PARA NARZ 1->4 W REK DO 60|42 | D27: PARA | E27: RĘKAWY PŁASKIE | F27: =MID(C27,SEARCH("|",C27)+1,3)/1 -> 42 | G27: =MID(C27,SEARCH("DO",C27)+3,2)/1 -> 60 | H27: =1/10 -> 0.1 | I27: =VLOOKUP($D27&$E27&$F27&$H27,Materiały!$B:$K,2,0) -> OM-194-FPPA-010 | J27: =VLOOKUP($I27,Materiały!$C:$K,2,0) -> RĘK P-F P STEAM/EO FORM 100M 420MM | K27: =VLOOKUP($D27&$E27&$F27&$H27,Materiały!$B:$K,7,0) -> 10000 | L27: =VLOOKUP($I27,Materiały!$C:$K,4,0) -> 152.08 | M27: =L27*(G27/K27) -> 0.91248
A28: PA P ≤10 | B28: UK-UKB-WB10-001 | C28: STER PARA, <10 NARZ, BLOK OP. | D28: PARA | E28: PAPIER DO STERYLIZACJI | G28: 1 | I28: OM-195-B060-001 | J28: =VLOOKUP($I28,Materiały!$C:$K,2,0) -> PK B 300X300MM A2000 | K28: =VLOOKUP($I28,Materiały!$C:$L,10,0) -> 2000 | L28: =VLOOKUP($I28,Materiały!$C:$K,4,0) -> 116.35 | M28: =L28*(G28/K28) -> 0.058175 | N28: kontener?
A29: PA P ≤10 | B29: UK-UKB-WB10-001 | C29: STER PARA, <10 NARZ, BLOK OP. | D29: PARA | E29: PAPIER DO STERYLIZACJI | G29: 1 | I29: OM-195-K060-003 | J29: =VLOOKUP($I29,Materiały!$C:$K,2,0) -> PK Z 500X500MM A500 | K29: =VLOOKUP($I29,Materiały!$C:$L,10,0) -> 500 | L29: =VLOOKUP($I29,Materiały!$C:$K,4,0) -> 76.88 | M29: =L29*(G29/K29) -> 0.15376 | N29: kontener?
A30: PA P ≤30 | B30: UK-UKB-WB30-001 | C30: STER PARA, <30 NARZ, BLOK OP. | D30: PARA | E30: PAPIER DO STERYLIZACJI | G30: 1 | I30: OM-195-K060-003 | J30: =VLOOKUP($I30,Materiały!$C:$K,2,0) -> PK Z 500X500MM A500 | K30: =VLOOKUP($I30,Materiały!$C:$L,10,0) -> 500 | L30: =VLOOKUP($I30,Materiały!$C:$K,4,0) -> 76.88 | M30: =L30*(G30/K30) -> 0.15376 | N30: kontener?
A31: PA P ≤30 | B31: UK-UKB-WB30-001 | C31: STER PARA, <30 NARZ, BLOK OP. | D31: PARA | E31: PAPIER DO STERYLIZACJI | G31: 1 | I31: OM-195-B060-004 | J31: =VLOOKUP($I31,Materiały!$C:$K,2,0) -> PK B 600X600MM A500 | K31: =VLOOKUP($I31,Materiały!$C:$L,10,0) -> 500 | L31: =VLOOKUP($I31,Materiały!$C:$K,4,0) -> 105.43 | M31: =L31*(G31/K31) -> 0.21086 | N31: kontener?
A32: PA P ≤50 | B32: UK-UKB-WB50-001 | C32: STER PARA, <50 NARZ, BLOK OP. | D32: PARA | E32: PAPIER DO STERYLIZACJI | G32: 1 | I32: OM-195-B060-004 | J32: =VLOOKUP($I32,Materiały!$C:$K,2,0) -> PK B 600X600MM A500 | K32: =VLOOKUP($I32,Materiały!$C:$L,10,0) -> 500 | L32: =VLOOKUP($I32,Materiały!$C:$K,4,0) -> 105.43 | M32: =L32*(G32/K32) -> 0.21086 | N32: kontener?
A33: PA P ≤50 | B33: UK-UKB-WB50-001 | C33: STER PARA, <50 NARZ, BLOK OP. | D33: PARA | E33: PAPIER DO STERYLIZACJI | G33: 1 | I33: OM-195-MIX1-005 | J33: =VLOOKUP($I33,Materiały!$C:$K,2,0) -> PK ST MIX 58G B/Z 750X750MM A250 | K33: =VLOOKUP($I33,Materiały!$C:$L,10,0) -> 250 | L33: =VLOOKUP($I33,Materiały!$C:$K,4,0) -> 84.56 | M33: =L33*(G33/K33) -> 0.33824 | N33: kontener?
A34: PA P ≤70 | B34: UK-UKB-WB70-001 | C34: STER PARA, <70 NARZ, BLOK OP. | D34: PARA | E34: PAPIER DO STERYLIZACJI | G34: 1 | I34: OM-195-MIX1-005 | J34: =VLOOKUP($I34,Materiały!$C:$K,2,0) -> PK ST MIX 58G B/Z 750X750MM A250 | K34: =VLOOKUP($I34,Materiały!$C:$L,10,0) -> 250 | L34: =VLOOKUP($I34,Materiały!$C:$K,4,0) -> 84.56 | M34: =L34*(G34/K34) -> 0.33824 | N34: kontener?
A35: PA P ≤70 | B35: UK-UKB-WB70-001 | C35: STER PARA, <70 NARZ, BLOK OP. | D35: PARA | E35: PAPIER DO STERYLIZACJI | G35: 1 | I35: OM-195-MIX1-006 | J35: =VLOOKUP($I35,Materiały!$C:$K,2,0) -> PK ST MIX 58G B/Z 900X900MM A250 | K35: =VLOOKUP($I35,Materiały!$C:$L,10,0) -> 250 | L35: =VLOOKUP($I35,Materiały!$C:$K,4,0) -> 115.32 | M35: =L35*(G35/K35) -> 0.46128 | N35: kontener?
A36: PA P ≤90 | B36: UK-UKB-WB90-001 | C36: STER PARA, <90 NARZ, BLOK OP. | D36: PARA | E36: PAPIER DO STERYLIZACJI | G36: 1 | I36: OM-195-MIX1-006 | J36: =VLOOKUP($I36,Materiały!$C:$K,2,0) -> PK ST MIX 58G B/Z 900X900MM A250 | K36: =VLOOKUP($I36,Materiały!$C:$L,10,0) -> 250 | L36: =VLOOKUP($I36,Materiały!$C:$K,4,0) -> 115.32 | M36: =L36*(G36/K36) -> 0.46128 | N36: kontener?
A37: PA P ≤90 | B37: UK-UKB-WB90-001 | C37: STER PARA, <90 NARZ, BLOK OP. | D37: PARA | E37: PAPIER DO STERYLIZACJI | G37: 1 | I37: OM-195-MIX1-007 | J37: =VLOOKUP($I37,Materiały!$C:$K,2,0) -> PK ST MIX 58G B/Z 1000X1000MM A250 | K37: =VLOOKUP($I37,Materiały!$C:$L,10,0) -> 250 | L37: =VLOOKUP($I37,Materiały!$C:$K,4,0) -> 147.62 | M37: =L37*(G37/K37) -> 0.59048 | N37: kontener?
A38: PA P >90 | B38: UK-UKB-WB91-001 | C38: STER PARA, >91 NARZ, BLOK OP. | D38: PARA | E38: PAPIER DO STERYLIZACJI | G38: 1 | I38: OM-195-MIX1-007 | J38: =VLOOKUP($I38,Materiały!$C:$K,2,0) -> PK ST MIX 58G B/Z 1000X1000MM A250 | K38: =VLOOKUP($I38,Materiały!$C:$L,10,0) -> 250 | L38: =VLOOKUP($I38,Materiały!$C:$K,4,0) -> 147.62 | M38: =L38*(G38/K38) -> 0.59048 | N38: kontener?
A39: PA P >90 | B39: UK-UKB-WB91-001 | C39: STER PARA, >91 NARZ, BLOK OP. | D39: PARA | E39: PAPIER DO STERYLIZACJI | G39: 1 | I39: OM-195-MIX1-008 | J39: =VLOOKUP($I39,Materiały!$C:$K,2,0) -> PK ST MIX 58G B/Z 1200X1200MM A100 | K39: =VLOOKUP($I39,Materiały!$C:$L,10,0) -> 100 | L39: =VLOOKUP($I39,Materiały!$C:$K,4,0) -> 100.2 | M39: =L39*(G39/K39) -> 1.002 | N39: kontener?
B40: UK-UKB-WR10-001 | C40: STER PARA, <10 NARZ, BLOK OP. ORT i NEUR | D40: PARA | E40: PAPIER DO STERYLIZACJI | G40: 1 | I40: OM-195-B060-001 | J40: =VLOOKUP($I40,Materiały!$C:$K,2,0) -> PK B 300X300MM A2000 | K40: =VLOOKUP($I40,Materiały!$C:$L,10,0) -> 2000 | L40: =VLOOKUP($I40,Materiały!$C:$K,4,0) -> 116.35 | M40: =L40*(G40/K40) -> 0.058175 | N40: kontener?
B41: UK-UKB-WR10-001 | C41: STER PARA, <10 NARZ, BLOK OP. ORT i NEUR | D41: PARA | E41: PAPIER DO STERYLIZACJI | G41: 1 | I41: OM-195-K060-003 | J41: =VLOOKUP($I41,Materiały!$C:$K,2,0) -> PK Z 500X500MM A500 | K41: =VLOOKUP($I41,Materiały!$C:$L,10,0) -> 500 | L41: =VLOOKUP($I41,Materiały!$C:$K,4,0) -> 76.88 | M41: =L41*(G41/K41) -> 0.15376 | N41: kontener?
B42: UK-UKB-WR30-001 | C42: STER PARA, <30 NARZ, BLOK OP. ORT i NEUR | D42: PARA | E42: PAPIER DO STERYLIZACJI | G42: 1 | I42: OM-195-K060-003 | J42: =VLOOKUP($I42,Materiały!$C:$K,2,0) -> PK Z 500X500MM A500 | K42: =VLOOKUP($I42,Materiały!$C:$L,10,0) -> 500 | L42: =VLOOKUP($I42,Materiały!$C:$K,4,0) -> 76.88 | M42: =L42*(G42/K42) -> 0.15376 | N42: kontener?
B43: UK-UKB-WR30-001 | C43: STER PARA, <30 NARZ, BLOK OP. ORT i NEUR | D43: PARA | E43: PAPIER DO STERYLIZACJI | G43: 1 | I43: OM-195-B060-004 | J43: =VLOOKUP($I43,Materiały!$C:$K,2,0) -> PK B 600X600MM A500 | K43: =VLOOKUP($I43,Materiały!$C:$L,10,0) -> 500 | L43: =VLOOKUP($I43,Materiały!$C:$K,4,0) -> 105.43 | M43: =L43*(G43/K43) -> 0.21086 | N43: kontener?
B44: UK-UKB-WR50-001 | C44: STER PARA, <50 NARZ, BLOK OP. ORT i NEUR | D44: PARA | E44: PAPIER DO STERYLIZACJI | G44: 1 | I44: OM-195-B060-004 | J44: =VLOOKUP($I44,Materiały!$C:$K,2,0) -> PK B 600X600MM A500 | K44: =VLOOKUP($I44,Materiały!$C:$L,10,0) -> 500 | L44: =VLOOKUP($I44,Materiały!$C:$K,4,0) -> 105.43 | M44: =L44*(G44/K44) -> 0.21086 | N44: kontener?
B45: UK-UKB-WR50-001 | C45: STER PARA, <50 NARZ, BLOK OP. ORT i NEUR | D45: PARA | E45: PAPIER DO STERYLIZACJI | G45: 1 | I45: OM-195-MIX1-005 | J45: =VLOOKUP($I45,Materiały!$C:$K,2,0) -> PK ST MIX 58G B/Z 750X750MM A250 | K45: =VLOOKUP($I45,Materiały!$C:$L,10,0) -> 250 | L45: =VLOOKUP($I45,Materiały!$C:$K,4,0) -> 84.56 | M45: =L45*(G45/K45) -> 0.33824 | N45: kontener?
B46: UK-UKB-WR70-001 | C46: STER PARA, <70 NARZ, BLOK OP. ORT i NEUR | D46: PARA | E46: PAPIER DO STERYLIZACJI | G46: 1 | I46: OM-195-MIX1-005 | J46: =VLOOKUP($I46,Materiały!$C:$K,2,0) -> PK ST MIX 58G B/Z 750X750MM A250 | K46: =VLOOKUP($I46,Materiały!$C:$L,10,0) -> 250 | L46: =VLOOKUP($I46,Materiały!$C:$K,4,0) -> 84.56 | M46: =L46*(G46/K46) -> 0.33824 | N46: kontener?
B47: UK-UKB-WR70-001 | C47: STER PARA, <70 NARZ, BLOK OP. ORT i NEUR | D47: PARA | E47: PAPIER DO STERYLIZACJI | G47: 1 | I47: OM-195-MIX1-006 | J47: =VLOOKUP($I47,Materiały!$C:$K,2,0) -> PK ST MIX 58G B/Z 900X900MM A250 | K47: =VLOOKUP($I47,Materiały!$C:$L,10,0) -> 250 | L47: =VLOOKUP($I47,Materiały!$C:$K,4,0) -> 115.32 | M47: =L47*(G47/K47) -> 0.46128 | N47: kontener?
B48: UK-UKB-WR90-001 | C48: STER PARA, <90 NARZ, BLOK OP. ORT i NEUR | D48: PARA | E48: PAPIER DO STERYLIZACJI | G48: 1 | I48: OM-195-MIX1-006 | J48: =VLOOKUP($I48,Materiały!$C:$K,2,0) -> PK ST MIX 58G B/Z 900X900MM A250 | K48: =VLOOKUP($I48,Materiały!$C:$L,10,0) -> 250 | L48: =VLOOKUP($I48,Materiały!$C:$K,4,0) -> 115.32 | M48: =L48*(G48/K48) -> 0.46128 | N48: kontener?
B49: UK-UKB-WR90-001 | C49: STER PARA, <90 NARZ, BLOK OP. ORT i NEUR | D49: PARA | E49: PAPIER DO STERYLIZACJI | G49: 1 | I49: OM-195-MIX1-007 | J49: =VLOOKUP($I49,Materiały!$C:$K,2,0) -> PK ST MIX 58G B/Z 1000X1000MM A250 | K49: =VLOOKUP($I49,Materiały!$C:$L,10,0) -> 250 | L49: =VLOOKUP($I49,Materiały!$C:$K,4,0) -> 147.62 | M49: =L49*(G49/K49) -> 0.59048 | N49: kontener?
B50: UK-UKB-WR91-001 | C50: STER PARA, >91 NARZ, BLOK OP. ORT i NEUR | D50: PARA | E50: PAPIER DO STERYLIZACJI | G50: 1 | I50: OM-195-MIX1-007 | J50: =VLOOKUP($I50,Materiały!$C:$K,2,0) -> PK ST MIX 58G B/Z 1000X1000MM A250 | K50: =VLOOKUP($I50,Materiały!$C:$L,10,0) -> 250 | L50: =VLOOKUP($I50,Materiały!$C:$K,4,0) -> 147.62 | M50: =L50*(G50/K50) -> 0.59048 | N50: kontener?
B51: UK-UKB-WR91-001 | C51: STER PARA, >91 NARZ, BLOK OP. ORT i NEUR | D51: PARA | E51: PAPIER DO STERYLIZACJI | G51: 1 | I51: OM-195-MIX1-008 | J51: =VLOOKUP($I51,Materiały!$C:$K,2,0) -> PK ST MIX 58G B/Z 1200X1200MM A100 | K51: =VLOOKUP($I51,Materiały!$C:$L,10,0) -> 100 | L51: =VLOOKUP($I51,Materiały!$C:$K,4,0) -> 100.2 | M51: =L51*(G51/K51) -> 1.002 | N51: kontener?
B52: UK-UKB-XXXX-060 | C52: Dezynfekcja. Obuwie operacyjne. | E52: PAPIER DO STERYLIZACJI | G52: 1 | I52: OM-195-MIX1-005 | J52: =VLOOKUP($I52,Materiały!$C:$K,2,0) -> PK ST MIX 58G B/Z 750X750MM A250 | K52: =VLOOKUP($I52,Materiały!$C:$L,10,0) -> 250 | L52: =VLOOKUP($I52,Materiały!$C:$K,4,0) -> 84.56 | M52: =L52*(G52/K52) -> 0.33824
A53: DEZ P ≤10 | B53: UK-UKB-A010-001 | C53: AUTOMATYCZNA DEZYNFEKCJA ZESTAWÓW NARZĘDZI >10 | E53: PAPIER DO STERYLIZACJI | G53: 1 | I53: OM-195-B060-001 | J53: =VLOOKUP($I53,Materiały!$C:$K,2,0) -> PK B 300X300MM A2000 | K53: =VLOOKUP($I53,Materiały!$C:$L,10,0) -> 2000 | L53: =VLOOKUP($I53,Materiały!$C:$K,4,0) -> 116.35 | M53: =L53*(G53/K53) -> 0.058175
B54: UK-UKB-A010-001 | C54: AUTOMATYCZNA DEZYNFEKCJA ZESTAWÓW NARZĘDZI >10 | E54: PAPIER DO STERYLIZACJI | G54: 1 | I54: OM-195-K060-003 | J54: =VLOOKUP($I54,Materiały!$C:$K,2,0) -> PK Z 500X500MM A500 | K54: =VLOOKUP($I54,Materiały!$C:$L,10,0) -> 500 | L54: =VLOOKUP($I54,Materiały!$C:$K,4,0) -> 76.88 | M54: =L54*(G54/K54) -> 0.15376
A55: DEZ P ≤30 | B55: UK-UKB-A030-003 | C55: AUTOMATYCZNA DEZYNFEKCJA ZESTAWÓW NARZĘDZI >30 | E55: PAPIER DO STERYLIZACJI | G55: 1 | I55: OM-195-K060-003 | J55: =VLOOKUP($I55,Materiały!$C:$K,2,0) -> PK Z 500X500MM A500 | K55: =VLOOKUP($I55,Materiały!$C:$L,10,0) -> 500 | L55: =VLOOKUP($I55,Materiały!$C:$K,4,0) -> 76.88 | M55: =L55*(G55/K55) -> 0.15376
B56: UK-UKB-A030-003 | C56: AUTOMATYCZNA DEZYNFEKCJA ZESTAWÓW NARZĘDZI >30 | E56: PAPIER DO STERYLIZACJI | G56: 1 | I56: OM-195-B060-004 | J56: =VLOOKUP($I56,Materiały!$C:$K,2,0) -> PK B 600X600MM A500 | K56: =VLOOKUP($I56,Materiały!$C:$L,10,0) -> 500 | L56: =VLOOKUP($I56,Materiały!$C:$K,4,0) -> 105.43 | M56: =L56*(G56/K56) -> 0.21086
A57: DEZ P ≤50 | B57: UK-UKB-A050-002 | C57: AUTOMATYCZNA DEZYNFEKCJA ZESTAWÓW NARZĘDZI >50 | E57: PAPIER DO STERYLIZACJI | G57: 1 | I57: OM-195-B060-004 | J57: =VLOOKUP($I57,Materiały!$C:$K,2,0) -> PK B 600X600MM A500 | K57: =VLOOKUP($I57,Materiały!$C:$L,10,0) -> 500 | L57: =VLOOKUP($I57,Materiały!$C:$K,4,0) -> 105.43 | M57: =L57*(G57/K57) -> 0.21086
B58: UK-UKB-A050-002 | C58: AUTOMATYCZNA DEZYNFEKCJA ZESTAWÓW NARZĘDZI >50 | E58: PAPIER DO STERYLIZACJI | G58: 1 | I58: OM-195-MIX1-005 | J58: =VLOOKUP($I58,Materiały!$C:$K,2,0) -> PK ST MIX 58G B/Z 750X750MM A250 | K58: =VLOOKUP($I58,Materiały!$C:$L,10,0) -> 250 | L58: =VLOOKUP($I58,Materiały!$C:$K,4,0) -> 84.56 | M58: =L58*(G58/K58) -> 0.33824
A59: DEZ P ≤70 | B59: UK-UKB-A070-002 | C59: AUTOMATYCZNA DEZYNFEKCJA ZESTAWÓW NARZĘDZI >70 | E59: PAPIER DO STERYLIZACJI | G59: 1 | I59: OM-195-MIX1-005 | J59: =VLOOKUP($I59,Materiały!$C:$K,2,0) -> PK ST MIX 58G B/Z 750X750MM A250 | K59: =VLOOKUP($I59,Materiały!$C:$L,10,0) -> 250 | L59: =VLOOKUP($I59,Materiały!$C:$K,4,0) -> 84.56 | M59: =L59*(G59/K59) -> 0.33824
B60: UK-UKB-A070-002 | C60: AUTOMATYCZNA DEZYNFEKCJA ZESTAWÓW NARZĘDZI >70 | E60: PAPIER DO STERYLIZACJI | G60: 1 | I60: OM-195-MIX1-006 | J60: =VLOOKUP($I60,Materiały!$C:$K,2,0) -> PK ST MIX 58G B/Z 900X900MM A250 | K60: =VLOOKUP($I60,Materiały!$C:$L,10,0) -> 250 | L60: =VLOOKUP($I60,Materiały!$C:$K,4,0) -> 115.32 | M60: =L60*(G60/K60) -> 0.46128
A61: DEZ P ≤90 | B61: UK-UKB-A090-001 | C61: AUTOMATYCZNA DEZYNFEKCJA ZESTAWÓW NARZĘDZI >90 | E61: PAPIER DO STERYLIZACJI | G61: 1 | I61: OM-195-MIX1-006 | J61: =VLOOKUP($I61,Materiały!$C:$K,2,0) -> PK ST MIX 58G B/Z 900X900MM A250 | K61: =VLOOKUP($I61,Materiały!$C:$L,10,0) -> 250 | L61: =VLOOKUP($I61,Materiały!$C:$K,4,0) -> 115.32 | M61: =L61*(G61/K61) -> 0.46128
B62: UK-UKB-A090-001 | C62: AUTOMATYCZNA DEZYNFEKCJA ZESTAWÓW NARZĘDZI >90 | E62: PAPIER DO STERYLIZACJI | G62: 1 | I62: OM-195-MIX1-007 | J62: =VLOOKUP($I62,Materiały!$C:$K,2,0) -> PK ST MIX 58G B/Z 1000X1000MM A250 | K62: =VLOOKUP($I62,Materiały!$C:$L,10,0) -> 250 | L62: =VLOOKUP($I62,Materiały!$C:$K,4,0) -> 147.62 | M62: =L62*(G62/K62) -> 0.59048
A63: DEZ P >91 | B63: UK-UKB-A091-001 | C63: AUTOMATYCZNA DEZYNFEKCJA ZESTAWÓW NARZĘDZI <91 | E63: PAPIER DO STERYLIZACJI | G63: 1 | I63: OM-195-MIX1-007 | J63: =VLOOKUP($I63,Materiały!$C:$K,2,0) -> PK ST MIX 58G B/Z 1000X1000MM A250 | K63: =VLOOKUP($I63,Materiały!$C:$L,10,0) -> 250 | L63: =VLOOKUP($I63,Materiały!$C:$K,4,0) -> 147.62 | M63: =L63*(G63/K63) -> 0.59048
B64: UK-UKB-A091-001 | C64: AUTOMATYCZNA DEZYNFEKCJA ZESTAWÓW NARZĘDZI <91 | E64: PAPIER DO STERYLIZACJI | G64: 1 | I64: OM-195-MIX1-008 | J64: =VLOOKUP($I64,Materiały!$C:$K,2,0) -> PK ST MIX 58G B/Z 1200X1200MM A100 | K64: =VLOOKUP($I64,Materiały!$C:$L,10,0) -> 100 | L64: =VLOOKUP($I64,Materiały!$C:$K,4,0) -> 100.2 | M64: =L64*(G64/K64) -> 1.002
A65: DEZ R 7,5 x 20 | E65: RĘKAWY PŁASKIE | F65: 7.5 | G65: 20 | H65: 0.1 | I65: OM-194-FPPA-012 | J65: =VLOOKUP($I65,Materiały!$C:$K,2,0) -> RĘK P-F P STEAM/EO/FORM 200M 75MM | K65: 20000 | L65: =VLOOKUP($I65,Materiały!$C:$K,4,0) -> 31.96 | M65: =L65*(G65/K65) -> 0.03196
A66: DEZ R 10 x 20 | E66: RĘKAWY PŁASKIE | F66: 10 | G66: 20 | H66: 0.1 | I66: OM-194-FPPA-013 | J66: =VLOOKUP($I66,Materiały!$C:$K,2,0) -> RĘK F-P P STEAM/EO/FORM 200M 100MM | K66: 20000 | L66: =VLOOKUP($I66,Materiały!$C:$K,4,0) -> 40.28 | M66: =L66*(G66/K66) -> 0.04028
A67: DEZ R 12 x 20 | E67: RĘKAWY PŁASKIE | F67: 12 | G67: 20 | H67: 0.1 | I67: OM-194-FPPA-014 | J67: =VLOOKUP($I67,Materiały!$C:$K,2,0) -> RĘK P-F P STEAM/EO/FORM 200M 120MM | K67: 20000 | L67: =VLOOKUP($I67,Materiały!$C:$K,4,0) -> 56.26 | M67: =L67*(G67/K67) -> 0.05626
A68: DEZ R 15 x 20 | E68: RĘKAWY PŁASKIE | F68: 15 | G68: 20 | H68: 0.1 | I68: OM-194-FPPA-015 | J68: =VLOOKUP($I68,Materiały!$C:$K,2,0) -> RĘK P-F P STEAM/EO FORM 200M 150MM | K68: 20000 | L68: =VLOOKUP($I68,Materiały!$C:$K,4,0) -> 58.64 | M68: =L68*(G68/K68) -> 0.05864
A69: DEZ R 12 x 40 | B69: UK-UKB-A040-102 | C69: AUTOMATYCZNA DEZYNFEKCJA NARZĘDZI W RĘKAWIE DO 40|12 | E69: RĘKAWY PŁASKIE | F69: =MID(C69,SEARCH("|",C69)+1,3)/1 -> 12 | G69: =MID(C69,SEARCH("DO",C69)+3,2)/1 -> 40 | H69: =1/10 -> 0.1 | I69: =I14 -> OM-194-FPPA-014 | J69: =VLOOKUP($I69,Materiały!$C:$K,2,0) -> RĘK P-F P STEAM/EO/FORM 200M 120MM | K69: =MID(J69,SEARCH("FORM",J69)+5,3)/1*100 -> 20000 | L69: =VLOOKUP($I69,Materiały!$C:$K,4,0) -> 56.26 | M69: =L69*(G69/K69) -> 0.11252
A70: DEZ R 25 x 40 | B70: UK-UKB-A040-103 | C70: AUTOMATYCZNA DEZYNFEKCJA NARZĘDZI W RĘKAWIE DO 40|25 | E70: RĘKAWY PŁASKIE | F70: =MID(C70,SEARCH("|",C70)+1,3)/1 -> 25 | G70: =MID(C70,SEARCH("DO",C70)+3,2)/1 -> 40 | H70: =1/10 -> 0.1 | I70: =I17 -> OM-194-FPPA-007 | J70: =VLOOKUP($I70,Materiały!$C:$K,2,0) -> RĘK P-F P STEAM/EO FORM 100M 250MM | K70: =MID(J70,SEARCH("FORM",J70)+5,3)/1*100 -> 10000 | L70: =VLOOKUP($I70,Materiały!$C:$K,4,0) -> 99.87 | M70: =L70*(G70/K70) -> 0.39948
A71: DEZ R 7,5 x 40 | B71: UK-UKB-A040-104 | C71: AUTOMATYCZNA DEZYNFEKCJA NARZĘDZI W RĘKAWIE DO 40|7,5 | E71: RĘKAWY PŁASKIE | F71: =MID(C71,SEARCH("|",C71)+1,3)/1 -> 7.5 | G71: =MID(C71,SEARCH("DO",C71)+3,2)/1 -> 40 | H71: =1/10 -> 0.1 | I71: =I12 -> OM-194-FPPA-012 | J71: =VLOOKUP($I71,Materiały!$C:$K,2,0) -> RĘK P-F P STEAM/EO/FORM 200M 75MM | K71: =MID(J71,SEARCH("FORM",J71)+5,3)/1*100 -> 20000 | L71: =VLOOKUP($I71,Materiały!$C:$K,4,0) -> 31.96 | M71: =L71*(G71/K71) -> 0.06392
A72: DEZ R 10 x 40 | B72: UK-UKB-A040-105 | C72: AUTOMATYCZNA DEZYNFEKCJA NARZĘDZI W RĘKAWIE DO 40|10 | E72: RĘKAWY PŁASKIE | F72: =MID(C72,SEARCH("|",C72)+1,3)/1 -> 10 | G72: =MID(C72,SEARCH("DO",C72)+3,2)/1 -> 40 | H72: =1/10 -> 0.1 | I72: =I13 -> OM-194-FPPA-013 | J72: =VLOOKUP($I72,Materiały!$C:$K,2,0) -> RĘK F-P P STEAM/EO/FORM 200M 100MM | K72: =MID(J72,SEARCH("FORM",J72)+5,3)/1*100 -> 20000 | L72: =VLOOKUP($I72,Materiały!$C:$K,4,0) -> 40.28 | M72: =L72*(G72/K72) -> 0.08056
A73: DEZ R 15 x 40 | B73: UK-UKB-A040-106 | C73: AUTOMATYCZNA DEZYNFEKCJA NARZĘDZI W RĘKAWIE DO 40|15 | E73: RĘKAWY PŁASKIE | F73: =MID(C73,SEARCH("|",C73)+1,3)/1 -> 15 | G73: =MID(C73,SEARCH("DO",C73)+3,2)/1 -> 40 | H73: =1/10 -> 0.1 | I73: =I15 -> OM-194-FPPA-015 | J73: =VLOOKUP($I73,Materiały!$C:$K,2,0) -> RĘK P-F P STEAM/EO FORM 200M 150MM | K73: =MID(J73,SEARCH("FORM",J73)+5,3)/1*100 -> 20000 | L73: =VLOOKUP($I73,Materiały!$C:$K,4,0) -> 58.64 | M73: =L73*(G73/K73) -> 0.11728
A74: DEZ R 20 x 40 | B74: UK-UKB-A040-107 | C74: AUTOMATYCZNA DEZYNFEKCJA NARZĘDZI W RĘKAWIE DO 40|20 | E74: RĘKAWY PŁASKIE | F74: =MID(C74,SEARCH("|",C74)+1,3)/1 -> 20 | G74: =MID(C74,SEARCH("DO",C74)+3,2)/1 -> 40 | H74: =1/10 -> 0.1 | I74: =I16 -> OM-194-FPPA-016 | J74: =VLOOKUP($I74,Materiały!$C:$K,2,0) -> RĘK P-F P STEAM/EO FORM 200M 200MM | K74: =MID(J74,SEARCH("FORM",J74)+5,3)/1*100 -> 20000 | L74: =VLOOKUP($I74,Materiały!$C:$K,4,0) -> 76.71 | M74: =L74*(G74/K74) -> 0.15342
A75: DEZ R 32 x 40 | B75: UK-UKB-A040-108 | C75: AUTOMATYCZNA DEZYNFEKCJA NARZĘDZI W RĘKAWIE DO 40|32 | E75: RĘKAWY PŁASKIE | F75: =MID(C75,SEARCH("|",C75)+1,3)/1 -> 32 | G75: =MID(C75,SEARCH("DO",C75)+3,2)/1 -> 40 | H75: =1/10 -> 0.1 | I75: =I18 -> OM-194-FPPA-009 | J75: =VLOOKUP($I75,Materiały!$C:$K,2,0) -> RĘK P-F P STEAM/EO FORM 100M 320MM | K75: =MID(J75,SEARCH("FORM",J75)+5,3)/1*100 -> 10000 | L75: =VLOOKUP($I75,Materiały!$C:$K,4,0) -> 77.47 | M75: =L75*(G75/K75) -> 0.30988
A76: DEZ R 42 x 40 | B76: UK-UKB-A040-109 | C76: AUTOMATYCZNA DEZYNFEKCJA NARZĘDZI W RĘKAWIE DO 40|42 | E76: RĘKAWY PŁASKIE | F76: =MID(C76,SEARCH("|",C76)+1,3)/1 -> 42 | G76: =MID(C76,SEARCH("DO",C76)+3,2)/1 -> 40 | H76: =1/10 -> 0.1 | I76: =I19 -> OM-194-FPPA-010 | J76: =VLOOKUP($I76,Materiały!$C:$K,2,0) -> RĘK P-F P STEAM/EO FORM 100M 420MM | K76: =MID(J76,SEARCH("FORM",J76)+5,3)/1*100 -> 10000 | L76: =VLOOKUP($I76,Materiały!$C:$K,4,0) -> 152.08 | M76: =L76*(G76/K76) -> 0.60832
A77: DEZ R 7,5 x 60 | E77: RĘKAWY PŁASKIE | F77: 7.5 | G77: 60 | H77: 0.1 | I77: OM-194-FPPA-012 | J77: =VLOOKUP($I77,Materiały!$C:$K,2,0) -> RĘK P-F P STEAM/EO/FORM 200M 75MM | K77: 20000 | L77: =VLOOKUP($I77,Materiały!$C:$K,4,0) -> 31.96 | M77: =L77*(G77/K77) -> 0.09588
A78: DEZ R 10 x 60 | E78: RĘKAWY PŁASKIE | F78: 10 | G78: 60 | H78: 0.1 | I78: OM-194-FPPA-013 | J78: =VLOOKUP($I78,Materiały!$C:$K,2,0) -> RĘK F-P P STEAM/EO/FORM 200M 100MM | K78: 20000 | L78: =VLOOKUP($I78,Materiały!$C:$K,4,0) -> 40.28 | M78: =L78*(G78/K78) -> 0.12084
A79: DEZ R 12 x 60 | E79: RĘKAWY PŁASKIE | F79: 12 | G79: 60 | H79: 0.1 | I79: OM-194-FPPA-014 | J79: =VLOOKUP($I79,Materiały!$C:$K,2,0) -> RĘK P-F P STEAM/EO/FORM 200M 120MM | K79: 20000 | L79: =VLOOKUP($I79,Materiały!$C:$K,4,0) -> 56.26 | M79: =L79*(G79/K79) -> 0.16878
A80: DEZ R 15 x 60 | E80: RĘKAWY PŁASKIE | F80: 15 | G80: 60 | H80: 0.1 | I80: OM-194-FPPA-015 | J80: =VLOOKUP($I80,Materiały!$C:$K,2,0) -> RĘK P-F P STEAM/EO FORM 200M 150MM | K80: 20000 | L80: =VLOOKUP($I80,Materiały!$C:$K,4,0) -> 58.64 | M80: =L80*(G80/K80) -> 0.17592
A81: DEZ R 20 x 60 | E81: RĘKAWY PŁASKIE | F81: 20 | G81: 60 | H81: 0.1 | I81: OM-194-FPPA-016 | J81: =VLOOKUP($I81,Materiały!$C:$K,2,0) -> RĘK P-F P STEAM/EO FORM 200M 200MM | K81: 20000 | L81: =VLOOKUP($I81,Materiały!$C:$K,4,0) -> 76.71 | M81: =L81*(G81/K81) -> 0.23013
A82: DEZ R 25 x 60 | E82: RĘKAWY PŁASKIE | F82: 25 | G82: 60 | H82: 0.1 | I82: OM-194-FPPA-007 | J82: =VLOOKUP($I82,Materiały!$C:$K,2,0) -> RĘK P-F P STEAM/EO FORM 100M 250MM | K82: 10000 | L82: =VLOOKUP($I82,Materiały!$C:$K,4,0) -> 99.87 | M82: =L82*(G82/K82) -> 0.59922
A83: DEZ R 32 x 60 | E83: RĘKAWY PŁASKIE | F83: 32 | G83: 60 | H83: 0.1 | I83: OM-194-FPPA-009 | J83: =VLOOKUP($I83,Materiały!$C:$K,2,0) -> RĘK P-F P STEAM/EO FORM 100M 320MM | K83: 10000 | L83: =VLOOKUP($I83,Materiały!$C:$K,4,0) -> 77.47 | M83: =L83*(G83/K83) -> 0.46482
A84: DEZ R 42 x 60 | E84: RĘKAWY PŁASKIE | F84: 42 | G84: 60 | H84: 0.1 | I84: OM-194-FPPA-010 | J84: =VLOOKUP($I84,Materiały!$C:$K,2,0) -> RĘK P-F P STEAM/EO FORM 100M 420MM | K84: 10000 | L84: =VLOOKUP($I84,Materiały!$C:$K,4,0) -> 152.08 | M84: =L84*(G84/K84) -> 0.91248
A85: EO R 10 x 20 | D85: EO | E85: RĘKAWY PŁASKIE | F85: 10 | G85: 20 | H85: 0.1 | I85: OM-194-FPPA-013 | J85: =VLOOKUP($I85,Materiały!$C:$K,2,0) -> RĘK F-P P STEAM/EO/FORM 200M 100MM | K85: 20000 | L85: =VLOOKUP($I85,Materiały!$C:$K,4,0) -> 40.28 | M85: =L85*(G85/K85) -> 0.04028
A86: EO R 12 x 20 | D86: EO | E86: RĘKAWY PŁASKIE | F86: 12 | G86: 20 | H86: 0.1 | I86: OM-194-FPPA-014 | J86: =VLOOKUP($I86,Materiały!$C:$K,2,0) -> RĘK P-F P STEAM/EO/FORM 200M 120MM | K86: 20000 | L86: =VLOOKUP($I86,Materiały!$C:$K,4,0) -> 56.26 | M86: =L86*(G86/K86) -> 0.05626
A87: EO R 15 x 20 | D87: EO | E87: RĘKAWY PŁASKIE | F87: 15 | G87: 20 | H87: 0.1 | I87: OM-194-FPPA-015 | J87: =VLOOKUP($I87,Materiały!$C:$K,2,0) -> RĘK P-F P STEAM/EO FORM 200M 150MM | K87: 20000 | L87: =VLOOKUP($I87,Materiały!$C:$K,4,0) -> 58.64 | M87: =L87*(G87/K87) -> 0.05864
A88: EO R 7,5 x 20 | D88: EO | E88: RĘKAWY PŁASKIE | F88: 7.5 | G88: 20 | H88: 0.1 | I88: OM-194-FPPA-012 | J88: =VLOOKUP($I88,Materiały!$C:$K,2,0) -> RĘK P-F P STEAM/EO/FORM 200M 75MM | K88: 20000 | L88: =VLOOKUP($I88,Materiały!$C:$K,4,0) -> 31.96 | M88: =L88*(G88/K88) -> 0.03196
A89: EO R 10 x 40 | D89: EO | E89: RĘKAWY PŁASKIE | F89: 10 | G89: 40 | H89: 0.1 | I89: OM-194-FPPA-013 | J89: =VLOOKUP($I89,Materiały!$C:$K,2,0) -> RĘK F-P P STEAM/EO/FORM 200M 100MM | K89: 20000 | L89: =VLOOKUP($I89,Materiały!$C:$K,4,0) -> 40.28 | M89: =L89*(G89/K89) -> 0.08056
A90: EO R 12 x 40 | D90: EO | E90: RĘKAWY PŁASKIE | F90: 12 | G90: 40 | H90: 0.1 | I90: OM-194-FPPA-014 | J90: =VLOOKUP($I90,Materiały!$C:$K,2,0) -> RĘK P-F P STEAM/EO/FORM 200M 120MM | K90: 20000 | L90: =VLOOKUP($I90,Materiały!$C:$K,4,0) -> 56.26 | M90: =L90*(G90/K90) -> 0.11252
A91: EO R 15 x 40 | D91: EO | E91: RĘKAWY PŁASKIE | F91: 15 | G91: 40 | H91: 0.1 | I91: OM-194-FPPA-015 | J91: =VLOOKUP($I91,Materiały!$C:$K,2,0) -> RĘK P-F P STEAM/EO FORM 200M 150MM | K91: 20000 | L91: =VLOOKUP($I91,Materiały!$C:$K,4,0) -> 58.64 | M91: =L91*(G91/K91) -> 0.11728
A92: EO R 20 x 40 | D92: EO | E92: RĘKAWY PŁASKIE | F92: 20 | G92: 40 | H92: 0.1 | I92: OM-194-FPPA-016 | J92: =VLOOKUP($I92,Materiały!$C:$K,2,0) -> RĘK P-F P STEAM/EO FORM 200M 200MM | K92: 20000 | L92: =VLOOKUP($I92,Materiały!$C:$K,4,0) -> 76.71 | M92: =L92*(G92/K92) -> 0.15342
A93: EO R 25 x 40 | D93: EO | E93: RĘKAWY PŁASKIE | F93: 25 | G93: 40 | H93: 0.1 | I93: OM-194-FPPA-007 | J93: =VLOOKUP($I93,Materiały!$C:$K,2,0) -> RĘK P-F P STEAM/EO FORM 100M 250MM | K93: 10000 | L93: =VLOOKUP($I93,Materiały!$C:$K,4,0) -> 99.87 | M93: =L93*(G93/K93) -> 0.39948
A94: EO R 32 x 40 | D94: EO | E94: RĘKAWY PŁASKIE | F94: 32 | G94: 40 | H94: 0.1 | I94: OM-194-FPPA-009 | J94: =VLOOKUP($I94,Materiały!$C:$K,2,0) -> RĘK P-F P STEAM/EO FORM 100M 320MM | K94: 10000 | L94: =VLOOKUP($I94,Materiały!$C:$K,4,0) -> 77.47 | M94: =L94*(G94/K94) -> 0.30988
A95: EO R 42 x 40 | D95: EO | E95: RĘKAWY PŁASKIE | F95: 42 | G95: 40 | H95: 0.1 | I95: OM-194-FPPA-010 | J95: =VLOOKUP($I95,Materiały!$C:$K,2,0) -> RĘK P-F P STEAM/EO FORM 100M 420MM | K95: 10000 | L95: =VLOOKUP($I95,Materiały!$C:$K,4,0) -> 152.08 | M95: =L95*(G95/K95) -> 0.60832
A96: EO R 7,5 x 40 | D96: EO | E96: RĘKAWY PŁASKIE | F96: 7.5 | G96: 40 | H96: 0.1 | I96: OM-194-FPPA-012 | J96: =VLOOKUP($I96,Materiały!$C:$K,2,0) -> RĘK P-F P STEAM/EO/FORM 200M 75MM | K96: 20000 | L96: =VLOOKUP($I96,Materiały!$C:$K,4,0) -> 31.96 | M96: =L96*(G96/K96) -> 0.06392
... A104: EO R 7,5 x 60 | D104: EO | E104: RĘKAWY PŁASKIE | F104: 7.5 | G104: 60 | H104: 0.1 | I104: OM-194-FPPA-012 | J104: =VLOOKUP($I104,Materiały!$C:$K,2,0) -> RĘK P-F P STEAM/EO/FORM 200M 75MM | K104: 20000 | L104: =VLOOKUP($I104,Materiały!$C:$K,4,0) -> 31.96 | M104: =L104*(G104/K104) -> 0.09588
A105: Tyvek 10 x 20 | B105: UK-UKB-N020-001 | C105: STER NISKOT NARZ 1->4 W REK DO 20|10 | D105: PLAZMA | E105: RĘKAWY TYVEK | F105: =MID(C105,SEARCH("|",C105)+1,3)/1 -> 10 | G105: =MID(C105,SEARCH("DO",C105)+3,2)/1 -> 20 | H105: =1/10 -> 0.1 | I105: =VLOOKUP($D105&$E105&$F105&$H105,Materiały!$B:$K,2,0) -> OM-194-TYPA-003 | J105: =VLOOKUP($I105,Materiały!$C:$K,2,0) -> RĘK TYVEK-F P PLAZ 100M 100MM | K105: =VLOOKUP($D105&$E105&$F105&$H105,Materiały!$B:$K,7,0) -> 10000 | L105: =VLOOKUP($I105,Materiały!$C:$K,4,0) -> 90.02 | M105: =L105*(G105/K105) -> 0.18004
A106: Tyvek 12 x 20 | B106: UK-UKB-N020-002 | C106: STER NISKOT NARZ 1->4 W REK DO 20|12 | D106: PLAZMA | E106: RĘKAWY TYVEK | F106: =MID(C106,SEARCH("|",C106)+1,3)/1 -> 12 | G106: =MID(C106,SEARCH("DO",C106)+3,2)/1 -> 20 | H106: =1/10 -> 0.1 | I106: =VLOOKUP($D106&$E106&$F106&$H106,Materiały!$B:$K,2,0) -> #N/A | J106: =VLOOKUP($I106,Materiały!$C:$K,2,0) -> #N/A | K106: =VLOOKUP($D106&$E106&$F106&$H106,Materiały!$B:$K,7,0) -> #N/A | L106: =VLOOKUP($I106,Materiały!$C:$K,4,0) -> #N/A | M106: =(M107+M105)/2 -> 0.21808
A107: Tyvek 15 x 20 | B107: UK-UKB-N020-003 | C107: STER NISKOT NARZ 1->4 W REK DO 20|15 | D107: PLAZMA | E107: RĘKAWY TYVEK | F107: =MID(C107,SEARCH("|",C107)+1,3)/1 -> 15 | G107: =MID(C107,SEARCH("DO",C107)+3,2)/1 -> 20 | H107: =1/10 -> 0.1 | I107: =VLOOKUP($D107&$E107&$F107&$H107,Materiały!$B:$K,2,0) -> OM-194-TYPA-004 | J107: =VLOOKUP($I107,Materiały!$C:$K,2,0) -> RĘK TYVEK-F P PLAZ 100M 150MM | K107: =VLOOKUP($D107&$E107&$F107&$H107,Materiały!$B:$K,7,0) -> 10000 | L107: =VLOOKUP($I107,Materiały!$C:$K,4,0) -> 128.06 | M107: =L107*(G107/K107) -> 0.25612
A108: Tyvek 7,5 x 20 | B108: UK-UKB-N020-008 | C108: STER NISKOT NARZ 1->4 W REK DO 20|7,5 | D108: PLAZMA | E108: RĘKAWY TYVEK | F108: =MID(C108,SEARCH("|",C108)+1,3)/1 -> 7.5 | G108: =MID(C108,SEARCH("DO",C108)+3,2)/1 -> 20 | H108: =1/10 -> 0.1 | I108: =VLOOKUP($D108&$E108&$F108&$H108,Materiały!$B:$K,2,0) -> OM-194-TYPA-002 | J108: =VLOOKUP($I108,Materiały!$C:$K,2,0) -> RĘK TYVEK-F P PLAZ 100M 75MM | K108: =VLOOKUP($D108&$E108&$F108&$H108,Materiały!$B:$K,7,0) -> 10000 | L108: =VLOOKUP($I108,Materiały!$C:$K,4,0) -> 73.7 | M108: =L108*(G108/K108) -> 0.1474
A109: Tyvek 10 x 40 | B109: UK-UKB-N040-001 | C109: STER NISKOT NARZ 1->4 W REK DO 40|10 | D109: PLAZMA | E109: RĘKAWY TYVEK | F109: =MID(C109,SEARCH("|",C109)+1,3)/1 -> 10 | G109: =MID(C109,SEARCH("DO",C109)+3,2)/1 -> 40 | H109: =1/10 -> 0.1 | I109: =VLOOKUP($D109&$E109&$F109&$H109,Materiały!$B:$K,2,0) -> OM-194-TYPA-003 | J109: =VLOOKUP($I109,Materiały!$C:$K,2,0) -> RĘK TYVEK-F P PLAZ 100M 100MM | K109: =VLOOKUP($D109&$E109&$F109&$H109,Materiały!$B:$K,7,0) -> 10000 | L109: =VLOOKUP($I109,Materiały!$C:$K,4,0) -> 90.02 | M109: =L109*(G109/K109) -> 0.36008
A110: Tyvek 12 x 40 | B110: UK-UKB-N040-002 | C110: STER NISKOT NARZ 1->4 W REK DO 40|12 | D110: PLAZMA | E110: RĘKAWY TYVEK | F110: =MID(C110,SEARCH("|",C110)+1,3)/1 -> 12 | G110: =MID(C110,SEARCH("DO",C110)+3,2)/1 -> 40 | H110: =1/10 -> 0.1 | I110: =VLOOKUP($D110&$E110&$F110&$H110,Materiały!$B:$K,2,0) -> #N/A | J110: =VLOOKUP($I110,Materiały!$C:$K,2,0) -> #N/A | K110: =VLOOKUP($D110&$E110&$F110&$H110,Materiały!$B:$K,7,0) -> #N/A | L110: =VLOOKUP($I110,Materiały!$C:$K,4,0) -> #N/A | M110: =(M111+M109)/2 -> 0.43616
A111: Tyvek 15 x 40 | B111: UK-UKB-N040-003 | C111: STER NISKOT NARZ 1->4 W REK DO 40|15 | D111: PLAZMA | E111: RĘKAWY TYVEK | F111: =MID(C111,SEARCH("|",C111)+1,3)/1 -> 15 | G111: =MID(C111,SEARCH("DO",C111)+3,2)/1 -> 40 | H111: =1/10 -> 0.1 | I111: =VLOOKUP($D111&$E111&$F111&$H111,Materiały!$B:$K,2,0) -> OM-194-TYPA-004 | J111: =VLOOKUP($I111,Materiały!$C:$K,2,0) -> RĘK TYVEK-F P PLAZ 100M 150MM | K111: =VLOOKUP($D111&$E111&$F111&$H111,Materiały!$B:$K,7,0) -> 10000 | L111: =VLOOKUP($I111,Materiały!$C:$K,4,0) -> 128.06 | M111: =L111*(G111/K111) -> 0.51224
A112: Tyvek 20 x 40 | B112: UK-UKB-N040-004 | C112: STER NISKOT NARZ 1->4 W REK DO 40|20 | D112: PLAZMA | E112: RĘKAWY TYVEK | F112: =MID(C112,SEARCH("|",C112)+1,3)/1 -> 20 | G112: =MID(C112,SEARCH("DO",C112)+3,2)/1 -> 40 | H112: =1/10 -> 0.1 | I112: =VLOOKUP($D112&$E112&$F112&$H112,Materiały!$B:$K,2,0) -> OM-194-TYPA-005 | J112: =VLOOKUP($I112,Materiały!$C:$K,2,0) -> RĘK TYVEK-F P PLAZ 100M 200MM | K112: =VLOOKUP($D112&$E112&$F112&$H112,Materiały!$B:$K,7,0) -> 10000 | L112: =VLOOKUP($I112,Materiały!$C:$K,4,0) -> 169.54 | M112: =L112*(G112/K112) -> 0.67816
A113: Tyvek 25 x 40 | B113: UK-UKB-N040-005 | C113: STER NISKOT NARZ 1->4 W REK DO 40|25 | D113: PLAZMA | E113: RĘKAWY TYVEK | F113: =MID(C113,SEARCH("|",C113)+1,3)/1 -> 25 | G113: =MID(C113,SEARCH("DO",C113)+3,2)/1 -> 40 | H113: =1/10 -> 0.1 | I113: =VLOOKUP($D113&$E113&$F113&$H113,Materiały!$B:$K,2,0) -> OM-194-TYPA-006 | J113: =VLOOKUP($I113,Materiały!$C:$K,2,0) -> RĘK TYVEK-F P PLAZ 100M 250MM | K113: =VLOOKUP($D113&$E113&$F113&$H113,Materiały!$B:$K,7,0) -> 10000 | L113: =VLOOKUP($I113,Materiały!$C:$K,4,0) -> 220.21 | M113: =L113*(G113/K113) -> 0.88084
A114: Tyvek 32 x 40 | B114: UK-UKB-N040-006 | C114: STER NISKOT NARZ 1->4 W REK DO 40|32 | D114: PLAZMA | E114: RĘKAWY TYVEK | F114: =MID(C114,SEARCH("|",C114)+1,3)/1 -> 32 | G114: =MID(C114,SEARCH("DO",C114)+3,2)/1 -> 40 | H114: =1/10 -> 0.1 | I114: =VLOOKUP($D114&$E114&$F114&$H114,Materiały!$B:$K,2,0) -> #N/A | J114: =VLOOKUP($I114,Materiały!$C:$K,2,0) -> #N/A | K114: =VLOOKUP($D114&$E114&$F114&$H114,Materiały!$B:$K,7,0) -> #N/A | L114: =VLOOKUP($I114,Materiały!$C:$K,4,0) -> #N/A | M114: =(M115+M113)/2 -> 1.18604
...

Sheet Relacje objętości
R1: formułami z wizji lokalnej | X1: formułami z wizji lokalnej | AD1: obj dla 70% z 60x30x30
R2: formułami z wizji lokalnej | X2: ekstrapolacja z 5 na 23 dni | AD2: =60*30*30*0.7 -> 37800
A3: Indeks Oracle | B3: Opis Oracle | C3: Długość | D3: Szerokość | E3: Wysokość | F3: Objętość w cm3 | G3: Relacja objętości do najmniejszego | H3: Relacja objętości do mniejszego | I3: Relacja objętości do największego | K3: Cena do Miejskiego | L3: Relacja cenowa do największego | N3: kod | O3: Grupa cenowa | P3: Indeks Oracle | Q3: Opis Oracle | R3: ile w STE (ICZMP) | S3: ile w STE (model wg CiTo) | T3: Długość (cm) | U3: Szerokość (cm) | V3: Wysokość (cm) | W3: Objętość w cm3 | X3: ilosc produktow w mies | Y3: STE w mies | Z3: śr waż liczba w STE | AD3: ile w STE (wg rozm opakowań) | AG3: CiLo Wysokość (cm)
A4: UK-UKB-0020-001 | B4: STER PARA NARZ 1->4 W REK DO 20|7,5 | C4: 20 | D4: 7.5 | E4: 3 | F4: =C4*D4*E4 -> 450 | I4: =F$23/F4 -> 16.8 | K4: =SUMIF('Umowa Miejski'!H:H,'Relacje objętości'!A4,'Umowa Miejski'!K:K) -> 1.8 | L4: =K$23/K4 -> 18.333333 | N4: =O4&P4 -> BIE 1/1UK-UKA-ST10-001 | O4: BIE 1/1 | P4: UK-UKA-ST10-001 | Q4: STER PARA BIELIZNA 1 STE | R4: 0 | S4: 1 | W4: =T4*U4*V4 -> 0 | X4: 0 | Y4: =IFERROR(X4/R4,0) -> 0 | AD4: =1/1 -> 1
A5: UK-UKB-0020-002 | B5: STER PARA NARZ 1->4 W REK DO 20|10 | C5: 20 | D5: 10 | E5: =E4 -> 3 | F5: =C5*D5*E5 -> 600 | G5: =F5/F$4 -> 1.3333333 | H5: =F5/F4 -> 1.3333333 | I5: =F$23/F5 -> 12.6 | K5: =SUMIF('Umowa Miejski'!H:H,'Relacje objętości'!A5,'Umowa Miejski'!K:K) -> 2.6 | L5: =K$23/K5 -> 12.692308 | N5: =O5&P5 -> BIE 1/2UK-UKA-ST12-001 | O5: BIE 1/2 | P5: UK-UKA-ST12-001 | Q5: STER PARA BIELIZNA 1/2 STE | R5: 0 | S5: 2 | W5: =T5*U5*V5 -> 0 | X5: 0 | Y5: =IFERROR(X5/R5,0) -> 0 | AD5: =2/1 -> 2
A6: UK-UKB-0020-003 | B6: STER PARA NARZ 1->4 W REK DO 20|12 | C6: 20 | D6: 12 | E6: =E5 -> 3 | F6: =C6*D6*E6 -> 720 | G6: =F6/F$4 -> 1.6 | H6: =F6/F5 -> 1.2 | I6: =F$23/F6 -> 10.5 | K6: =SUMIF('Umowa Miejski'!H:H,'Relacje objętości'!A6,'Umowa Miejski'!K:K) -> 3.3 | L6: =K$23/K6 -> 10 | N6: =O6&P6 -> BIE 1/4UK-UKA-ST14-001 | O6: BIE 1/4 | P6: UK-UKA-ST14-001 | Q6: STER PARA BIELIZNA 1/4 STE | R6: 0 | S6: 4 | W6: =T6*U6*V6 -> 0 | X6: 0 | Y6: =IFERROR(X6/R6,0) -> 0 | AD6: =4/1 -> 4
A7: UK-UKB-0020-004 | B7: STER PARA NARZ 1->4 W REK DO 20|15 | C7: 20 | D7: 15 | E7: =E6 -> 3 | F7: =C7*D7*E7 -> 900 | G7: =F7/F$4 -> 2 | H7: =F7/F6 -> 1.25 | I7: =F$23/F7 -> 8.4 | K7: =SUMIF('Umowa Miejski'!H:H,'Relacje objętości'!A7,'Umowa Miejski'!K:K) -> 4.1 | L7: =K$23/K7 -> 8.0487805 | N7: =O7&P7 -> BIE 1/6UK-UKA-ST16-001 | O7: BIE 1/6 | P7: UK-UKA-ST16-001 | Q7: STER PARA BIELIZNA 1/6 STE | R7: 0 | S7: 6 | W7: =T7*U7*V7 -> 0 | X7: 0 | Y7: =IFERROR(X7/R7,0) -> 0 | AD7: =6/1 -> 6
A8: UK-UKB-0040-001 | B8: STER PARA NARZ 1->4 W REK DO 40|7,5 | C8: 40 | D8: 7.5 | E8: =E7 -> 3 | F8: =C8*D8*E8 -> 900 | G8: =F8/F$4 -> 2 | H8: =F8/F7 -> 1 | I8: =F$23/F8 -> 8.4 | K8: =SUMIF('Umowa Miejski'!H:H,'Relacje objętości'!A8,'Umowa Miejski'!K:K) -> 2.95 | L8: =K$23/K8 -> 11.186441 | N8: =O8&P8 -> BIE 1/8UK-UKA-ST18-001 | O8: BIE 1/8 | P8: UK-UKA-ST18-001 | Q8: STER PARA BIELIZNA 1/8 STE | R8: 0 | S8: 8 | W8: =T8*U8*V8 -> 0 | X8: 0 | Y8: =IFERROR(X8/R8,0) -> 0 | AD8: =8/1 -> 8
A9: UK-UKB-0040-002 | B9: STER PARA NARZ 1->4 W REK DO 40|10 | C9: 40 | D9: 10 | E9: =E8 -> 3 | F9: =C9*D9*E9 -> 1200 | G9: =F9/F$4 -> 2.6666667 | H9: =F9/F8 -> 1.3333333 | I9: =F$23/F9 -> 6.3 | K9: =SUMIF('Umowa Miejski'!H:H,'Relacje objętości'!A9,'Umowa Miejski'!K:K) -> 3.81 | L9: =K$23/K9 -> 8.6614173 | N9: =O9&P9 -> BIE 3/4UK-UKA-ST34-001 | O9: BIE 3/4 | P9: UK-UKA-ST34-001 | Q9: STER PARA BIELIZNA 3/4 STE | R9: 0 | S9: 1.3333333 | W9: =T9*U9*V9 -> 0 | X9: 0 | Y9: =IFERROR(X9/R9,0) -> 0 | AD9: =4/3 -> 1.3333333
A10: UK-UKB-0040-003 | B10: STER PARA NARZ 1->4 W REK DO 40|12 | C10: 40 | D10: 12 | E10: =E9 -> 3 | F10: =C10*D10*E10 -> 1440 | G10: =F10/F$4 -> 3.2 | H10: =F10/F9 -> 1.2 | I10: =F$23/F10 -> 5.25 | K10: =SUMIF('Umowa Miejski'!H:H,'Relacje objętości'!A10,'Umowa Miejski'!K:K) -> 4.61 | L10: =K$23/K10 -> 7.1583514 | N10: =O10&P10 -> PA R 7,5 x 20UK-UKB-0020-001 | O10: PA R 7,5 x 20 | P10: UK-UKB-0020-001 | Q10: STER PARA NARZ 1->4 W REK DO 20|7,5 | R10: 124.86328 | S10: 18.333333 | T10: 20 | U10: 7.5 | V10: 2 | W10: =T10*U10*V10 -> 300 | X10: 1177.6 | Y10: =IFERROR(X10/R10,0) -> 9.4311153 | AD10: =$AD$2/W10 -> 126 | AE10: =SUMPRODUCT(R10:R13,X10:X13) -> 304681
A11: UK-UKB-0040-004 | B11: STER PARA NARZ 1->4 W REK DO 40|15 | C11: 40 | D11: 15 | E11: =E10 -> 3 | F11: =C11*D11*E11 -> 1800 | G11: =F11/F$4 -> 4 | H11: =F11/F10 -> 1.25 | I11: =F$23/F11 -> 4.2 | K11: =SUMIF('Umowa Miejski'!H:H,'Relacje objętości'!A11,'Umowa Miejski'!K:K) -> 5.99 | L11: =K$23/K11 -> 5.509182 | N11: =O11&P11 -> PA R 10 x 20UK-UKB-0020-002 | O11: PA R 10 x 20 | P11: UK-UKB-0020-002 | Q11: STER PARA NARZ 1->4 W REK DO 20|10 | R11: 159.54023 | S11: 12.692308 | T11: 20 | U11: 10 | V11: 2 | W11: =T11*U11*V11 -> 400 | X11: 800.4 | Y11: =IFERROR(X11/R11,0) -> 5.0169164 | AD11: =$AD$2/W11 -> 94.5 | AE11: =SUMPRODUCT(AD10:AD13,X10:X13) -> 275817.15
A12: UK-UKB-0040-005 | B12: STER PARA NARZ 1->4 W REK DO 40|20 | C12: 40 | D12: 20 | E12: =E11 -> 3 | F12: =C12*D12*E12 -> 2400 | G12: =F12/F$4 -> 5.3333333 | H12: =F12/F11 -> 1.3333333 | I12: =F$23/F12 -> 3.15 | K12: =SUMIF('Umowa Miejski'!H:H,'Relacje objętości'!A12,'Umowa Miejski'!K:K) -> 7.99 | L12: =K$23/K12 -> 4.1301627 | N12: =O12&P12 -> PA R 12 x 20UK-UKB-0020-003 | O12: PA R 12 x 20 | P12: UK-UKB-0020-003 | Q12: STER PARA NARZ 1->4 W REK DO 20|12 | R12: 45.524476 | S12: 10 | T12: 20 | U12: 12 | V12: 2 | W12: =T12*U12*V12 -> 480 | X12: 657.8 | Y12: =IFERROR(X12/R12,0) -> 14.44937 | AD12: =$AD$2/W12 -> 78.75 | AE12: =AE11-AE10 -> -28863.85
A13: UK-UKB-0040-006 | B13: STER PARA NARZ 1->4 W REK DO 40|25 | C13: 40 | D13: 25 | E13: =E12 -> 3 | F13: =C13*D13*E13 -> 3000 | G13: =F13/F$4 -> 6.6666667 | H13: =F13/F12 -> 1.25 | I13: =F$23/F13 -> 2.52 | K13: =SUMIF('Umowa Miejski'!H:H,'Relacje objętości'!A13,'Umowa Miejski'!K:K) -> 13.88 | L13: =K$23/K13 -> 2.3775216 | N13: =O13&P13 -> PA R 15 x 20UK-UKB-0020-004 | O13: PA R 15 x 20 | P13: UK-UKB-0020-004 | Q13: STER PARA NARZ 1->4 W REK DO 20|15 | R13: 0 | S13: 8.0487805 | T13: 20 | U13: 15 | V13: 2 | W13: =T13*U13*V13 -> 600 | X13: 0 | Y13: =IFERROR(X13/R13,0) -> 0 | AD13: =$AD$2/W13 -> 63
A14: UK-UKB-0040-007 | B14: STER PARA NARZ 1->4 W REK DO 40|32 | C14: 40 | D14: 32 | E14: =E13 -> 3 | F14: =C14*D14*E14 -> 3840 | G14: =F14/F$4 -> 8.5333333 | H14: =F14/F13 -> 1.28 | I14: =F$23/F14 -> 1.96875 | K14: =SUMIF('Umowa Miejski'!H:H,'Relacje objętości'!A14,'Umowa Miejski'!K:K) -> 16.99 | L14: =K$23/K14 -> 1.942319 | N14: =O14&P14 -> PA R 7,5 x 40UK-UKB-0040-001 | O14: PA R 7,5 x 40 | P14: UK-UKB-0040-001 | Q14: STER PARA NARZ 1->4 W REK DO 40|7,5 | R14: 102.78689 | S14: 11.186441 | T14: 40 | U14: 7.5 | V14: 2 | W14: =T14*U14*V14 -> 600 | X14: 280.6 | Y14: =IFERROR(X14/R14,0) -> 2.7299203 | Z14: =SUMPRODUCT(R$14:R$21,X$14:X$21)/SUMPRODUCT(X$14:X$21) -> 42.068834 | AA14: =$Z$14/AB14 -> 917.10057 | AB14: =W14/SUM(W$14:W$21) -> 0.04587156 | AC14: =SUMPRODUCT(W$14:W$21,X$14:X$21)/SUM(X$14:X$21) -> 1209.2161 | AD14: =$AD$2/W14 -> 63 | AE14: =SUMPRODUCT(R14:R21,X14:X21) -> 202418.4
A15: UK-UKB-0040-008 | B15: STER PARA NARZ 1->4 W REK DO 40|42 | C15: 40 | D15: 42 | E15: =E14 -> 3 | F15: =C15*D15*E15 -> 5040 | G15: =F15/F$4 -> 11.2 | H15: =F15/F14 -> 1.3125 | I15: =F$23/F15 -> 1.5 | K15: =SUMIF('Umowa Miejski'!H:H,'Relacje objętości'!A15,'Umowa Miejski'!K:K) -> 20.99 | L15: =K$23/K15 -> 1.5721772 | N15: =O15&P15 -> PA R 10 x 40UK-UKB-0040-002 | O15: PA R 10 x 40 | P15: UK-UKB-0040-002 | Q15: STER PARA NARZ 1->4 W REK DO 40|10 | R15: 47.096386 | S15: 8.6614173 | T15: 40 | U15: 10 | V15: 2 | W15: =T15*U15*V15 -> 800 | X15: 763.6 | Y15: =IFERROR(X15/R15,0) -> 16.213558 | Z15: =SUMPRODUCT(R$14:R$21,X$14:X$21,W$14:W$21)/SUMPRODUCT(X$14:X$21,W$14:W$21) -> 37.10901 | AA15: =$Z$14/AB15 -> 687.82543 | AB15: =W15/SUM(W$14:W$21) -> 0.06116208 | AC15: =SUMPRODUCT(W$14:W$21,X$14:X$21)/SUM(X$14:X$21) -> 1209.2161 | AD15: =$AD$2/W15 -> 47.25 | AE15: =SUMPRODUCT(AD14:AD21,X14:X21) -> 168953.4
A16: UK-UKB-0060-001 | B16: STER PARA NARZ 1->4 W REK DO 60|7,5 | C16: 60 | D16: 7.5 | E16: =E15 -> 3 | F16: =C16*D16*E16 -> 1350 | G16: =F16/F$4 -> 3 | H16: =F16/F15 -> 0.26785714 | I16: =F$23/F16 -> 5.6 | K16: =SUMIF('Umowa Miejski'!H:H,'Relacje objętości'!A16,'Umowa Miejski'!K:K) -> 4.33 | L16: =K$23/K16 -> 7.6212471 | N16: =O16&P16 -> PA R 12 x 40UK-UKB-0040-003 | O16: PA R 12 x 40 | P16: UK-UKB-0040-003 | Q16: STER PARA NARZ 1->4 W REK DO 40|12 | R16: 50.428571 | S16: 7.1583514 | T16: 40 | U16: 12 | V16: 2 | W16: =T16*U16*V16 -> 960 | X16: 1352.4 | Y16: =IFERROR(X16/R16,0) -> 26.81813 | AA16: =$Z$14/AB16 -> 573.18786 | AB16: =W16/SUM(W$14:W$21) -> 0.073394495 | AC16: =SUMPRODUCT(W$14:W$21,X$14:X$21)/SUM(X$14:X$21) -> 1209.2161 | AD16: =$AD$2/W16 -> 39.375 | AE16: =AE15-AE14 -> -33465
A17: UK-UKB-0060-002 | B17: STER PARA NARZ 1->4 W REK DO 60|10 | C17: 60 | D17: 10 | E17: =E16 -> 3 | F17: =C17*D17*E17 -> 1800 | G17: =F17/F$4 -> 4 | H17: =F17/F16 -> 1.3333333 | I17: =F$23/F17 -> 4.2 | K17: =SUMIF('Umowa Miejski'!H:H,'Relacje objętości'!A17,'Umowa Miejski'!K:K) -> 5.89 | L17: =K$23/K17 -> 5.6027165 | N17: =O17&P17 -> PA R 15 x 40UK-UKB-0040-004 | O17: PA R 15 x 40 | P17: UK-UKB-0040-004 | Q17: STER PARA NARZ 1->4 W REK DO 40|15 | R17: 33.801688 | S17: 5.509182 | T17: 40 | U17: 15 | V17: 2 | W17: =T17*U17*V17 -> 1200 | X17: 1090.2 | Y17: =IFERROR(X17/R17,0) -> 32.252827 | AA17: =$Z$14/AB17 -> 458.55029 | AB17: =W17/SUM(W$14:W$21) -> 0.091743119 | AC17: =SUMPRODUCT(W$14:W$21,X$14:X$21)/SUM(X$14:X$21) -> 1209.2161 | AD17: =$AD$2/W17 -> 31.5
A18: UK-UKB-0060-003 | B18: STER PARA NARZ 1->4 W REK DO 60|12 | C18: 60 | D18: 12 | E18: =E17 -> 3 | F18: =C18*D18*E18 -> 2160 | G18: =F18/F$4 -> 4.8 | H18: =F18/F17 -> 1.2 | I18: =F$23/F18 -> 3.5 | K18: =SUMIF('Umowa Miejski'!H:H,'Relacje objętości'!A18,'Umowa Miejski'!K:K) -> 6.99 | L18: =K$23/K18 -> 4.72103 | N18: =O18&P18 -> PA R 20 x 40UK-UKB-0040-005 | O18: PA R 20 x 40 | P18: UK-UKB-0040-005 | Q18: STER PARA NARZ 1->4 W REK DO 40|20 | R18: 22.957627 | S18: 4.1301627 | T18: 40 | U18: 20 | V18: 2 | W18: =T18*U18*V18 -> 1600 | X18: 542.8 | Y18: =IFERROR(X18/R18,0) -> 23.643559 | AA18: =$Z$14/AB18 -> 343.91272 | AB18: =W18/SUM(W$14:W$21) -> 0.12232416 | AC18: =SUMPRODUCT(W$14:W$21,X$14:X$21)/SUM(X$14:X$21) -> 1209.2161 | AD18: =$AD$2/W18 -> 23.625
A19: UK-UKB-0060-004 | B19: STER PARA NARZ 1->4 W REK DO 60|15 | C19: 60 | D19: 15 | E19: =E18 -> 3 | F19: =C19*D19*E19 -> 2700 | G19: =F19/F$4 -> 6 | H19: =F19/F18 -> 1.25 | I19: =F$23/F19 -> 2.8 | K19: =SUMIF('Umowa Miejski'!H:H,'Relacje objętości'!A19,'Umowa Miejski'!K:K) -> 8.66 | L19: =K$23/K19 -> 3.8106236 | N19: =O19&P19 -> PA R 25 x 40UK-UKB-0040-006 | O19: PA R 25 x 40 | P19: UK-UKB-0040-006 | Q19: STER PARA NARZ 1->4 W REK DO 40|25 | R19: 25.705882 | S19: 2.3775216 | T19: 40 | U19: 25 | V19: 2 | W19: =T19*U19*V19 -> 2000 | X19: 782 | Y19: =IFERROR(X19/R19,0) -> 30.421053 | AA19: =$Z$14/AB19 -> 275.13017 | AB19: =W19/SUM(W$14:W$21) -> 0.1529052 | AC19: =SUMPRODUCT(W$14:W$21,X$14:X$21)/SUM(X$14:X$21) -> 1209.2161 | AD19: =$AD$2/W19 -> 18.9
A20: UK-UKB-0060-005 | B20: STER PARA NARZ 1->4 W REK DO 60|20 | C20: 60 | D20: 20 | E20: =E19 -> 3 | F20: =C20*D20*E20 -> 3600 | G20: =F20/F$4 -> 8 | H20: =F20/F19 -> 1.3333333 | I20: =F$23/F20 -> 2.1 | K20: =SUMIF('Umowa Miejski'!H:H,'Relacje objętości'!A20,'Umowa Miejski'!K:K) -> 10.99 | L20: =K$23/K20 -> 3.0027298 | N20: =O20&P20 -> PA R 32 x 40UK-UKB-0040-007 | O20: PA R 32 x 40 | P20: UK-UKB-0040-007 | Q20: STER PARA NARZ 1->4 W REK DO 40|32 | R20: 0 | S20: 1.942319 | T20: 40 | U20: 32 | V20: 2 | W20: =T20*U20*V20 -> 2560 | X20: 0 | Y20: =IFERROR(X20/R20,0) -> 0 | AA20: =$Z$14/AB20 -> 214.94545 | AB20: =W20/SUM(W$14:W$21) -> 0.19571865 | AC20: =SUMPRODUCT(W$14:W$21,X$14:X$21)/SUM(X$14:X$21) -> 1209.2161 | AD20: =$AD$2/W20 -> 14.765625
A21: UK-UKB-0060-006 | B21: STER PARA NARZ 1->4 W REK DO 60|25 | C21: 60 | D21: 25 | E21: =E20 -> 3 | F21: =C21*D21*E21 -> 4500 | G21: =F21/F$4 -> 10 | H21: =F21/F20 -> 1.25 | I21: =F$23/F21 -> 1.68 | K21: =SUMIF('Umowa Miejski'!H:H,'Relacje objętości'!A21,'Umowa Miejski'!K:K) -> 14.6 | L21: =K$23/K21 -> 2.260274 | N21: =O21&P21 -> PA R 42 x 40UK-UKB-0040-008 | O21: PA R 42 x 40 | P21: UK-UKB-0040-008 | Q21: STER PARA NARZ 1->4 W REK DO 40|42 | R21: 0 | S21: 1.5721772 | T21: 40 | U21: 42 | V21: 2 | W21: =T21*U21*V21 -> 3360 | X21: 0 | Y21: =IFERROR(X21/R21,0) -> 0 | AA21: =$Z$14/AB21 -> 163.76796 | AB21: =W21/SUM(W$14:W$21) -> 0.25688073 | AC21: =SUMPRODUCT(W$14:W$21,X$14:X$21)/SUM(X$14:X$21) -> 1209.2161 | AD21: =$AD$2/W21 -> 11.25
A22: UK-UKB-0060-007 | B22: STER PARA NARZ 1->4 W REK DO 60|32 | C22: 60 | D22: 32 | E22: =E21 -> 3 | F22: =C22*D22*E22 -> 5760 | G22: =F22/F$4 -> 12.8 | H22: =F22/F21 -> 1.28 | I22: =F$23/F22 -> 1.3125 | K22: =SUMIF('Umowa Miejski'!H:H,'Relacje objętości'!A22,'Umowa Miejski'!K:K) -> 25.5 | L22: =K$23/K22 -> 1.2941176 | N22: =O22&P22 -> PA R 7,5 x 60UK-UKB-0060-001 | O22: PA R 7,5 x 60 | P22: UK-UKB-0060-001 | Q22: STER PARA NARZ 1->4 W REK DO 60|7,5 | R22: 45.9375 | S22: 7.6212471 | T22: 60 | U22: 7.5 | V22: 2 | W22: =T22*U22*V22 -> 900 | X22: 147.2 | Y22: =IFERROR(X22/R22,0) -> 3.2043537 | AD22: =$AD$2/W22 -> 42 | AE22: =SUMPRODUCT(R22:R29,X22:X29) -> 42324.6
A23: UK-UKB-0060-008 | B23: STER PARA NARZ 1->4 W REK DO 60|42 | C23: 60 | D23: 42 | E23: =E22 -> 3 | F23: =C23*D23*E23 -> 7560 | G23: =F23/F$4 -> 16.8 | H23: =F23/F22 -> 1.3125 | I23: 1 | K23: =SUMIF('Umowa Miejski'!H:H,'Relacje objętości'!A23,'Umowa Miejski'!K:K) -> 33 | L23: 1 | N23: =O23&P23 -> PA R 10 x 60UK-UKB-0060-002 | O23: PA R 10 x 60 | P23: UK-UKB-0060-002 | Q23: STER PARA NARZ 1->4 W REK DO 60|10 | R23: 10.090909 | S23: 5.6027165 | T23: 60 | U23: 10 | V23: 2 | W23: =T23*U23*V23 -> 1200 | X23: 50.6 | Y23: =IFERROR(X23/R23,0) -> 5.0144144 | AD23: =$AD$2/W23 -> 31.5 | AE23: =SUMPRODUCT(AD22:AD29,X22:X29) -> 41473.054
N24: =O24&P24 -> PA R 12 x 60UK-UKB-0060-003 | O24: PA R 12 x 60 | P24: UK-UKB-0060-003 | Q24: STER PARA NARZ 1->4 W REK DO 60|12 | R24: 27.777778 | S24: 4.72103 | T24: 60 | U24: 12 | V24: 2 | W24: =T24*U24*V24 -> 1440 | X24: 82.8 | Y24: =IFERROR(X24/R24,0) -> 2.9808 | AD24: =$AD$2/W24 -> 26.25 | AE24: =AE23-AE22 -> -851.54625
A25: UK-UKB-A040-104 | B25: AUTOMATYCZNA DEZYNFEKCJA NARZĘDZI W RĘKAWIE DO 40|7,5 | C25: 40 | D25: 7.5 | E25: =E23 -> 3 | F25: =C25*D25*E25 -> 900 | I25: 1 | K25: =SUMIF('Umowa Miejski'!H:H,'Relacje objętości'!A25,'Umowa Miejski'!K:K) -> 1.54 | L25: =L8 -> 11.186441 | N25: =O25&P25 -> PA R 15 x 60UK-UKB-0060-004 | O25: PA R 15 x 60 | P25: UK-UKB-0060-004 | Q25: STER PARA NARZ 1->4 W REK DO 60|15 | R25: 24.489583 | S25: 3.8106236 | T25: 60 | U25: 15 | V25: 2 | W25: =T25*U25*V25 -> 1800 | X25: 441.6 | Y25: =IFERROR(X25/R25,0) -> 18.032157 | AD25: =$AD$2/W25 -> 21
A26: UK-UKB-A040-105 | B26: AUTOMATYCZNA DEZYNFEKCJA NARZĘDZI W RĘKAWIE DO 40|10 | C26: 40 | D26: 10 | E26: =E25 -> 3 | F26: =C26*D26*E26 -> 1200 | G26: =F26/F$4 -> 2.6666667 | H26: =F26/F25 -> 1.3333333 | I26: 1 | K26: =SUMIF('Umowa Miejski'!H:H,'Relacje objętości'!A26,'Umowa Miejski'!K:K) -> 1.92 | L26: =L9 -> 8.6614173 | N26: =O26&P26 -> PA R 20 x 60UK-UKB-0060-005 | O26: PA R 20 x 60 | P26: UK-UKB-0060-005 | Q26: STER PARA NARZ 1->4 W REK DO 60|20 | R26: 14.405172 | S26: 3.0027298 | T26: 60 | U26: 20 | V26: 2 | W26: =T26*U26*V26 -> 2400 | X26: 533.6 | Y26: =IFERROR(X26/R26,0) -> 37.04225 | AD26: =$AD$2/W26 -> 15.75
A27: UK-UKB-A040-102 | B27: AUTOMATYCZNA DEZYNFEKCJA NARZĘDZI W RĘKAWIE DO 40|12 | C27: 40 | D27: 12 | E27: =E25 -> 3 | F27: =C27*D27*E27 -> 1440 | G27: =F27/F$4 -> 3.2 | H27: =F27/F26 -> 1.2 | I27: 1 | K27: =SUMIF('Umowa Miejski'!H:H,'Relacje objętości'!A27,'Umowa Miejski'!K:K) -> 2.41 | L27: =L10 -> 7.1583514 | N27: =O27&P27 -> PA R 25 x 60UK-UKB-0060-006 | O27: PA R 25 x 60 | P27: UK-UKB-0060-006 | Q27: STER PARA NARZ 1->4 W REK DO 60|25 | R27: 14.60241 | S27: 2.260274 | T27: 60 | U27: 25 | V27: 2 | W27: =T27*U27*V27 -> 3000 | X27: 763.6 | Y27: =IFERROR(X27/R27,0) -> 52.292739 | AD27: =$AD$2/W27 -> 12.6
A28: UK-UKB-A040-106 | B28: AUTOMATYCZNA DEZYNFEKCJA NARZĘDZI W RĘKAWIE DO 40|15 | C28: 40 | D28: 15 | E28: =E26 -> 3 | F28: =C28*D28*E28 -> 1800 | G28: =F28/F$4 -> 4 | H28: =F28/F26 -> 1.5 | I28: 1 | K28: =SUMIF('Umowa Miejski'!H:H,'Relacje objętości'!A28,'Umowa Miejski'!K:K) -> 3.02 | L28: =L11 -> 5.509182 | N28: =O28&P28 -> PA R 32 x 60UK-UKB-0060-007 | O28: PA R 32 x 60 | P28: UK-UKB-0060-007 | Q28: STER PARA NARZ 1->4 W REK DO 60|32 | R28: 2.7118644 | S28: 1.2941176 | T28: 60 | U28: 32 | V28: 2 | W28: =T28*U28*V28 -> 3840 | X28: 271.4 | Y28: =IFERROR(X28/R28,0) -> 100.07875 | AD28: =$AD$2/W28 -> 9.84375
A29: UK-UKB-A040-107 | B29: AUTOMATYCZNA DEZYNFEKCJA NARZĘDZI W RĘKAWIE DO 40|20 | C29: 40 | D29: 20 | E29: =E28 -> 3 | F29: =C29*D29*E29 -> 2400 | G29: =F29/F$4 -> 5.3333333 | H29: =F29/F28 -> 1.3333333 | I29: 1 | K29: =SUMIF('Umowa Miejski'!H:H,'Relacje objętości'!A29,'Umowa Miejski'!K:K) -> 4.05 | L29: =L12 -> 4.1301627 | N29: =O29&P29 -> PA R 42 x 60UK-UKB-0060-008 | O29: PA R 42 x 60 | P29: UK-UKB-0060-008 | Q29: STER PARA NARZ 1->4 W REK DO 60|42 | R29: 11.422222 | S29: 1 | T29: 60 | U29: 42 | V29: 2 | W29: =T29*U29*V29 -> 5040 | X29: 207 | Y29: =IFERROR(X29/R29,0) -> 18.122568 | AD29: =$AD$2/W29 -> 7.5
A30: UK-UKB-A040-103 | B30: AUTOMATYCZNA DEZYNFEKCJA NARZĘDZI W RĘKAWIE DO 40|25 | C30: 40 | D30: 25 | E30: =E29 -> 3 | F30: =C30*D30*E30 -> 3000 | G30: =F30/F$4 -> 6.6666667 | H30: =F30/F29 -> 1.25 | I30: 1 | K30: =SUMIF('Umowa Miejski'!H:H,'Relacje objętości'!A30,'Umowa Miejski'!K:K) -> 6.93 | L30: =L13 -> 2.3775216 | N30: =O30&P30 -> PA P ≤10UK-UKB-WB10-001 | O30: PA P ≤10 | P30: UK-UKB-WB10-001 | Q30: STER PARA, <10 NARZ, BLOK OP. | R30: 5.037037 | S30: 8 | W30: =T30*U30*V30 -> 0 | X30: 745.2 | Y30: =IFERROR(X30/R30,0) -> 147.94412 | AD30: =R30 -> 5.037037
A31: UK-UKB-A040-108 | B31: AUTOMATYCZNA DEZYNFEKCJA NARZĘDZI W RĘKAWIE DO 40|32 | C31: 40 | D31: 32 | E31: =E29 -> 3 | F31: =C31*D31*E31 -> 3840 | G31: =F31/F$4 -> 8.5333333 | H31: =F31/F29 -> 1.6 | I31: 1 | K31: =SUMIF('Umowa Miejski'!H:H,'Relacje objętości'!A31,'Umowa Miejski'!K:K) -> 8.78 | L31: =L14 -> 1.942319 | N31: =O31&P31 -> PA P ≤30UK-UKB-WB30-001 | O31: PA P ≤30 | P31: UK-UKB-WB30-001 | Q31: STER PARA, <30 NARZ, BLOK OP. | R31: 4.456 | S31: 6 | W31: =T31*U31*V31 -> 0 | X31: 1150 | Y31: =IFERROR(X31/R31,0) -> 258.07899 | AD31: =R31 -> 4.456
A32: UK-UKB-A040-109 | B32: AUTOMATYCZNA DEZYNFEKCJA NARZĘDZI W RĘKAWIE DO 40|42 | C32: 40 | D32: 42 | E32: =E31 -> 3 | F32: =C32*D32*E32 -> 5040 | G32: =F32/F$4 -> 11.2 | H32: =F32/F31 -> 1.3125 | I32: 1 | K32: =SUMIF('Umowa Miejski'!H:H,'Relacje objętości'!A32,'Umowa Miejski'!K:K) -> 11.54 | L32: =L15 -> 1.5721772 | N32: =O32&P32 -> PA P ≤50UK-UKB-WB50-001 | O32: PA P ≤50 | P32: UK-UKB-WB50-001 | Q32: STER PARA, <50 NARZ, BLOK OP. | R32: 3.2924528 | S32: 4 | W32: =T32*U32*V32 -> 0 | X32: 975.2 | Y32: =IFERROR(X32/R32,0) -> 296.19255 | AD32: =R32 -> 3.2924528
N33: =O33&P33 -> PA P ≤70UK-UKB-WB70-001 | O33: PA P ≤70 | P33: UK-UKB-WB70-001 | Q33: STER PARA, <70 NARZ, BLOK OP. | R33: 1.3177966 | S33: 2 | W33: =T33*U33*V33 -> 0 | X33: 271.4 | Y33: =IFERROR(X33/R33,0) -> 205.94984 | AD33: =R33 -> 1.3177966
A34: UK-UKB-N020-008 | B34: STER NISKOT NARZ 1->4 W REK DO 20|7,5 | C34: 20 | D34: 7.5 | E34: 3 | F34: =C34*D34*E34 -> 450 | I34: =F$53/F34 -> 16.8 | K34: =SUMIF('Umowa Miejski'!H:H,'Relacje objętości'!A34,'Umowa Miejski'!K:K) -> 3.1 | L34: =K$53/K34 -> 23.225806 | N34: =O34&P34 -> PA P ≤90UK-UKB-WB90-001 | O34: PA P ≤90 | P34: UK-UKB-WB90-001 | Q34: STER PARA, <90 NARZ, BLOK OP. | R34: 1.2631579 | S34: 1.3333333 | W34: =T34*U34*V34 -> 0 | X34: 262.2 | Y34: =IFERROR(X34/R34,0) -> 207.575 | AD34: =R34 -> 1.2631579
A35: UK-UKB-N020-001 | B35: STER NISKOT NARZ 1->4 W REK DO 20|10 | C35: 20 | D35: 10 | E35: =E34 -> 3 | F35: =C35*D35*E35 -> 600 | G35: =F35/F$34 -> 1.3333333 | H35: =F35/F34 -> 1.3333333 | I35: =F$53/F35 -> 12.6 | K35: =SUMIF('Umowa Miejski'!H:H,'Relacje objętości'!A35,'Umowa Miejski'!K:K) -> 4.3 | L35: =K$53/K35 -> 16.744186 | N35: =O35&P35 -> PA P >90UK-UKB-WB91-001 | O35: PA P >90 | P35: UK-UKB-WB91-001 | Q35: STER PARA, >91 NARZ, BLOK OP. | R35: 1.2727273 | S35: 1 | W35: =T35*U35*V35 -> 0 | X35: 151.8 | Y35: =IFERROR(X35/R35,0) -> 119.27143 | AD35: =R35 -> 1.2727273
A36: UK-UKB-N020-002 | B36: STER NISKOT NARZ 1->4 W REK DO 20|12 | C36: 20 | D36: 12 | E36: =E35 -> 3 | F36: =C36*D36*E36 -> 720 | G36: =F36/F$34 -> 1.6 | H36: =F36/F35 -> 1.2 | I36: =F$53/F36 -> 10.5 | K36: =SUMIF('Umowa Miejski'!H:H,'Relacje objętości'!A36,'Umowa Miejski'!K:K) -> 5.5 | L36: =K$53/K36 -> 13.090909 | N36: =O36&P36 -> PA P =50 | O36: PA P =50 | Q36: STER PARA, =50 NARZ, BLOK OP. | R36: 0 | S36: 4 | W36: =T36*U36*V36 -> 0 | X36: 0 | Y36: =IFERROR(X36/R36,0) -> 0 | AD36: =R32*50/50 -> 3.2924528
A37: UK-UKB-N020-003 | B37: STER NISKOT NARZ 1->4 W REK DO 20|15 | C37: 20 | D37: 15 | E37: =E36 -> 3 | F37: =C37*D37*E37 -> 900 | G37: =F37/F$34 -> 2 | H37: =F37/F36 -> 1.25 | I37: =F$53/F37 -> 8.4 | K37: =SUMIF('Umowa Miejski'!H:H,'Relacje objętości'!A37,'Umowa Miejski'!K:K) -> 6.2 | L37: =K$53/K37 -> 11.612903 | N37: =O37&P37 -> PA P =55 | O37: PA P =55 | Q37: STER PARA, =55 NARZ, BLOK OP. | R37: 0 | S37: 3.6363636 | W37: =T37*U37*V37 -> 0 | X37: 0 | Y37: =IFERROR(X37/R37,0) -> 0 | AD37: =R32*50/55 -> 2.9931389
A38: UK-UKB-N040-008 | B38: STER NISKOT NARZ 1->4 W REK DO 40|7,5 | C38: 40 | D38: 7.5 | E38: =E37 -> 3 | F38: =C38*D38*E38 -> 900 | G38: =F38/F$34 -> 2 | H38: =F38/F37 -> 1 | I38: =F$53/F38 -> 8.4 | K38: =SUMIF('Umowa Miejski'!H:H,'Relacje objętości'!A38,'Umowa Miejski'!K:K) -> 4.8 | L38: =K$53/K38 -> 15 | N38: =O38&P38 -> PA P =80 | O38: PA P =80 | Q38: STER PARA, =80 NARZ, BLOK OP. | R38: 0 | S38: 2.5 | W38: =T38*U38*V38 -> 0 | X38: 0 | Y38: =IFERROR(X38/R38,0) -> 0 | AD38: =R32*50/80 -> 2.057783
A39: UK-UKB-N040-001 | B39: STER NISKOT NARZ 1->4 W REK DO 40|10 | C39: 40 | D39: 10 | E39: =E38 -> 3 | F39: =C39*D39*E39 -> 1200 | G39: =F39/F$34 -> 2.6666667 | H39: =F39/F38 -> 1.3333333 | I39: =F$53/F39 -> 6.3 | K39: =SUMIF('Umowa Miejski'!H:H,'Relacje objętości'!A39,'Umowa Miejski'!K:K) -> 6.25 | L39: =K$53/K39 -> 11.52 | N39: =O39&P39 -> PA P ≤10 ONUK-UKB-WR10-001 | O39: PA P ≤10 ON | P39: UK-UKB-WR10-001 | Q39: STER PARA, <10 NARZ, BLOK OP. ORT i NEUR | R39: 0 | S39: 8 | W39: =T39*U39*V39 -> 0 | X39: 0 | Y39: =IFERROR(X39/R39,0) -> 0 | AD39: =R30 -> 5.037037
A40: UK-UKB-N040-002 | B40: STER NISKOT NARZ 1->4 W REK DO 40|12 | C40: 40 | D40: 12 | E40: =E39 -> 3 | F40: =C40*D40*E40 -> 1440 | G40: =F40/F$34 -> 3.2 | H40: =F40/F39 -> 1.2 | I40: =F$53/F40 -> 5.25 | K40: =SUMIF('Umowa Miejski'!H:H,'Relacje objętości'!A40,'Umowa Miejski'!K:K) -> 7.44 | L40: =K$53/K40 -> 9.6774194 | N40: =O40&P40 -> PA P ≤30 ONUK-UKB-WR30-001 | O40: PA P ≤30 ON | P40: UK-UKB-WR30-001 | Q40: STER PARA, <30 NARZ, BLOK OP. ORT i NEUR | R40: 0 | S40: 6 | W40: =T40*U40*V40 -> 0 | X40: 0 | Y40: =IFERROR(X40/R40,0) -> 0 | AD40: =R31 -> 4.456
A41: UK-UKB-N040-003 | B41: STER NISKOT NARZ 1->4 W REK DO 40|15 | C41: 40 | D41: 15 | E41: =E40 -> 3 | F41: =C41*D41*E41 -> 1800 | G41: =F41/F$34 -> 4 | H41: =F41/F40 -> 1.25 | I41: =F$53/F41 -> 4.2 | K41: =SUMIF('Umowa Miejski'!H:H,'Relacje objętości'!A41,'Umowa Miejski'!K:K) -> 9.3 | L41: =K$53/K41 -> 7.7419355 | N41: =O41&P41 -> PA P ≤50 ONUK-UKB-WR50-001 | O41: PA P ≤50 ON | P41: UK-UKB-WR50-001 | Q41: STER PARA, <50 NARZ, BLOK OP. ORT i NEUR | R41: 0 | S41: 4 | W41: =T41*U41*V41 -> 0 | X41: 0 | Y41: =IFERROR(X41/R41,0) -> 0 | AD41: =R32 -> 3.2924528
A42: UK-UKB-N040-004 | B42: STER NISKOT NARZ 1->4 W REK DO 40|20 | C42: 40 | D42: 20 | E42: =E41 -> 3 | F42: =C42*D42*E42 -> 2400 | G42: =F42/F$34 -> 5.3333333 | H42: =F42/F41 -> 1.3333333 | I42: =F$53/F42 -> 3.15 | K42: =SUMIF('Umowa Miejski'!H:H,'Relacje objętości'!A42,'Umowa Miejski'!K:K) -> 13.1 | L42: =K$53/K42 -> 5.4961832 | N42: =O42&P42 -> PA P ≤70 ONUK-UKB-WR70-001 | O42: PA P ≤70 ON | P42: UK-UKB-WR70-001 | Q42: STER PARA, <70 NARZ, BLOK OP. ORT i NEUR | R42: 0 | S42: 2 | W42: =T42*U42*V42 -> 0 | X42: =6*23 -> 138 | Y42: =IFERROR(X42/R42,0) -> 0 | AD42: =R33 -> 1.3177966
A43: UK-UKB-N040-005 | B43: STER NISKOT NARZ 1->4 W REK DO 40|25 | C43: 40 | D43: 25 | E43: =E42 -> 3 | F43: =C43*D43*E43 -> 3000 | G43: =F43/F$34 -> 6.6666667 | H43: =F43/F42 -> 1.25 | I43: =F$53/F43 -> 2.52 | K43: =SUMIF('Umowa Miejski'!H:H,'Relacje objętości'!A43,'Umowa Miejski'!K:K) -> 21 | L43: =K$53/K43 -> 3.4285714 | N43: =O43&P43 -> PA P ≤90 ONUK-UKB-WR90-001 | O43: PA P ≤90 ON | P43: UK-UKB-WR90-001 | Q43: STER PARA, <90 NARZ, BLOK OP. ORT i NEUR | R43: 0 | S43: 1.3333333 | W43: =T43*U43*V43 -> 0 | X43: 0 | Y43: =IFERROR(X43/R43,0) -> 0 | AD43: =R34 -> 1.2631579
A44: UK-UKB-N040-006 | B44: STER NISKOT NARZ 1->4 W REK DO 40|32 | C44: 40 | D44: 32 | E44: =E43 -> 3 | F44: =C44*D44*E44 -> 3840 | G44: =F44/F$34 -> 8.5333333 | H44: =F44/F43 -> 1.28 | I44: =F$53/F44 -> 1.96875 | K44: =SUMIF('Umowa Miejski'!H:H,'Relacje objętości'!A44,'Umowa Miejski'!K:K) -> 30.2 | L44: =K$53/K44 -> 2.384106 | N44: =O44&P44 -> PA P >91 ONUK-UKB-WR91-001 | O44: PA P >91 ON | P44: UK-UKB-WR91-001 | Q44: STER PARA, >91 NARZ, BLOK OP. ORT i NEUR | R44: 0 | S44: 1 | W44: =T44*U44*V44 -> 0 | X44: 0 | Y44: =IFERROR(X44/R44,0) -> 0 | AD44: =R35 -> 1.2727273
A45: UK-UKB-N040-007 | B45: STER NISKOT NARZ 1->4 W REK DO 40|42 | C45: 40 | D45: 42 | E45: =E44 -> 3 | F45: =C45*D45*E45 -> 5040 | G45: =F45/F$34 -> 11.2 | H45: =F45/F44 -> 1.3125 | I45: =F$53/F45 -> 1.5 | K45: =SUMIF('Umowa Miejski'!H:H,'Relacje objętości'!A45,'Umowa Miejski'!K:K) -> 38.2 | L45: =K$53/K45 -> 1.8848168 | N45: =O45&P45 -> DEZ OBUWIEUK-UKB-XXXX-060 | O45: DEZ OBUWIE | P45: UK-UKB-XXXX-060 | Q45: Dezynfekcja. Obuwie operacyjne. | R45: =2*1.5 -> 3 | S45: 3 | W45: =T45*U45*V45 -> 0 | X45: 920 | Y45: =IFERROR(X45/R45,0) -> 306.66667 | AD45: =R45 -> 3
A46: UK-UKB-N060-010 | B46: STER NISKOT NARZ 1->4 W REK DO 60|7,5 | C46: 60 | D46: 7.5 | E46: =E45 -> 3 | F46: =C46*D46*E46 -> 1350 | G46: =F46/F$34 -> 3 | H46: =F46/F45 -> 0.26785714 | I46: =F$53/F46 -> 5.6 | K46: =SUMIF('Umowa Miejski'!H:H,'Relacje objętości'!A46,'Umowa Miejski'!K:K) -> 6.9 | L46: =K$53/K46 -> 10.434783 | N46: =O46&P46 -> DEZ P ≤10UK-UKB-A010-001 | O46: DEZ P ≤10 | P46: UK-UKB-A010-001 | Q46: AUTOMATYCZNA DEZYNFEKCJA ZESTAWÓW NARZĘDZI >10 | R46: 0 | S46: 8 | W46: =T46*U46*V46 -> 0 | X46: 0 | Y46: =IFERROR(X46/R46,0) -> 0 | AD46: =R30 -> 5.037037
A47: UK-UKB-N060-001 | B47: STER NISKOT NARZ 1->4 W REK DO 60|10 | C47: 60 | D47: 10 | E47: =E46 -> 3 | F47: =C47*D47*E47 -> 1800 | G47: =F47/F$34 -> 4 | H47: =F47/F46 -> 1.3333333 | I47: =F$53/F47 -> 4.2 | K47: =SUMIF('Umowa Miejski'!H:H,'Relacje objętości'!A47,'Umowa Miejski'!K:K) -> 9.68 | L47: =K$53/K47 -> 7.4380165 | N47: =O47&P47 -> DEZ P ≤30UK-UKB-A030-003 | O47: DEZ P ≤30 | P47: UK-UKB-A030-003 | Q47: AUTOMATYCZNA DEZYNFEKCJA ZESTAWÓW NARZĘDZI >30 | R47: 0 | S47: 6 | W47: =T47*U47*V47 -> 0 | X47: 0 | Y47: =IFERROR(X47/R47,0) -> 0 | AD47: =R31 -> 4.456
A48: UK-UKB-N060-002 | B48: STER NISKOT NARZ 1->4 W REK DO 60|12 | C48: 60 | D48: 12 | E48: =E47 -> 3 | F48: =C48*D48*E48 -> 2160 | G48: =F48/F$34 -> 4.8 | H48: =F48/F47 -> 1.2 | I48: =F$53/F48 -> 3.5 | K48: =SUMIF('Umowa Miejski'!H:H,'Relacje objętości'!A48,'Umowa Miejski'!K:K) -> 11.6 | L48: =K$53/K48 -> 6.2068966 | N48: =O48&P48 -> DEZ P ≤50UK-UKB-A050-002 | O48: DEZ P ≤50 | P48: UK-UKB-A050-002 | Q48: AUTOMATYCZNA DEZYNFEKCJA ZESTAWÓW NARZĘDZI >50 | R48: 0 | S48: 4 | W48: =T48*U48*V48 -> 0 | X48: 0 | Y48: =IFERROR(X48/R48,0) -> 0 | AD48: =R32 -> 3.2924528
A49: UK-UKB-N060-003 | B49: STER NISKOT NARZ 1->4 W REK DO 60|15 | C49: 60 | D49: 15 | E49: =E48 -> 3 | F49: =C49*D49*E49 -> 2700 | G49: =F49/F$34 -> 6 | H49: =F49/F48 -> 1.25 | I49: =F$53/F49 -> 2.8 | K49: =SUMIF('Umowa Miejski'!H:H,'Relacje objętości'!A49,'Umowa Miejski'!K:K) -> 14.6 | L49: =K$53/K49 -> 4.9315068 | N49: =O49&P49 -> DEZ P ≤70UK-UKB-A070-002 | O49: DEZ P ≤70 | P49: UK-UKB-A070-002 | Q49: AUTOMATYCZNA DEZYNFEKCJA ZESTAWÓW NARZĘDZI >70 | R49: 0 | S49: 2 | W49: =T49*U49*V49 -> 0 | X49: 0 | Y49: =IFERROR(X49/R49,0) -> 0 | AD49: =R33 -> 1.3177966
A50: UK-UKB-N060-004 | B50: STER NISKOT NARZ 1->4 W REK DO 60|20 | C50: 60 | D50: 20 | E50: =E49 -> 3 | F50: =C50*D50*E50 -> 3600 | G50: =F50/F$34 -> 8 | H50: =F50/F49 -> 1.3333333 | I50: =F$53/F50 -> 2.1 | K50: =SUMIF('Umowa Miejski'!H:H,'Relacje objętości'!A50,'Umowa Miejski'!K:K) -> 22.02 | L50: =K$53/K50 -> 3.2697548 | N50: =O50&P50 -> DEZ P ≤90UK-UKB-A090-001 | O50: DEZ P ≤90 | P50: UK-UKB-A090-001 | Q50: AUTOMATYCZNA DEZYNFEKCJA ZESTAWÓW NARZĘDZI >90 | R50: 0 | S50: 1.3333333 | W50: =T50*U50*V50 -> 0 | X50: 0 | Y50: =IFERROR(X50/R50,0) -> 0 | AD50: =R34 -> 1.2631579
A51: UK-UKB-N060-005 | B51: STER NISKOT NARZ 1->4 W REK DO 60|25 | C51: 60 | D51: 25 | E51: =E50 -> 3 | F51: =C51*D51*E51 -> 4500 | G51: =F51/F$34 -> 10 | H51: =F51/F50 -> 1.25 | I51: =F$53/F51 -> 1.68 | K51: =SUMIF('Umowa Miejski'!H:H,'Relacje objętości'!A51,'Umowa Miejski'!K:K) -> 29.54 | L51: =K$53/K51 -> 2.4373731 | N51: =O51&P51 -> DEZ P >91UK-UKB-A091-001 | O51: DEZ P >91 | P51: UK-UKB-A091-001 | Q51: AUTOMATYCZNA DEZYNFEKCJA ZESTAWÓW NARZĘDZI <91 | R51: 0 | S51: 1 | W51: =T51*U51*V51 -> 0 | X51: 0 | Y51: =IFERROR(X51/R51,0) -> 0 | AD51: =R35 -> 1.2727273
A52: UK-UKB-N060-006 | B52: STER NISKOT NARZ 1->4 W REK DO 60|32 | C52: 60 | D52: 32 | E52: =E51 -> 3 | F52: =C52*D52*E52 -> 5760 | G52: =F52/F$34 -> 12.8 | H52: =F52/F51 -> 1.28 | I52: =F$53/F52 -> 1.3125 | K52: =SUMIF('Umowa Miejski'!H:H,'Relacje objętości'!A52,'Umowa Miejski'!K:K) -> 49.59 | L52: =K$53/K52 -> 1.4519056 | N52: =O52&P52 -> DEZ R 7,5 x 20 | O52: DEZ R 7,5 x 20 | R52: 200 | S52: 18.333333 | T52: 20 | U52: 7.5 | V52: 2 | W52: =T52*U52*V52 -> 300 | X52: 50.6 | Y52: =IFERROR(X52/R52,0) -> 0.253 | AD52: =$AD$2/W52 -> 126 | AE52: =SUMPRODUCT(R52:R55,X52:X55) -> 16560
A53: UK-UKB-N060-007 | B53: STER NISKOT NARZ 1->4 W REK DO 60|42 | C53: 60 | D53: 42 | E53: =E52 -> 3 | F53: =C53*D53*E53 -> 7560 | G53: =F53/F$34 -> 16.8 | H53: =F53/F52 -> 1.3125 | I53: =F$53/F53 -> 1 | K53: =SUMIF('Umowa Miejski'!H:H,'Relacje objętości'!A53,'Umowa Miejski'!K:K) -> 72 | L53: =K$53/K53 -> 1 | N53: =O53&P53 -> DEZ R 10 x 20 | O53: DEZ R 10 x 20 | R53: 100 | S53: 12.692308 | T53: 20 | U53: 10 | V53: 2 | W53: =T53*U53*V53 -> 400 | X53: 64.4 | Y53: =IFERROR(X53/R53,0) -> 0.644 | AD53: =$AD$2/W53 -> 94.5 | AE53: =SUMPRODUCT(AD52:AD55,X52:X55) -> 12461.4
N54: =O54&P54 -> DEZ R 12 x 20 | O54: DEZ R 12 x 20 | R54: 0 | S54: 10 | T54: 20 | U54: 12 | V54: 2 | W54: =T54*U54*V54 -> 480 | X54: 0 | Y54: =IFERROR(X54/R54,0) -> 0 | AD54: =$AD$2/W54 -> 78.75 | AE54: =AE53-AE52 -> -4098.6
N55: =O55&P55 -> DEZ R 15 x 20 | O55: DEZ R 15 x 20 | R55: 0 | S55: 8.0487805 | T55: 20 | U55: 15 | V55: 2 | W55: =T55*U55*V55 -> 600 | X55: 0 | Y55: =IFERROR(X55/R55,0) -> 0 | AD55: =$AD$2/W55 -> 63
N56: =O56&P56 -> DEZ R 12 x 40UK-UKB-A040-102 | O56: DEZ R 12 x 40 | P56: UK-UKB-A040-102 | Q56: AUTOMATYCZNA DEZYNFEKCJA NARZĘDZI W RĘKAWIE DO 40|12 | R56: 0 | S56: 7.1583514 | T56: 40 | U56: 12 | V56: 2 | W56: =T56*U56*V56 -> 960 | X56: 0 | Y56: =IFERROR(X56/R56,0) -> 0 | AD56: =$AD$2/W56 -> 39.375 | AE56: =SUMPRODUCT(R56:R63,X56:X63) -> 8726.2
N57: =O57&P57 -> DEZ R 25 x 40UK-UKB-A040-103 | O57: DEZ R 25 x 40 | P57: UK-UKB-A040-103 | Q57: AUTOMATYCZNA DEZYNFEKCJA NARZĘDZI W RĘKAWIE DO 40|25 | R57: 21.666667 | S57: 2.3775216 | T57: 40 | U57: 25 | V57: 5 | W57: =T57*U57*V57 -> 5000 | X57: 55.2 | Y57: =IFERROR(X57/R57,0) -> 2.5476923 | AD57: =$AD$2/W57 -> 7.56 | AE57: =SUMPRODUCT(AD56:AD63,X56:X63) -> 8712.837
N58: =O58&P58 -> DEZ R 7,5 x 40UK-UKB-A040-104 | O58: DEZ R 7,5 x 40 | P58: UK-UKB-A040-104 | Q58: AUTOMATYCZNA DEZYNFEKCJA NARZĘDZI W RĘKAWIE DO 40|7,5 | R58: 0 | S58: 11.186441 | T58: 40 | U58: 7.5 | V58: 5 | W58: =T58*U58*V58 -> 1500 | X58: 0 | Y58: =IFERROR(X58/R58,0) -> 0 | AD58: =$AD$2/W58 -> 25.2 | AE58: =AE57-AE56 -> -13.363
N59: =O59&P59 -> DEZ R 10 x 40UK-UKB-A040-105 | O59: DEZ R 10 x 40 | P59: UK-UKB-A040-105 | Q59: AUTOMATYCZNA DEZYNFEKCJA NARZĘDZI W RĘKAWIE DO 40|10 | R59: 20 | S59: 8.6614173 | T59: 40 | U59: 10 | V59: 5 | W59: =T59*U59*V59 -> 2000 | X59: 202.4 | Y59: =IFERROR(X59/R59,0) -> 10.12 | AD59: =$AD$2/W59 -> 18.9
N60: =O60&P60 -> DEZ R 15 x 40UK-UKB-A040-106 | O60: DEZ R 15 x 40 | P60: UK-UKB-A040-106 | Q60: AUTOMATYCZNA DEZYNFEKCJA NARZĘDZI W RĘKAWIE DO 40|15 | R60: 10 | S60: 5.509182 | T60: 40 | U60: 15 | V60: 5 | W60: =T60*U60*V60 -> 3000 | X60: 59.8 | Y60: =IFERROR(X60/R60,0) -> 5.98 | AD60: =$AD$2/W60 -> 12.6
N61: =O61&P61 -> DEZ R 20 x 40UK-UKB-A040-107 | O61: DEZ R 20 x 40 | P61: UK-UKB-A040-107 | Q61: AUTOMATYCZNA DEZYNFEKCJA NARZĘDZI W RĘKAWIE DO 40|20 | R61: 8 | S61: 4.1301627 | T61: 40 | U61: 20 | V61: 5 | W61: =T61*U61*V61 -> 4000 | X61: 335.8 | Y61: =IFERROR(X61/R61,0) -> 41.975 | AD61: =$AD$2/W61 -> 9.45
N62: =O62&P62 -> DEZ R 32 x 40UK-UKB-A040-108 | O62: DEZ R 32 x 40 | P62: UK-UKB-A040-108 | Q62: AUTOMATYCZNA DEZYNFEKCJA NARZĘDZI W RĘKAWIE DO 40|32 | R62: 2.15 | S62: 1.942319 | T62: 40 | U62: 32 | V62: 5 | W62: =T62*U62*V62 -> 6400 | X62: 92 | Y62: =IFERROR(X62/R62,0) -> 42.790698 | AD62: =$AD$2/W62 -> 5.90625
N63: =O63&P63 -> DEZ R 42 x 40UK-UKB-A040-109 | O63: DEZ R 42 x 40 | P63: UK-UKB-A040-109 | Q63: AUTOMATYCZNA DEZYNFEKCJA NARZĘDZI W RĘKAWIE DO 40|42 | R63: 0 | S63: 1.5721772 | T63: 40 | U63: 42 | V63: 5 | W63: =T63*U63*V63 -> 8400 | X63: 0 | Y63: =IFERROR(X63/R63,0) -> 0 | AD63: =$AD$2/W63 -> 4.5
N64: =O64&P64 -> DEZ R 7,5 x 60 | O64: DEZ R 7,5 x 60 | R64: 50 | S64: 7.6212471 | T64: 60 | U64: 7.5 | V64: 2 | W64: =T64*U64*V64 -> 900 | X64: 32.2 | Y64: =IFERROR(X64/R64,0) -> 0.644 | AD64: =$AD$2/W64 -> 42 | AE64: =SUMPRODUCT(R64:R71,X64:X71) -> 4176.8
N65: =O65&P65 -> DEZ R 10 x 60 | O65: DEZ R 10 x 60 | R65: 0 | S65: 5.6027165 | T65: 60 | U65: 10 | V65: 2 | W65: =T65*U65*V65 -> 1200 | X65: 0 | Y65: =IFERROR(X65/R65,0) -> 0 | AD65: =$AD$2/W65 -> 31.5 | AE65: =SUMPRODUCT(AD64:AD71,X64:X71) -> 4613.1675
N66: =O66&P66 -> DEZ R 12 x 60 | O66: DEZ R 12 x 60 | R66: 0 | S66: 4.72103 | T66: 60 | U66: 12 | V66: 2 | W66: =T66*U66*V66 -> 1440 | X66: 0 | Y66: =IFERROR(X66/R66,0) -> 0 | AD66: =$AD$2/W66 -> 26.25 | AE66: =AE65-AE64 -> 436.3675
N67: =O67&P67 -> DEZ R 15 x 60 | O67: DEZ R 15 x 60 | R67: 0 | S67: 3.8106236 | T67: 60 | U67: 15 | V67: 2 | W67: =T67*U67*V67 -> 1800 | X67: 0 | Y67: =IFERROR(X67/R67,0) -> 0 | AD67: =$AD$2/W67 -> 21
N68: =O68&P68 -> DEZ R 20 x 60 | O68: DEZ R 20 x 60 | R68: 0 | S68: 3.0027298 | T68: 60 | U68: 20 | V68: 2 | W68: =T68*U68*V68 -> 2400 | X68: 0 | Y68: =IFERROR(X68/R68,0) -> 0 | AD68: =$AD$2/W68 -> 15.75
N69: =O69&P69 -> DEZ R 25 x 60 | O69: DEZ R 25 x 60 | R69: 8 | S69: 2.260274 | T69: 60 | U69: 25 | V69: 2 | W69: =T69*U69*V69 -> 3000 | X69: 105.8 | Y69: =IFERROR(X69/R69,0) -> 13.225 | AD69: =$AD$2/W69 -> 12.6
N70: =O70&P70 -> DEZ R 32 x 60 | O70: DEZ R 32 x 60 | R70: 5.8947368 | S70: 1.2941176 | T70: 60 | U70: 32 | V70: 2 | W70: =T70*U70*V70 -> 3840 | X70: 174.8 | Y70: =IFERROR(X70/R70,0) -> 29.653571 | AD70: =$AD$2/W70 -> 9.84375
N71: =O71&P71 -> DEZ R 42 x 60 | O71: DEZ R 42 x 60 | R71: 25 | S71: 1 | T71: 60 | U71: 42 | V71: 2 | W71: =T71*U71*V71 -> 5040 | X71: 27.6 | Y71: =IFERROR(X71/R71,0) -> 1.104 | AA71: CiLo plazma zamiast EO | AD71: =$AD$2/W71 -> 7.5
N72: =O72&P72 -> EO R 10 x 20 | O72: EO R 10 x 20 | R72: 100 | S72: 12.692308 | T72: 20 | U72: 10 | V72: 2 | W72: =T72*U72*V72 -> 400 | X72: 0 | Y72: =IFERROR(X72/R72,0) -> 0 | AA72: 0 | AB72: 4.6 | AD72: =$AD$2/W72 -> 94.5 | AE72: =SUMPRODUCT(R72:R75,X72:X75) -> 0
N73: =O73&P73 -> EO R 12 x 20 | O73: EO R 12 x 20 | R73: 50 | S73: 10 | T73: 20 | U73: 12 | V73: 2 | W73: =T73*U73*V73 -> 480 | X73: 0 | Y73: =IFERROR(X73/R73,0) -> 0 | AA73: 0 | AB73: 23 | AD73: =$AD$2/W73 -> 78.75 | AE73: =SUMPRODUCT(AD72:AD75,X72:X75) -> 0
N74: =O74&P74 -> EO R 15 x 20 | O74: EO R 15 x 20 | R74: 87.5 | S74: 8.0487805 | T74: 20 | U74: 15 | V74: 2 | W74: =T74*U74*V74 -> 600 | X74: 0 | Y74: =IFERROR(X74/R74,0) -> 0 | AA74: 0 | AB74: 55.2 | AD74: =$AD$2/W74 -> 63 | AE74: =AE73-AE72 -> 0
N75: =O75&P75 -> EO R 7,5 x 20 | O75: EO R 7,5 x 20 | R75: 100 | S75: 18.333333 | T75: 20 | U75: 7.5 | V75: 2 | W75: =T75*U75*V75 -> 300 | X75: 0 | Y75: =IFERROR(X75/R75,0) -> 0 | AA75: 0 | AB75: 18.4 | AD75: =$AD$2/W75 -> 126
N76: =O76&P76 -> EO R 10 x 40 | O76: EO R 10 x 40 | R76: 0 | S76: 8.6614173 | T76: 40 | U76: 10 | V76: 2 | W76: =T76*U76*V76 -> 800 | X76: 0 | Y76: =IFERROR(X76/R76,0) -> 0 | AA76: 0 | AB76: 0 | AD76: =$AD$2/W76 -> 47.25 | AE76: =SUMPRODUCT(R76:R83,X76:X83) -> 0 | AG76: 1
N77: =O77&P77 -> EO R 12 x 40 | O77: EO R 12 x 40 | R77: 0 | S77: 7.1583514 | T77: 40 | U77: 12 | V77: 2 | W77: =T77*U77*V77 -> 960 | X77: 0 | Y77: =IFERROR(X77/R77,0) -> 0 | AA77: 0 | AB77: 0 | AD77: =$AD$2/W77 -> 39.375 | AE77: =SUMPRODUCT(AD76:AD83,X76:X83) -> 0 | AG77: 1
N78: =O78&P78 -> EO R 15 x 40 | O78: EO R 15 x 40 | R78: 0 | S78: 5.509182 | T78: 40 | U78: 15 | V78: 2 | W78: =T78*U78*V78 -> 1200 | X78: 0 | Y78: =IFERROR(X78/R78,0) -> 0 | AA78: 0 | AB78: 0 | AD78: =$AD$2/W78 -> 31.5 | AE78: =AE77-AE76 -> 0 | AG78: 1
N79: =O79&P79 -> EO R 20 x 40 | O79: EO R 20 x 40 | R79: 0 | S79: 4.1301627 | T79: 40 | U79: 20 | V79: 2 | W79: =T79*U79*V79 -> 1600 | X79: 0 | Y79: =IFERROR(X79/R79,0) -> 0 | AA79: 0 | AB79: 0 | AD79: =$AD$2/W79 -> 23.625 | AG79: 1
N80: =O80&P80 -> EO R 25 x 40 | O80: EO R 25 x 40 | R80: 50 | S80: 2.3775216 | T80: 40 | U80: 25 | V80: 2 | W80: =T80*U80*V80 -> 2000 | X80: 0 | Y80: =IFERROR(X80/R80,0) -> 0 | AA80: 0 | AB80: 202.4 | AD80: =$AD$2/W80 -> 18.9 | AG80: 1
N81: =O81&P81 -> EO R 32 x 40 | O81: EO R 32 x 40 | R81: 0 | S81: 1.942319 | T81: 40 | U81: 32 | V81: 2 | W81: =T81*U81*V81 -> 2560 | X81: 0 | Y81: =IFERROR(X81/R81,0) -> 0 | AA81: 0 | AB81: 0 | AD81: =$AD$2/W81 -> 14.765625 | AG81: 1
N82: =O82&P82 -> EO R 42 x 40 | O82: EO R 42 x 40 | R82: 0 | S82: 1.5721772 | T82: 40 | U82: 42 | V82: 2 | W82: =T82*U82*V82 -> 3360 | X82: 0 | Y82: =IFERROR(X82/R82,0) -> 0 | AA82: 0 | AB82: 0 | AD82: =$AD$2/W82 -> 11.25 | AG82: 1
N83: =O83&P83 -> EO R 7,5 x 40 | O83: EO R 7,5 x 40 | R83: 0 | S83: 11.186441 | T83: 40 | U83: 7.5 | V83: 2 | W83: =T83*U83*V83 -> 600 | X83: 0 | Y83: =IFERROR(X83/R83,0) -> 0 | AA83: 0 | AB83: 0 | AD83: =$AD$2/W83 -> 63 | AG83: 1
N84: =O84&P84 -> EO R 10 x 60 | O84: EO R 10 x 60 | R84: 0 | S84: 5.6027165 | T84: 60 | U84: 10 | V84: 2 | W84: =T84*U84*V84 -> 1200 | X84: 0 | Y84: =IFERROR(X84/R84,0) -> 0 | AA84: 0 | AB84: 0 | AD84: =$AD$2/W84 -> 31.5 | AE84: =SUMPRODUCT(R84:R91,X84:X91) -> 0 | AG84: 4
N85: =O85&P85 -> EO R 12 x 60 | O85: EO R 12 x 60 | R85: 0 | S85: 4.72103 | T85: 60 | U85: 12 | V85: 2 | W85: =T85*U85*V85 -> 1440 | X85: 0 | Y85: =IFERROR(X85/R85,0) -> 0 | AA85: 0 | AB85: 0 | AD85: =$AD$2/W85 -> 26.25 | AE85: =SUMPRODUCT(AD84:AD91,X84:X91) -> 0 | AG85: 4
N86: =O86&P86 -> EO R 15 x 60 | O86: EO R 15 x 60 | R86: 0 | S86: 3.8106236 | T86: 60 | U86: 15 | V86: 2 | W86: =T86*U86*V86 -> 1800 | X86: 0 | Y86: =IFERROR(X86/R86,0) -> 0 | AA86: 0 | AB86: 0 | AD86: =$AD$2/W86 -> 21 | AE86: =AE85-AE84 -> 0 | AG86: 4
N87: =O87&P87 -> EO R 20 x 60 | O87: EO R 20 x 60 | R87: 7.5 | S87: 3.0027298 | T87: 60 | U87: 20 | V87: 2 | W87: =T87*U87*V87 -> 2400 | X87: 0 | Y87: =IFERROR(X87/R87,0) -> 0 | AA87: 0 | AB87: 55.2 | AD87: =$AD$2/W87 -> 15.75 | AG87: 4
N88: =O88&P88 -> EO R 25 x 60 | O88: EO R 25 x 60 | R88: 0 | S88: 2.260274 | T88: 60 | U88: 25 | V88: 2 | W88: =T88*U88*V88 -> 3000 | X88: 0 | Y88: =IFERROR(X88/R88,0) -> 0 | AA88: 0 | AB88: 0 | AD88: =$AD$2/W88 -> 12.6 | AG88: 4
N89: =O89&P89 -> EO R 32 x 60 | O89: EO R 32 x 60 | R89: 0 | S89: 1.2941176 | T89: 60 | U89: 32 | V89: 2 | W89: =T89*U89*V89 -> 3840 | X89: 0 | Y89: =IFERROR(X89/R89,0) -> 0 | AA89: 0 | AB89: 0 | AD89: =$AD$2/W89 -> 9.84375 | AG89: 4
N90: =O90&P90 -> EO R 42 x 60 | O90: EO R 42 x 60 | R90: 0 | S90: 1 | T90: 60 | U90: 42 | V90: 2 | W90: =T90*U90*V90 -> 5040 | X90: 0 | Y90: =IFERROR(X90/R90,0) -> 0 | AA90: 0 | AB90: 0 | AD90: =$AD$2/W90 -> 7.5 | AG90: 4
N91: =O91&P91 -> EO R 7,5 x 60 | O91: EO R 7,5 x 60 | R91: 0 | S91: 7.6212471 | T91: 60 | U91: 7.5 | V91: 2 | W91: =T91*U91*V91 -> 900 | X91: 0 | Y91: =IFERROR(X91/R91,0) -> 0 | AA91: 0 | AB91: 0 | AD91: =$AD$2/W91 -> 42 | AG91: 4
N92: =O92&P92 -> Tyvek 10 x 20UK-UKB-N020-001 | O92: Tyvek 10 x 20 | P92: UK-UKB-N020-001 | Q92: STER NISKOT NARZ 1->4 W REK DO 20|10 | R92: 0 | S92: 12.692308 | T92: 20 | U92: 10 | V92: 2 | W92: =T92*U92*V92 -> 400 | X92: 4.6 | Y92: =IFERROR(X92/R92,0) -> 0 | AA92: 4.6 | AB92: 0 | AD92: =$AD$2/W92 -> 94.5 | AE92: =SUMPRODUCT(R92:R95,X92:X95) -> 0
N93: =O93&P93 -> Tyvek 12 x 20UK-UKB-N020-002 | O93: Tyvek 12 x 20 | P93: UK-UKB-N020-002 | Q93: STER NISKOT NARZ 1->4 W REK DO 20|12 | R93: 0 | S93: 10 | T93: 20 | U93: 12 | V93: 2 | W93: =T93*U93*V93 -> 480 | X93: 23 | Y93: =IFERROR(X93/R93,0) -> 0 | AA93: 23 | AB93: 0 | AD93: =$AD$2/W93 -> 78.75 | AE93: =SUMPRODUCT(AD92:AD95,X92:X95) -> 8041.95
N94: =O94&P94 -> Tyvek 15 x 20UK-UKB-N020-003 | O94: Tyvek 15 x 20 | P94: UK-UKB-N020-003 | Q94: STER NISKOT NARZ 1->4 W REK DO 20|15 | R94: 0 | S94: 8.0487805 | T94: 20 | U94: 15 | V94: 2 | W94: =T94*U94*V94 -> 600 | X94: 55.2 | Y94: =IFERROR(X94/R94,0) -> 0 | AA94: 55.2 | AB94: 0 | AD94: =$AD$2/W94 -> 63 | AE94: =AE93-AE92 -> 8041.95
N95: =O95&P95 -> Tyvek 7,5 x 20UK-UKB-N020-008 | O95: Tyvek 7,5 x 20 | P95: UK-UKB-N020-008 | Q95: STER NISKOT NARZ 1->4 W REK DO 20|7,5 | R95: 0 | S95: 18.333333 | T95: 20 | U95: 7.5 | V95: 2 | W95: =T95*U95*V95 -> 300 | X95: 18.4 | Y95: =IFERROR(X95/R95,0) -> 0 | AA95: 18.4 | AB95: 0 | AD95: =$AD$2/W95 -> 126
N96: =O96&P96 -> Tyvek 10 x 40UK-UKB-N040-001 | O96: Tyvek 10 x 40 | P96: UK-UKB-N040-001 | Q96: STER NISKOT NARZ 1->4 W REK DO 40|10 | R96: 0 | S96: 8.6614173 | T96: 40 | U96: 10 | V96: 2 | W96: =T96*U96*V96 -> 800 | X96: 0 | Y96: =IFERROR(X96/R96,0) -> 0 | AA96: 0 | AB96: 0 | AD96: =$AD$2/W96 -> 47.25 | AE96: =SUMPRODUCT(R96:R103,X96:X103) -> 0 | AG96: 1.3
N97: =O97&P97 -> Tyvek 12 x 40UK-UKB-N040-002 | O97: Tyvek 12 x 40 | P97: UK-UKB-N040-002 | Q97: STER NISKOT NARZ 1->4 W REK DO 40|12 | R97: 0 | S97: 7.1583514 | T97: 40 | U97: 12 | V97: 2 | W97: =T97*U97*V97 -> 960 | X97: 0 | Y97: =IFERROR(X97/R97,0) -> 0 | AA97: 0 | AB97: 0 | AD97: =$AD$2/W97 -> 39.375 | AE97: =SUMPRODUCT(AD96:AD103,X96:X103) -> 3825.36 | AG97: 1.3
N98: =O98&P98 -> Tyvek 15 x 40UK-UKB-N040-003 | O98: Tyvek 15 x 40 | P98: UK-UKB-N040-003 | Q98: STER NISKOT NARZ 1->4 W REK DO 40|15 | R98: 0 | S98: 5.509182 | T98: 40 | U98: 15 | V98: 2 | W98: =T98*U98*V98 -> 1200 | X98: 0 | Y98: =IFERROR(X98/R98,0) -> 0 | AA98: 0 | AB98: 0 | AD98: =$AD$2/W98 -> 31.5 | AE98: =AE97-AE96 -> 3825.36 | AG98: 1.3
N99: =O99&P99 -> Tyvek 20 x 40UK-UKB-N040-004 | O99: Tyvek 20 x 40 | P99: UK-UKB-N040-004 | Q99: STER NISKOT NARZ 1->4 W REK DO 40|20 | R99: 0 | S99: 4.1301627 | T99: 40 | U99: 20 | V99: 2 | W99: =T99*U99*V99 -> 1600 | X99: 0 | Y99: =IFERROR(X99/R99,0) -> 0 | AA99: 0 | AB99: 0 | AD99: =$AD$2/W99 -> 23.625 | AG99: 1.3
N100: =O100&P100 -> Tyvek 25 x 40UK-UKB-N040-005 | O100: Tyvek 25 x 40 | P100: UK-UKB-N040-005 | Q100: STER NISKOT NARZ 1->4 W REK DO 40|25 | R100: 0 | S100: 2.3775216 | T100: 40 | U100: 25 | V100: 2 | W100: =T100*U100*V100 -> 2000 | X100: 202.4 | Y100: =IFERROR(X100/R100,0) -> 0 | AA100: 202.4 | AB100: 0 | AD100: =$AD$2/W100 -> 18.9 | AG100: 1.3
...

Sheet Urządzenia
R1: R2=0 => wypełnienie 100%; R2=1 => wypełnienie rzeczywiste
R2: 1
G3: =SUM(G6:G20) -> #REF! | H3: =SUM(H6:H20) -> #REF! | U3: =SUM(U6:U20) -> #REF! | V3: =SUM(V6:V20) -> #REF!
B4: Typ urządzenia | C4: Nazwa urządzenia | D4: Ilość STE | E4: Wartość urządzenia w walucie | F4: Waluta | G4: Wartość urządzenia w PLN | H4: Remonty i naprawy | I4: Ilość procesów na zmianę | J4: Ilość procesów miesięcznie | K4: Czas użycia na max w latach | L4: Ilość procesów życia | M4: Wartość urządzenia na proces | N4: Remonty i naprawy na proces | P4: Koszt urządzeń na proces | R4: Zakładany % załadunku urządzenia | S4: Ilość procesów miesięcznie real | T4: Wykorzystanie mocy | U4: Amortyzacja miesięcznie | V4: Remonty i naprawy miesięcznie
B6: Myjka | C6: Myjnia narzędziowa PG 8528 (15 tac) Miele | D6: 6 | E6: 190138 | F6: PLN | G6: =SUMIF(#REF!,Urządzenia!F6,#REF!)*E6 -> #REF! | H6: =G6*4%*K6 -> #REF! | I6: 7 | J6: =I6*#REF!*#REF! -> #REF! | K6: 10 | L6: =I6*#REF!*#REF!*12*Urządzenia!K6 -> #REF! | M6: =G6/L6 -> #REF! | N6: =H6/L6 -> #REF! | P6: =SUM(M6:O6) -> #REF! | R6: =IF($R$2=0,100%,80%) -> 0.8 | S6: =SUMIF(#REF!,Urządzenia!B6,#REF!) -> #REF! | T6: =S6/J6 -> #REF! | U6: =(G6/K6/12)*ROUNDUP(T6,0) -> #REF! | V6: =(H6/K6/12)*ROUNDUP(T6,0) -> #REF!
B7: Sterylizator parowy | C7: Sterylizator parowy Getinge GSS67H20 E | D7: 12 | E7: 390000 | F7: PLN | G7: =SUMIF(#REF!,Urządzenia!F7,#REF!)*E7 -> #REF! | H7: =G7*4%*K7 -> #REF! | I7: 5 | J7: =I7*#REF!*#REF! -> #REF! | K7: 10 | L7: =I7*#REF!*#REF!*12*Urządzenia!K7 -> #REF! | M7: =G7/L7 -> #REF! | N7: =H7/L7 -> #REF! | P7: =SUM(M7:O7) -> #REF! | R7: =IF($R$2=0,100%,70%) -> 0.7 | S7: =SUMIF(#REF!,Urządzenia!B7,#REF!) -> #REF! | T7: =S7/J7 -> #REF! | U7: =(G7/K7/12)*ROUNDUP(T7,0) -> #REF! | V7: =(H7/K7/12)*ROUNDUP(T7,0) -> #REF!
A8: ? | B8: Sterylizator plazmowy | D8: 1 | E8: 400000 | F8: PLN | G8: =SUMIF(#REF!,Urządzenia!F8,#REF!)*E8 -> #REF! | H8: =G8*4%*K8 -> #REF! | I8: 7 | J8: =I8*#REF!*#REF! -> #REF! | K8: 10 | L8: =I8*#REF!*#REF!*12*Urządzenia!K8 -> #REF! | M8: =G8/L8 -> #REF! | N8: =H8/L8 -> #REF! | P8: =SUM(M8:O8) -> #REF! | R8: =IF($R$2=0,100%,70%) -> 0.7 | S8: =SUMIF(#REF!,Urządzenia!B8,#REF!) -> #REF! | T8: =S8/J8 -> #REF! | U8: =(G8/K8/12)*ROUNDUP(T8,0) -> #REF! | V8: =(H8/K8/12)*ROUNDUP(T8,0) -> #REF!
A9: ? | B9: Sterylizator EO | D9: 1.5 | E9: 100000 | F9: EUR | G9: =SUMIF(#REF!,Urządzenia!F9,#REF!)*E9 -> #REF! | H9: =G9*4%*K9 -> #REF! | I9: 1 | J9: =I9*#REF!*#REF! -> #REF! | K9: 10 | L9: =I9*#REF!*#REF!*12*Urządzenia!K9 -> #REF! | M9: =G9/L9 -> #REF! | N9: =H9/L9 -> #REF! | P9: =SUM(M9:O9) -> #REF! | R9: =IF($R$2=0,100%,70%) -> 0.7 | S9: =SUMIF(#REF!,Urządzenia!B9,#REF!) -> #REF! | T9: =S9/J9 -> #REF! | U9: =(G9/K9/12)*ROUNDUP(T9,0) -> #REF! | V9: =(H9/K9/12)*ROUNDUP(T9,0) -> #REF!
A10: ? | B10: Stacja uzdatniania wody | E10: 100000 | F10: PLN | G10: =SUMIF(#REF!,Urządzenia!F10,#REF!)*E10 -> #REF! | H10: =G10*4%*K10 -> #REF! | K10: 10 | L10: =I10*#REF!*#REF!*12*Urządzenia!K10 -> #REF! | T10: 1 | U10: =(G10/K10/12)*ROUNDUP(T10,0) -> #REF! | V10: =(H10/K10/12)*ROUNDUP(T10,0) -> #REF!
B11: Myjnia duża | C11: KEN A/S CWD 5000 | D11: =#REF! -> #REF! | E11: 300000 | F11: PLN | G11: =SUMIF(#REF!,Urządzenia!F11,#REF!)*E11 -> #REF! | H11: =G11*4%*K11 -> #REF! | I11: 7 | J11: =I11*#REF!*#REF! -> #REF! | K11: 10 | L11: =I11*#REF!*#REF!*12*Urządzenia!K11 -> #REF! | M11: =G11/L11 -> #REF! | N11: =H11/L11 -> #REF! | P11: =SUM(M11:O11) -> #REF! | R11: =IF($R$2=0,100%,70%) -> 0.7 | S11: =SUMIF(#REF!,Urządzenia!B11,#REF!) -> #REF! | T11: =S11/J11 -> #REF! | U11: =(G11/K11/12)*ROUNDUP(T11,0) -> #REF! | V11: =(H11/K11/12)*ROUNDUP(T11,0) -> #REF!

Sheet Materiały
B2: 1 | C2: 2 | D2: 3 | E2: 4 | F2: 5 | G2: 6 | H2: 7 | I2: 8 | J2: 9 | K2: 10
B3: klucz | C3: Kod pozycji | D3: Opis | E3: Główna jednostka miary | F3: Koszt jedn | G3: szer (cm) | H3: dł (cm) | I3: wys (cm) | J3: Rodzaj produktu - opis | K3: typ_ster
C4: 01-KAN-00ZR-267 | D4: Kartonik "Absorgyn 10-27cmx7,5cm" | E4: SZTUKA | F4: 0.65
C5: 01-PUN-5W2S-005 | D5: KAR 5W 590X390X350 Z/N MATOPAT | E5: SZTUKA | F5: 3.12
C6: 01-WKL-B060-010 | D6: WKŁADKI DO KOSZY 300X500 A'500 | E6: OPAKOWANIE | F6: 131.31
C7: 01-WYW-M045-001 | D7: WYKROJ TMS 45X45CM | E7: SZTUKA | F7: 0.08
C8: 01-WYW-M130-001 | D8: WYKRÓJ TMS 130X80CM | E8: SZTUKA | F8: 0.46
C9: 01-WYW-M160-003 | D9: WYKRÓJ TMS 160X90CM | E9: SZTUKA | F9: 0.55
C10: 05-PRE-XXXX-237 | D10: OLEJ SILIKONOWY OM 1000 | E10: SZTUKA | F10: 18.04
C11: 06-DEK-PNHP-003 | D11: Orange Solvent 500 ml | E11: SZTUKA | F11: 43.71
C12: 07-ART-ETYK-010 | D12: Etykieta termotransferowa 102x55,8 trójdzielna | E12: SZTUKA | F12: 42.98
C13: 07-ART-XXXX-038 | D13: plomby do kontenerów bez wskaźnika (1000szt.) | E13: OPAKOWANIE | F13: 249
C14: 07-ART-XXXX-039 | D14: plomby do kontenerów Uniclip bez wskaźnika (1000szt.) | E14: OPAKOWANIE | F14: 249
C15: 07-ART-XXXX-040 | D15: kontrola zgrzewu (250szt.) | E15: OPAKOWANIE | F15: 239.84
... C24: 11-MMG-PEN8-001 | D24: MMG PENDRIVE MATOPAT/TRICOMED/CITONET 8GB | E24: SZTUKA | F24: 15.15
A25: Steryl. Plazma | C25: 13-CZM-0000-346 | D25: Kaseta Sterrad 100S 5 szt. | E25: OPAKOWANIE | F25: 1771.14
A26: Steryl. EO | C26: 14-ODC-XXXX-222 | D26: Naboje z tlenkiem etylenu GS-2 | E26: SZTUKA | F26: 27.54
C27: 14-ODC-XXXX-223 | D27: HELIX test kontr.ster.EO aplik.A'100 | E27: OPAKOWANIE | F27: 273
C28: 14-ODC-XXXX-224 | D28: DESPREY 5L | E28: OPAKOWANIE | F28: 76
C29: 14-ODC-XXXX-226 | D29: Chromol 500 ml | E29: SZTUKA | F29: 29.32
C30: 14-ODC-XXXX-228 | D30: Incidin M Spray ( do spr. obuwia) | E30: SZTUKA | F30: 20.61
C31: 14-ODC-XXXX-236 | D31: Virkon 200g | E31: SZTUKA | F31: 18.61
C32: 14-ODC-XXXX-257 | D32: SÓL TABLETKOWANA 1KG | E32: KILOGRAM | F32: 1.15
C33: 14-ODC-XXXX-272 | D33: Olej sterylit GB600 300 ml. | E33: SZTUKA | F33: 210
C34: 14-ODC-XXXX-277 | D34: Orange Solvent DE 500 ml | E34: SZTUKA | F34: 41
C35: 14-ODC-XXXX-278 | D35: G-502 BUZ POINT 200 ml | E35: SZTUKA | F35: 29.19
C36: 14-ODC-XXXX-283 | D36: Viruton Strong 5 litrów | E36: OPAKOWANIE | F36: 361.28
C37: 14-ODC-XXXX-306 | D37: Spezial Oilspray 500ml | E37: OPAKOWANIE | F37: 17
C38: 14-ODC-XXXX-307 | D38: NEODISHER DEKONTA AF 20L | E38: OPAKOWANIE | F38: 543.36
... C139: BE-043-Z004-R07 | D139: P T KARO A4-ŻÓŁTY 981 | E139: OPAKOWANIE | F139: 1.99
C140: BE-139-N010-022 | D140: ABSORGYN 27X7,5CM Z FOLIA A10 KAR J | E140: OPAKOWANIE | F140: #DIV/0!
C141: BE-139-N400-003 | D141: ABSORGYN 27X7,5CM Z FOLIA A400 | E141: OPAKOWANIE | F141: 60.2
C142: CH-221-N500-G03 | D142: DR MAX NEW PŁYN NACZ ALOES SEHR GUT 500ML | E142: OPAKOWANIE | F142: 1.79
C143: CH-221-N500-N09 | D143: ***DR MAX NEW PL DO NACZ MIET 500ML-PL EX | E143: OPAKOWANIE | F143: 1.64
C144: CH-221-N500-N10 | D144: DR MAX NEW PL DO NACZ CYTR 500ML-PL E | E144: OPAKOWANIE | F144: 1.64
C145: CH-221-NC5L-N01 | D145: DR MAX PŁ DO NACZ CYTR 5L-ET PL EX | E145: OPAKOWANIE | F145: 8.9
C146: CH-221-NM5L-N01 | D146: DR MAX PŁ DO NACZ MIĘT 5L- PL EX* | E146: OPAKOWANIE | F146: 10.34
C147: CH-221-S500-N01 | D147: DR MAX NEW PŁ DO SZYB NIE AT 500ML-PL EX | E147: OPAKOWANIE | F147: 2.05
C148: CH-221-SZ5L-N01 | D148: DR MAX PŁ DO SZ ZIEL 5L-ET PL EX* | E148: OPAKOWANIE | F148: 5.96
C149: CH-221-UC5L-N01 | D149: DR MAX PŁ UNI CYTR 5L-ET PL EX | E149: OPAKOWANIE | F149: 9.51
C150: CH-222-P500-N01 | D150: ***DR MAX NEW PROSZ DO CZYSZ KWIT 500G-PL EX | E150: OPAKOWANIE | F150: 1.94
C151: CH-222-Z750-G03 | D151: DR MAX NEW ŻEL DO TOALET SEHR GUT 750G | E151: OPAKOWANIE | F151: 2.74
C152: CH-222-Z750-N01 | D152: DR MAX NEW WC ŻEL LEŚNY 750G-PL EX | E152: OPAKOWANIE | F152: 3.68
... C266: NM-981-MMMM-323 | D266: RĘCZNIK ZETKA STANDARD BIAŁY | E266: OPAKOWANIE | F266: 42.5
A267: opakowania | C267: OM-191-FPFA-011 | D267: TOR P-F F STEAM/EO/FORM 75X300X30MM A100 | E267: OPAKOWANIE | F267: 14
A268: opakowania | C268: OM-191-FPPA-108 | D268: TOR P-F P STEAM/EO/FORM 75X150MM A100 | E268: OPAKOWANIE | F268: 3.47
A269: opakowania | C269: OM-191-FPPA-109 | D269: TOR P-F P NIEB STEAM/EO/FORM 75X200MM A100 | E269: OPAKOWANIE | F269: 4.23
A270: opakowania | C270: OM-191-FPPA-110 | D270: TOR P-F P STEAM/EO FORM 75X250MM A100 | E270: OPAKOWANIE | F270: 5.24
A271: opakowania | C271: OM-191-FPPA-111 | D271: TOR P-F P STEAM/EO/FORM 75X300MM A100 | E271: OPAKOWANIE | F271: 5.51
A272: opakowania | C272: OM-191-FPPA-112 | D272: TOR P-F P NIEB STEAM/EO/FORM 100X150MM A100 | E272: OPAKOWANIE | F272: 4.45
A273: opakowania | C273: OM-191-FPPA-113 | D273: TOR P-F P STEAM/EO/FORM 100X200MM A100 | E273: OPAKOWANIE | F273: 5.35
A274: opakowania | C274: OM-191-FPPA-114 | D274: TOR P-F P STEAM/EO/FORM 100X250MM A100 | E274: OPAKOWANIE | F274: 6.97
A275: opakowania | C275: OM-191-FPPA-118 | D275: TOR P-F P NIEB STEAM/EO/FORM 120X200MM A100 | E275: OPAKOWANIE | F275: 6.24
A276: opakowania | C276: OM-191-FPPA-119 | D276: TOR P-F P NIEB STEAM/EO/FORM 120X250MM A100 | E276: OPAKOWANIE | F276: 7.89
A277: opakowania | C277: OM-191-FPPA-120 | D277: TOR P-F P STEAM/EO/FORM 120X300MM A100 | E277: OPAKOWANIE | F277: 9.21
A278: opakowania | C278: OM-191-FPPA-122 | D278: TOR P-F P NIEB STEAM/EO FORM 150X200MM A100 | E278: OPAKOWANIE | F278: 6.89
... A289: opakowania | C289: OM-191-FWPA-019 | D289: TOR W-F P STEAM/EO/FORM 600X900MM A100 | E289: OPAKOWANIE | F289: 256.47
C290: OM-193-BB19-001 | D290: TSAM B IND 19MMX50M ART.88 | E290: ROLKA | F290: 6.04
C291: OM-193-IP19-001 | D291: ***TSAM Z IND STEAM 19MMX50M ART.80 | E291: ROLKA | F291: 7.12
C292: OM-193-IP19-002 | D292: TAŚMA SAMOPRZYLEPNA Z IND STEAM 19MMX50M LEAD-FREE | E292: SZTUKA | F292: 6.21
A293: opakowania | B293: =K293&J293&G293&I293 -> PARARĘKAWY Z FAŁDĄ104 | C293: OM-194-FPFA-008 | D293: RĘK P-F F STEAM/EO FORM 100M 100X40MM | E293: SZTUKA | F293: 32.82 | G293: 10 | H293: 10000 | I293: 4 | J293: RĘKAWY Z FAŁDĄ | K293: PARA
A294: opakowania | B294: =K294&J294&G294&I294 -> PARARĘKAWY Z FAŁDĄ155 | C294: OM-194-FPFA-009 | D294: RĘK P-F F STEAM/EO FORM 100M 150X50MM | E294: SZTUKA | F294: 46.68 | G294: 15 | H294: 10000 | I294: 5 | J294: RĘKAWY Z FAŁDĄ | K294: PARA
A295: opakowania | B295: =K295&J295&G295&I295 -> PARARĘKAWY Z FAŁDĄ205 | C295: OM-194-FPFA-010 | D295: RĘK P-F F STEAM/EO FORM 100M 200X50MM | E295: SZTUKA | F295: 57.09 | G295: 20 | H295: 10000 | I295: 5 | J295: RĘKAWY Z FAŁDĄ | K295: PARA
A296: opakowania | B296: =K296&J296&G296&I296 -> PARARĘKAWY Z FAŁDĄ388 | C296: OM-194-FPFA-013 | D296: RĘK P-F F STEAM/EO FORM 100M 380X80MM | E296: SZTUKA | F296: 104.89 | G296: 38 | H296: 10000 | I296: 8 | J296: RĘKAWY Z FAŁDĄ | K296: PARA
A297: opakowania | B297: =K297&J297&G297&I297 -> PARARĘKAWY Z FAŁDĄ429 | C297: OM-194-FPFA-014 | D297: RĘK P-F F STEAM/EO FORM 100M 420X90MM | E297: SZTUKA | F297: 111.6 | G297: 42 | H297: 10000 | I297: 9 | J297: RĘKAWY Z FAŁDĄ | K297: PARA
A298: opakowania | B298: =K298&J298&G298&I298 -> PARARĘKAWY PŁASKIE50,1 | C298: OM-194-FPPA-001 | D298: RĘK P-F P STEAM/EO 100M 50MM | E298: SZTUKA | F298: 13.96 | G298: 5 | H298: 10000 | I298: 0.1 | J298: RĘKAWY PŁASKIE | K298: PARA
A299: opakowania | B299: =K299&J299&G299&I299 -> PARARĘKAWY PŁASKIE250,1 | C299: OM-194-FPPA-007 | D299: RĘK P-F P STEAM/EO FORM 100M 250MM | E299: SZTUKA | F299: 99.87 | G299: 25 | H299: 10000 | I299: 0.1 | J299: RĘKAWY PŁASKIE | K299: PARA
A300: opakowania | B300: =K300&J300&G300&I300 -> PARARĘKAWY PŁASKIE320,1 | C300: OM-194-FPPA-009 | D300: RĘK P-F P STEAM/EO FORM 100M 320MM | E300: SZTUKA | F300: 77.47 | G300: 32 | H300: 10000 | I300: 0.1 | J300: RĘKAWY PŁASKIE | K300: PARA
A301: opakowania | B301: =K301&J301&G301&I301 -> PARARĘKAWY PŁASKIE420,1 | C301: OM-194-FPPA-010 | D301: RĘK P-F P STEAM/EO FORM 100M 420MM | E301: SZTUKA | F301: 152.08 | G301: 42 | H301: 10000 | I301: 0.1 | J301: RĘKAWY PŁASKIE | K301: PARA
A302: opakowania | B302: =K302&J302&G302&I302 -> PARARĘKAWY PŁASKIE50,1 | C302: OM-194-FPPA-011 | D302: RĘK P-F P STEAM/EO/FORM 200M 50MM | E302: SZTUKA | F302: 20.79 | G302: 5 | H302: 20000 | I302: 0.1 | J302: RĘKAWY PŁASKIE | K302: PARA
A303: opakowania | B303: =K303&J303&G303&I303 -> PARARĘKAWY PŁASKIE7,50,1 | C303: OM-194-FPPA-012 | D303: RĘK P-F P STEAM/EO/FORM 200M 75MM | E303: SZTUKA | F303: 31.96 | G303: 7.5 | H303: 20000 | I303: 0.1 | J303: RĘKAWY PŁASKIE | K303: PARA
A304: opakowania | B304: =K304&J304&G304&I304 -> PARARĘKAWY PŁASKIE100,1 | C304: OM-194-FPPA-013 | D304: RĘK F-P P STEAM/EO/FORM 200M 100MM | E304: SZTUKA | F304: 40.28 | G304: 10 | H304: 20000 | I304: 0.1 | J304: RĘKAWY PŁASKIE | K304: PARA
... A321: opakowania | B321: =K321&J321&G321&I321 -> PLAZMARĘKAWY TYVEK300,1 | C321: OM-194-TYPA-010 | D321: RĘK TYVEK-F P PLAZ 100M 300MM | E321: SZTUKA | F321: 250.35 | G321: 30 | H321: 10000 | I321: 0.1 | J321: RĘKAWY TYVEK | K321: PLAZMA
A322: opakowania | C322: OM-195-B060-001 | D322: PK B 300X300MM A2000 | E322: OPAKOWANIE | F322: 116.35 | G322: 30 | H322: =G322 -> 30 | J322: PAPIER DO STERYLIZACJI | K322: PARA | L322: =MID(D322,SEARCH(" A",D322)+2,4)/1 -> 2000 | M322: =F322/L322 -> 0.058175
A323: opakowania | C323: OM-195-B060-003 | D323: PK B 500X500MM A500 | E323: OPAKOWANIE | F323: 69.4 | G323: 50 | H323: =G323 -> 50 | J323: PAPIER DO STERYLIZACJI | K323: PARA | L323: =MID(D323,SEARCH(" A",D323)+2,4)/1 -> 500 | M323: =F323/L323 -> 0.1388
A324: opakowania | C324: OM-195-B060-004 | D324: PK B 600X600MM A500 | E324: OPAKOWANIE | F324: 105.43 | G324: 60 | H324: =G324 -> 60 | J324: PAPIER DO STERYLIZACJI | K324: PARA | L324: =MID(D324,SEARCH(" A",D324)+2,4)/1 -> 500 | M324: =F324/L324 -> 0.21086
A325: opakowania | C325: OM-195-B060-005 | D325: PK B 750X750MM A250 | E325: OPAKOWANIE | F325: 85 | G325: 75 | H325: =G325 -> 75 | J325: PAPIER DO STERYLIZACJI | K325: PARA | L325: =MID(D325,SEARCH(" A",D325)+2,4)/1 -> 250 | M325: =F325/L325 -> 0.34
A326: opakowania | C326: OM-195-B060-007 | D326: PK B 1000X1000MM A250 | E326: OPAKOWANIE | F326: 146.84 | G326: 100 | H326: =G326 -> 100 | J326: PAPIER DO STERYLIZACJI | K326: PARA | L326: =MID(D326,SEARCH(" A",D326)+2,4)/1 -> 250 | M326: =F326/L326 -> 0.58736
A327: opakowania | C327: OM-195-B060-008 | D327: PK B 1200X1200MM A100 | E327: OPAKOWANIE | F327: 86.97 | G327: 120 | H327: =G327 -> 120 | J327: PAPIER DO STERYLIZACJI | K327: PARA | L327: =MID(D327,SEARCH(" A",D327)+2,4)/1 -> 100 | M327: =F327/L327 -> 0.8697
A328: opakowania | C328: OM-195-K060-003 | D328: PK Z 500X500MM A500 | E328: OPAKOWANIE | F328: 76.88 | G328: 50 | H328: =G328 -> 50 | J328: PAPIER DO STERYLIZACJI | K328: PARA | L328: =MID(D328,SEARCH(" A",D328)+2,4)/1 -> 500 | M328: =F328/L328 -> 0.15376
A329: opakowania | C329: OM-195-K060-004 | D329: PK Z 600X600MM A500 | E329: OPAKOWANIE | F329: 103.62 | G329: 60 | H329: =G329 -> 60 | J329: PAPIER DO STERYLIZACJI | K329: PARA | L329: =MID(D329,SEARCH(" A",D329)+2,4)/1 -> 500 | M329: =F329/L329 -> 0.20724
A330: opakowania | C330: OM-195-K060-005 | D330: PK Z 750X750MM A250 | E330: OPAKOWANIE | F330: 82.39 | G330: 75 | H330: =G330 -> 75 | J330: PAPIER DO STERYLIZACJI | K330: PARA | L330: =MID(D330,SEARCH(" A",D330)+2,4)/1 -> 250 | M330: =F330/L330 -> 0.32956
A331: opakowania | C331: OM-195-K060-007 | D331: PK Z 1000X1000MM A250 | E331: OPAKOWANIE | F331: 138.03 | G331: 100 | H331: =G331 -> 100 | J331: PAPIER DO STERYLIZACJI | K331: PARA | L331: =MID(D331,SEARCH(" A",D331)+2,4)/1 -> 250 | M331: =F331/L331 -> 0.55212
A332: opakowania | C332: OM-195-K060-008 | D332: PK Z 1200X1200MM A100 | E332: OPAKOWANIE | F332: 84.56 | G332: 120 | H332: =G332 -> 120 | J332: PAPIER DO STERYLIZACJI | K332: PARA | L332: =MID(D332,SEARCH(" A",D332)+2,4)/1 -> 100 | M332: =F332/L332 -> 0.8456
A333: opakowania | C333: OM-195-MIX1-004 | D333: PK ST MIX 58G B/Z 600X600MM A500 | E333: OPAKOWANIE | F333: 97.73 | G333: 60 | H333: =G333 -> 60 | J333: PAPIER DO STERYLIZACJI | K333: PARA | L333: =MID(D333,SEARCH(" A",D333)+2,4)/1 -> 500 | M333: =F333/L333 -> 0.19546
... A339: opakowania | C339: OM-195-N060-008 | D339: PK N 1200X1200MM A100 | E339: OPAKOWANIE | F339: 94.25 | G339: 120 | H339: =G339 -> 120 | J339: PAPIER DO STERYLIZACJI | K339: PARA | L339: =MID(D339,SEARCH(" A",D339)+2,4)/1 -> 100 | M339: =F339/L339 -> 0.9425
A340: opakowania | C340: OM-196-MMMM-001 | D340: TOR SPF 150X250MM A500 | E340: KARTON | F340: 117 | J340: OPAKOWANIA POSTERYLIZACYJNE
A341: opakowania | C341: OM-196-MMMM-002 | D341: TOR SPF 200X300MM A500 | E341: KARTON | F341: 131.59 | J341: OPAKOWANIA POSTERYLIZACYJNE
A342: opakowania | C342: OM-196-MMMM-003 | D342: TOR SPF 300X500MM A250 | E342: KARTON | F342: 75.45 | J342: OPAKOWANIA POSTERYLIZACYJNE
A343: opakowania | C343: OM-196-MMMM-004 | D343: TOR SPF 400X550MM A250 | E343: KARTON | F343: 89.25 | J343: OPAKOWANIA POSTERYLIZACYJNE
A344: opakowania | C344: OM-196-MMMM-005 | D344: TOR SPF 400X760MM A100 | E344: KARTON | F344: 48.96 | J344: OPAKOWANIA POSTERYLIZACYJNE
A345: opakowania | C345: OM-196-MMMM-006 | D345: TOR SPF 600X760MM A100 | E345: KARTON | F345: 95.4 | J345: OPAKOWANIA POSTERYLIZACYJNE
A346: opakowania | C346: OM-199-N060-005 | D346: WŁÓK W ARK 60G N 100X100CM A250 | E346: OPAKOWANIE | F346: 311.61 | J346: WŁÓKNINA DO STERYLIZACJI | K346: PARA
A347: opakowania | C347: OM-199-N060-007 | D347: WŁÓK W ARK 60G N 120X120CM A100 | E347: OPAKOWANIE | F347: 219.22 | J347: WŁÓKNINA DO STERYLIZACJI | K347: PARA
C348: SE-231-B150-241 | D348: SC OLEJEK PIELĘG 150ML - GB/PL/CZ/RU-SK/UA/LT/LV | E348: OPAKOWANIE | F348: 6.58
C349: SE-231-B500-111 | D349: SC LOTION MYJĄCY 500ML - GB/PL/CZ/RU-SK/UA/LT/LV | E349: SZTUKA | F349: 7.08
C350: SE-231-B500-231 | D350: SC EMULSJA NAWI D/SKÓRY SUCH U4% 500ML - GB/PL/CZ/RU-SK/UA/LT/LV | E350: OPAKOWANIE | F350: 6.94
C351: SE-231-T100-251 | D351: SC KREM D/SUCH SKÓRY U10% 100ML - PL/HU | E351: OPAKOWANIE | F351: 3.37
C352: SE-231-T200-31P | D352: SC KREM OCHRONNY TL. CYNKU 200ML - PL/CZ/SK | E352: SZTUKA | F352: 9.06
C353: SE-231-T200-321 | D353: SC KREM OCHRONNY ARGININA 200ML - GB/RU/LT/LV/EE/UA | E353: SZTUKA | F353: 5.23
...

Sheet Budynki
A1: Budynki i budowle
B2: Wartość inwestycji na m2 | C2: 4500
C4: Jedn. Rozliczeniowa | D4: Ilość m2 na jedn. Rozl. | E4: Ilość jedn. Rozl. na zmianę | F4: Powierzchnia w m2 | G4: Wartość budynków | H4: Amortyzacja miesięcznie | I4: Remonty i naprawy miesięcznie
B5: Biura | C5: Stała | D5: 60 | E5: 1 | F5: =D5*E5 -> 60 | G5: =F5*$C$2 -> 270000 | H5: =G5/$G$19/12 -> 562.5 | I5: =G5*1%/12 -> 225
B6: Pomieszczenia socjalne | C6: Pracownik | D6: 4 | E6: =(#REF!+#REF!)/#REF! -> #REF! | F6: =D6*E6 -> #REF! | G6: =F6*$C$2 -> #REF! | H6: =G6/$G$19/12 -> #REF! | I6: =G6*1%/12 -> #REF!
B7: Magazynek materiałów | C7: Ilość STE | F7: =D7*E7 -> 0 | G7: =F7*$C$2 -> 0 | H7: =G7/$G$19/12 -> 0 | I7: =G7*1%/12 -> 0
B8: Brudna - Manual | C8: Pracownik | D8: 4 | E8: =(#REF!+#REF!)/#REF! -> #REF! | F8: =D8*E8 -> #REF! | G8: =F8*$C$2 -> #REF! | H8: =G8/$G$19/12 -> #REF! | I8: =G8*1%/12 -> #REF!
B9: Myjka | C9: Urządzenie | D9: 4 | F9: =D9*E9 -> 0 | G9: =F9*$C$2 -> 0 | H9: =G9/$G$19/12 -> 0 | I9: =G9*1%/12 -> 0
B10: Czysta - Manual | C10: Pracownik | D10: 4 | E10: =(#REF!+#REF!)/#REF! -> #REF! | F10: =D10*E10 -> #REF! | G10: =F10*$C$2 -> #REF! | H10: =G10/$G$19/12 -> #REF! | I10: =G10*1%/12 -> #REF!
B11: Steryl. Para | C11: Urządzenie | D11: 6 | F11: =D11*E11 -> 0 | G11: =F11*$C$2 -> 0 | H11: =G11/$G$19/12 -> 0 | I11: =G11*1%/12 -> 0
B12: Steryl. EO | C12: Urządzenie | D12: 5 | F12: =D12*E12 -> 0 | G12: =F12*$C$2 -> 0 | H12: =G12/$G$19/12 -> 0 | I12: =G12*1%/12 -> 0
B13: Steryl. Plazma | C13: Urządzenie | D13: 5 | F13: =D13*E13 -> 0 | G13: =F13*$C$2 -> 0 | H13: =G13/$G$19/12 -> 0 | I13: =G13*1%/12 -> 0
B14: Strefa sterylna | C14: Ilość STE | F14: =D14*E14 -> 0 | G14: =F14*$C$2 -> 0 | H14: =G14/$G$19/12 -> 0 | I14: =G14*1%/12 -> 0
B15: Warsztat | C15: Stała | D15: 30 | E15: 1 | F15: =D15*E15 -> 30 | G15: =F15*$C$2 -> 135000 | H15: =G15/$G$19/12 -> 281.25 | I15: =G15*1%/12 -> 112.5
B16: Stacja uzdatniania wody | C16: Stała | D16: 25 | E16: 1 | F16: =D16*E16 -> 25 | G16: =F16*$C$2 -> 112500 | H16: =G16/$G$19/12 -> 234.375 | I16: =G16*1%/12 -> 93.75
B17: Maszynownia | C17: Stała | D17: 30 | E17: 1 | F17: =D17*E17 -> 30 | G17: =F17*$C$2 -> 135000 | H17: =G17/$G$19/12 -> 281.25 | I17: =G17*1%/12 -> 112.5
B18: Budynki | F18: 1520.7 | G18: =SUM(G5:G17) -> #REF! | H18: =SUM(H5:H17) -> #REF! | I18: =SUM(I5:I17) -> #REF!
B19: Okres rozliczeniowy w latach | G19: 40
B20: Amortyzacja budynków rocznie | G20: =G18/G19 -> #REF!
B21: Amortyzacja budynków miesięcznie | G21: =G20/12 -> #REF!

Sheet Transport

Sheet Umowa Miejski
A2: Numer referencyjny | B2: Data początkowa umowy | C2: Data końcowa umowy | D2: Numer klienta | E2: Nazwa klienta | F2: Lokacja EBS | G2: Adres linia 1 | H2: Kod pozycji | I2: Opis | J2: Kod JM | K2: Cena wynik | L2: Ilość | M2: Ilość zrealizowana | N2: Wartość zrealizowana wg ceny przetargu | O2: Stopień realizacji | P2: Sprzedawca | Q2: Status | R2: Wynik | S2: Kod organizacji
A3: 1428/I/2018/PN | B3: 2018-04-09 | C3: 2018-07-15 | D3: 6897 | E3: SPECJALISTYCZNY SZPITAL MIEJSKI IM. M.KOPERNIKA TORUŃ BATOREGO | F3: 111022 | G3: Sterylizatornia. Specjalistyczny Szpital Miejski im. M. Kopernika | H3: UK-UKA-ST10-001 | I3: STER PARA BIELIZNA 1 STE | J3: SZ | K3: 16.5 | L3: 203 | M3: 0 | N3: 0 | O3: 0 | P3: STERYLIZATORNIA TORUŃ BATOREGO | Q3: Aktywna Umowa | R3: Wygrany | S3: PTU
A4: 1428/I/2018/PN | B4: 2018-04-09 | C4: 2018-07-15 | D4: 6897 | E4: SPECJALISTYCZNY SZPITAL MIEJSKI IM. M.KOPERNIKA TORUŃ BATOREGO | F4: 111022 | G4: Sterylizatornia. Specjalistyczny Szpital Miejski im. M. Kopernika | H4: UK-UKA-ST12-001 | I4: STER PARA BIELIZNA 1/2 STE | J4: SZ | K4: 14 | L4: 3 | M4: 0 | N4: 0 | O4: 0 | P4: STERYLIZATORNIA TORUŃ BATOREGO | Q4: Aktywna Umowa | R4: Wygrany | S4: PTU
A5: 1428/I/2018/PN | B5: 2018-04-09 | C5: 2018-07-15 | D5: 6897 | E5: SPECJALISTYCZNY SZPITAL MIEJSKI IM. M.KOPERNIKA TORUŃ BATOREGO | F5: 111022 | G5: Sterylizatornia. Specjalistyczny Szpital Miejski im. M. Kopernika | H5: UK-UKA-ST14-001 | I5: STER PARA BIELIZNA 1/4 STE | J5: SZ | K5: 9 | L5: 3 | M5: 0 | N5: 0 | O5: 0 | P5: STERYLIZATORNIA TORUŃ BATOREGO | Q5: Aktywna Umowa | R5: Wygrany | S5: PTU
A6: 1428/I/2018/PN | B6: 2018-04-09 | C6: 2018-07-15 | D6: 6897 | E6: SPECJALISTYCZNY SZPITAL MIEJSKI IM. M.KOPERNIKA TORUŃ BATOREGO | F6: 111022 | G6: Sterylizatornia. Specjalistyczny Szpital Miejski im. M. Kopernika | H6: UK-UKA-ST16-001 | I6: STER PARA BIELIZNA 1/6 STE | J6: SZ | K6: 6.2 | L6: 75 | M6: 0 | N6: 0 | O6: 0 | P6: STERYLIZATORNIA TORUŃ BATOREGO | Q6: Aktywna Umowa | R6: Wygrany | S6: PTU
A7: 1428/I/2018/PN | B7: 2018-04-09 | C7: 2018-07-15 | D7: 6897 | E7: SPECJALISTYCZNY SZPITAL MIEJSKI IM. M.KOPERNIKA TORUŃ BATOREGO | F7: 111022 | G7: Sterylizatornia. Specjalistyczny Szpital Miejski im. M. Kopernika | H7: UK-UKA-ST18-001 | I7: STER PARA BIELIZNA 1/8 STE | J7: SZ | K7: 4.1 | L7: 106 | M7: 0 | N7: 0 | O7: 0 | P7: STERYLIZATORNIA TORUŃ BATOREGO | Q7: Aktywna Umowa | R7: Wygrany | S7: PTU
A8: 1428/I/2018/PN | B8: 2018-04-09 | C8: 2018-07-15 | D8: 6897 | E8: SPECJALISTYCZNY SZPITAL MIEJSKI IM. M.KOPERNIKA TORUŃ BATOREGO | F8: 111022 | G8: Sterylizatornia. Specjalistyczny Szpital Miejski im. M. Kopernika | H8: UK-UKA-ST34-001 | I8: STER PARA BIELIZNA 3/4 STE | J8: SZ | K8: 20 | L8: 3 | M8: 0 | N8: 0 | O8: 0 | P8: STERYLIZATORNIA TORUŃ BATOREGO | Q8: Aktywna Umowa | R8: Wygrany | S8: PTU
A9: 1428/I/2018/PN | B9: 2018-04-09 | C9: 2018-07-15 | D9: 6897 | E9: SPECJALISTYCZNY SZPITAL MIEJSKI IM. M.KOPERNIKA TORUŃ BATOREGO | F9: 111022 | G9: Sterylizatornia. Specjalistyczny Szpital Miejski im. M. Kopernika | H9: UK-UKB-0020-001 | I9: STER PARA NARZ 1->4 W REK DO 20|7,5 | J9: SZ | K9: 1.8 | L9: 840 | M9: 258 | N9: 464.4 | O9: 30.714286 | P9: STERYLIZATORNIA TORUŃ BATOREGO | Q9: Aktywna Umowa | R9: Wygrany | S9: PTU
A10: 1428/I/2018/PN | B10: 2018-04-09 | C10: 2018-07-15 | D10: 6897 | E10: SPECJALISTYCZNY SZPITAL MIEJSKI IM. M.KOPERNIKA TORUŃ BATOREGO | F10: 111022 | G10: Sterylizatornia. Specjalistyczny Szpital Miejski im. M. Kopernika | H10: UK-UKB-0020-002 | I10: STER PARA NARZ 1->4 W REK DO 20|10 | J10: SZ | K10: 2.6 | L10: 105 | M10: 18 | N10: 46.8 | O10: 17.142857 | P10: STERYLIZATORNIA TORUŃ BATOREGO | Q10: Aktywna Umowa | R10: Wygrany | S10: PTU
A11: 1428/I/2018/PN | B11: 2018-04-09 | C11: 2018-07-15 | D11: 6897 | E11: SPECJALISTYCZNY SZPITAL MIEJSKI IM. M.KOPERNIKA TORUŃ BATOREGO | F11: 111022 | G11: Sterylizatornia. Specjalistyczny Szpital Miejski im. M. Kopernika | H11: UK-UKB-0020-003 | I11: STER PARA NARZ 1->4 W REK DO 20|12 | J11: SZ | K11: 3.3 | L11: 2010 | M11: 609 | N11: 2009.7 | O11: 30.298507 | P11: STERYLIZATORNIA TORUŃ BATOREGO | Q11: Aktywna Umowa | R11: Wygrany | S11: PTU
A12: 1428/I/2018/PN | B12: 2018-04-09 | C12: 2018-07-15 | D12: 6897 | E12: SPECJALISTYCZNY SZPITAL MIEJSKI IM. M.KOPERNIKA TORUŃ BATOREGO | F12: 111022 | G12: Sterylizatornia. Specjalistyczny Szpital Miejski im. M. Kopernika | H12: UK-UKB-0020-004 | I12: STER PARA NARZ 1->4 W REK DO 20|15 | J12: SZ | K12: 4.1 | L12: 840 | M12: 194 | N12: 795.4 | O12: 23.095238 | P12: STERYLIZATORNIA TORUŃ BATOREGO | Q12: Aktywna Umowa | R12: Wygrany | S12: PTU
A13: 1428/I/2018/PN | B13: 2018-04-09 | C13: 2018-07-15 | D13: 6897 | E13: SPECJALISTYCZNY SZPITAL MIEJSKI IM. M.KOPERNIKA TORUŃ BATOREGO | F13: 111022 | G13: Sterylizatornia. Specjalistyczny Szpital Miejski im. M. Kopernika | H13: UK-UKB-0040-001 | I13: STER PARA NARZ 1->4 W REK DO 40|7,5 | J13: SZ | K13: 2.95 | L13: 30 | M13: 10 | N13: 29.5 | O13: 33.333333 | P13: STERYLIZATORNIA TORUŃ BATOREGO | Q13: Aktywna Umowa | R13: Wygrany | S13: PTU
A14: 1428/I/2018/PN | B14: 2018-04-09 | C14: 2018-07-15 | D14: 6897 | E14: SPECJALISTYCZNY SZPITAL MIEJSKI IM. M.KOPERNIKA TORUŃ BATOREGO | F14: 111022 | G14: Sterylizatornia. Specjalistyczny Szpital Miejski im. M. Kopernika | H14: UK-UKB-0040-002 | I14: STER PARA NARZ 1->4 W REK DO 40|10 | J14: SZ | K14: 3.81 | L14: 90 | M14: 33 | N14: 125.73 | O14: 36.666667 | P14: STERYLIZATORNIA TORUŃ BATOREGO | Q14: Aktywna Umowa | R14: Wygrany | S14: PTU
... A125: 1428/I/2018/PN | B125: 2018-04-09 | C125: 2018-07-15 | D125: 6897 | E125: SPECJALISTYCZNY SZPITAL MIEJSKI IM. M.KOPERNIKA TORUŃ BATOREGO | F125: 111022 | G125: Sterylizatornia. Specjalistyczny Szpital Miejski im. M. Kopernika | H125: UK-UKB-XXXX-060 | I125: Dezynfekcja. Obuwie operacyjne. | J125: SZ | K125: 2.9 | L125: 4440 | M125: 1186 | N125: 3439.4 | O125: 26.711712 | P125: STERYLIZATORNIA TORUŃ BATOREGO | Q125: Aktywna Umowa | R125: Wygrany | S125: PTU

Sheet Testy i preparaty
A1: 6) Jaki przyjąć standard zużycia testów na proces sterylizacji parowej i plazmowej - jakie indeksy i ilości?
A2: Metoda sterylizacji | B2: Nazwa testu | C2: Indeks | D2: Ilość w opakowaniu (szt) | E2: Częstotliwość stosowania
A3: PARA | B3: Testy klasa VI | C3: 14-TST-XXXX-209 | D3: 200 | E3: 3 sztuki do każdego procesu produkcyjnego | F3: =SUMIF(Materiały!C:C,'Testy i preparaty'!C3,Materiały!F:F) -> 64 | G3: =F3/D3 -> 0.32 | H3: 3 | I3: =G3*H3 -> 0.96
B4: Testy klasa V | C4: NM-192-BIPN-037 | D4: 1000 | E4: 1 sztuka do pierwszego procesu produkcyjnego | F4: =SUMIF(Materiały!C:C,'Testy i preparaty'!C4,Materiały!F:F) -> 350 | G4: =F4/D4 -> 0.35 | H4: 1 | I4: =G4*H4 -> 0.35
B5: BD | C5: 14-SPL-XXXX-390 | D5: 100 | E5: 1 sztuka dziennie | F5: =SUMIF(Materiały!C:C,'Testy i preparaty'!C5,Materiały!F:F) -> 400 | G5: =F5/D5 -> 4 | H5: 1 | I5: =G5*H5 -> 4
B6: Test biologiczny | C6: NM-192-BIPN-010 | D6: 100 | E6: 1 sztuka do pierwszego procesu produkcyjnego | F6: =SUMIF(Materiały!C:C,'Testy i preparaty'!C6,Materiały!F:F) -> 1245.2 | G6: =F6/D6 -> 12.452 | H6: 1 | I6: =G6*H6 -> 12.452
A7: EO | B7: Test paskowy | C7: 14-ODC-XXXX-223 | D7: 100 | E7: 1 sztuka do procesu | F7: =SUMIF(Materiały!C:C,'Testy i preparaty'!C7,Materiały!F:F) -> 273 | G7: =F7/D7 -> 2.73 | H7: 1 | I7: =G7*H7 -> 2.73
B8: Test bologiczny | C8: 14-TST-XXXX-115 | D8: 100 | E8: 1 sztuka do procesu | F8: =SUMIF(Materiały!C:C,'Testy i preparaty'!C8,Materiały!F:F) -> 476 | G8: =F8/D8 -> 4.76 | H8: 1 | I8: =G8*H8 -> 4.76
B9: Nabój z EO | C9: 14-ODC-XXXX-222 | D9: 12 | E9: 1 sztuka do procesu | F9: =SUMIF(Materiały!C:C,'Testy i preparaty'!C9,Materiały!F:F) -> 27.54 | G9: =F9/D9 -> 2.295 | H9: 1 | I9: =G9*H9 -> 2.295
A10: MYJNIE | B10: DES CHECK | C10: 14-TST-XXXX-112 | D10: 100 | E10: 1 sztuka do procesu | F10: =SUMIF(Materiały!C:C,'Testy i preparaty'!C10,Materiały!F:F) -> 102.57 | G10: =F10/D10 -> 1.0257 | H10: 1 | I10: =G10*H10 -> 1.0257
B11: STF | C11: 14-TST-XXXX-114 | D11: 100 | E11: 1 sztuka raz w tygodniu | F11: =SUMIF(Materiały!C:C,'Testy i preparaty'!C11,Materiały!F:F) -> 194 | G11: =F11/D11 -> 1.94 | H11: 1 | I11: =G11*H11 -> 1.94
A12: PLAZMA | B12: Test paskowy | C12: 14-TST-XXXX-116 | D12: 100 | E12: 1 sztuka do procesu | F12: =SUMIF(Materiały!C:C,'Testy i preparaty'!C12,Materiały!F:F) -> 90.11 | G12: =F12/D12 -> 0.9011 | H12: 1 | I12: =G12*H12 -> 0.9011
B13: Test bologiczny | C13: 14-TST-XXXX-109 | D13: 100 | E13: 1 sztuka do procesu | F13: =SUMIF(Materiały!C:C,'Testy i preparaty'!C13,Materiały!F:F) -> 1050.53 | G13: =F13/D13 -> 10.5053 | H13: 1 | I13: =G13*H13 -> 10.5053
B14: Kaseta | C14: 14-TST-XXXX-111 | D14: 5 | E14: 1 kaseta na 5 procesów | F14: =SUMIF(Materiały!C:C,'Testy i preparaty'!C14,Materiały!F:F) -> 265.73 | G14: =F14/D14 -> 53.146 | H14: 1 | I14: =G14*H14 -> 53.146
A19: 7) Jaki przyjąć standard zużycia preparatów na proces mycia/dezynfekcji automatycznej - jakie indeksy i ilości?
A20: Rodzaj procesu | B20: Nazwa środka | C20: Indeks | D20: Pojemność (l) | E20: Założone zużycie na jeden proces (dm3)
A21: termiczny | B21: MediClean forte | C21: 14-ODC-XXXX-870 | D21: 20 | E21: 0.19 | F21: =SUMIF(Materiały!C:C,'Testy i preparaty'!C21,Materiały!F:F) -> 372.58 | G21: =F21/D21 -> 18.629 | I21: =E21*G21 -> 3.53951
B22: MediKlar | C22: 14-ODC-XXXX-876 | D22: 20 | E22: 0.03 | F22: =SUMIF(Materiały!C:C,'Testy i preparaty'!C22,Materiały!F:F) -> 372.42 | G22: =F22/D22 -> 18.621 | I22: =E22*G22 -> 0.55863
A23: chemiczno-termiczny | B23: MediClean forte | C23: 14-ODC-XXXX-870 | D23: 20 | E23: 0.19 | F23: =SUMIF(Materiały!C:C,'Testy i preparaty'!C23,Materiały!F:F) -> 372.58 | G23: =F23/D23 -> 18.629 | I23: =E23*G23 -> 3.53951
B24: Septo DN | C24: 14-ODC-XXXX-879 | D24: 20 | E24: 0.35 | F24: =SUMIF(Materiały!C:C,'Testy i preparaty'!C24,Materiały!F:F) -> 394.52 | G24: =F24/D24 -> 19.726 | I24: =E24*G24 -> 6.9041
A26: 9) Jakie przyjąć standardowe czasy jednego procesu urządzeń: sterylizatora parowego, sterylizatora niskotemperaturowego, myjki?
A27: Metoda sterylizacji | B27: Czas procesu (min)
A28: PARA | B28: 65 | F28: =B28*5/60 -> 5.4166667 | H28: =8-F28 -> 2.5833333 | I28: =H28/5 -> 0.51666667
A29: EO | B29: 720 (16h)
A30: MYJNIA | B30: 60
A31: PLAZMA | B31: 60
A33: Środki dezynfekcja manualalna
A34: Nazwa środka | B34: Indeks | C34: Pojemność (l)
A35: Viruton Strong | B35: 14-ODC-XXX-283 | C35: 5
A36: Aniosyme DD1 | B36: 14-ODC-XXX-863 | C36: 5
A39: Liczba pracowników
A41: Łącznie w Sterylizatorni zatrudnione są 24 osoby.
A42: 16 osób odpowiedzialnych jest za obróbkę narzędzi (w tym 2 brygadzistki, które czynnie uczestniczą w pracy).
A43: 5 osób to konfekcjonerzy - zajmują się tylko kompresami i podkładami ginekoligicznymi
A44: 2 osoby "biurowe"
A45: 1 osoba sprzątająca

Sheet mapowanie_CiLo
E1: dane za 2018.01-03
A2: Grupa cenowa | B2: Rodzaj | C2: Dezynfekcja | D2: Sterylizacja | E2: ilość D za 3M | F2: ilość S za 3M | H2: Grupa cenowa | I2: Indeks Oracle | J2: Opis Oracle | L2: grupa&indeks | M2: ilość 1M
A3: Poz 01 Bielizna - pakiet duży | B3: Bielizna, opatrunki | C3: Dezynfekcja | D3: Sterylizacja parowa | E3: 0 | F3: 973 | H3: BIE 3/4 | I3: UK-UKA-ST34-001 | J3: STER PARA BIELIZNA 3/4 STE | L3: =H3&I3 -> BIE 3/4UK-UKA-ST34-001 | M3: =IF(F3=0,E3,F3)/3 -> 324.33333
A4: Poz 02 Bielizna - pakiet średni | B4: Bielizna, opatrunki | C4: Dezynfekcja | D4: Sterylizacja parowa | E4: 0 | F4: 2489 | H4: BIE 1/2 | I4: UK-UKA-ST12-001 | J4: STER PARA BIELIZNA 1/2 STE | L4: =H4&I4 -> BIE 1/2UK-UKA-ST12-001 | M4: =IF(F4=0,E4,F4)/3 -> 829.66667
A5: Poz 02 Bielizna - pakiet średni | B5: Bielizna, opatrunki | D5: Sterylizacja parowa | E5: 0 | F5: 635 | H5: BIE 1/2 | I5: UK-UKA-ST12-001 | J5: STER PARA BIELIZNA 1/2 STE | L5: =H5&I5 -> BIE 1/2UK-UKA-ST12-001 | M5: =IF(F5=0,E5,F5)/3 -> 211.66667
A6: Poz 03 Bielizna - pakiet mały | B6: Bielizna, opatrunki | C6: Dezynfekcja | D6: Sterylizacja parowa | E6: 0 | F6: 3367 | H6: BIE 1/4 | I6: UK-UKA-ST14-001 | J6: STER PARA BIELIZNA 1/4 STE | L6: =H6&I6 -> BIE 1/4UK-UKA-ST14-001 | M6: =IF(F6=0,E6,F6)/3 -> 1122.3333
A7: Poz 03 Bielizna - pakiet mały | B7: Bielizna, opatrunki | D7: Sterylizacja parowa | E7: 0 | F7: 29 | H7: BIE 1/4 | I7: UK-UKA-ST14-001 | J7: STER PARA BIELIZNA 1/4 STE | L7: =H7&I7 -> BIE 1/4UK-UKA-ST14-001 | M7: =IF(F7=0,E7,F7)/3 -> 9.6666667
A8: Poz 04 Zestaw - 1 STE | B8: Zestaw narzędziowy | C8: Dezynfekcja | D8: Sterylizacja parowa | E8: 1612 | F8: 2016 | H8: PA P >91 | I8: UK-UKB-WB91-001 | J8: STER PARA, >91 NARZ, BLOK OP. | L8: =H8&I8 -> PA P >91UK-UKB-WB91-001 | M8: =IF(F8=0,E8,F8)/3 -> 672
A9: Poz 04 Zestaw - 1 STE | B9: Zestaw narzędziowy | D9: Sterylizacja parowa | E9: 0 | F9: 89 | H9: PA P >91 | I9: UK-UKB-WB91-001 | J9: STER PARA, >91 NARZ, BLOK OP. | L9: =H9&I9 -> PA P >91UK-UKB-WB91-001 | M9: =IF(F9=0,E9,F9)/3 -> 29.666667
A10: Poz 06 Zestaw - 3/4 STE | B10: Zestaw narzędziowy | C10: Dezynfekcja | D10: Sterylizacja parowa | E10: 1559 | F10: 1650 | H10: PA P <90 | I10: UK-UKB-WB90-001 | J10: STER PARA, <90 NARZ, BLOK OP. | L10: =H10&I10 -> PA P <90UK-UKB-WB90-001 | M10: =IF(F10=0,E10,F10)/3 -> 550
A11: Poz 08 Zestaw - 1/2 STE | B11: Narzędzie pojedyncze | C11: Dezynfekcja | D11: Sterylizacja parowa | E11: 6 | F11: 14 | H11: PA P <70 | I11: UK-UKB-WB70-001 | J11: STER PARA, <70 NARZ, BLOK OP. | L11: =H11&I11 -> PA P <70UK-UKB-WB70-001 | M11: =IF(F11=0,E11,F11)/3 -> 4.6666667
A12: Poz 08 Zestaw - 1/2 STE | B12: Zestaw narzędziowy | C12: Dezynfekcja | D12: Sterylizacja parowa | E12: 2959 | F12: 3255 | H12: PA P <70 | I12: UK-UKB-WB70-001 | J12: STER PARA, <70 NARZ, BLOK OP. | L12: =H12&I12 -> PA P <70UK-UKB-WB70-001 | M12: =IF(F12=0,E12,F12)/3 -> 1085
A13: Poz 08 Zestaw - 1/2 STE | B13: Zestaw narzędziowy | D13: Sterylizacja parowa | E13: 0 | F13: 2 | H13: PA P <70 | I13: UK-UKB-WB70-001 | J13: STER PARA, <70 NARZ, BLOK OP. | L13: =H13&I13 -> PA P <70UK-UKB-WB70-001 | M13: =IF(F13=0,E13,F13)/3 -> 0.66666667
A14: Poz 11 Narzędzie/pakiet - 5 cm | B14: Bielizna, opatrunki | C14: Dezynfekcja | D14: Sterylizacja parowa | E14: 0 | F14: 147 | H14: BIE R 7,5 x 40 | L14: =H14&I14 -> BIE R 7,5 x 40 | M14: =IF(F14=0,E14,F14)/3 -> 49
A15: Poz 11 Narzędzie/pakiet - 5 cm | B15: Narzędzie pojedyncze | C15: Dezynfekcja | D15: Sterylizacja parowa | E15: 962 | F15: 1100 | H15: PA R 7,5 x 40 | I15: UK-UKB-0040-001 | J15: STER PARA NARZ 1->4 W REK DO 40|7,5 | L15: =H15&I15 -> PA R 7,5 x 40UK-UKB-0040-001 | M15: =IF(F15=0,E15,F15)/3 -> 366.66667
A16: Poz 12 Narzędzie/pakiet - 7,5 cm dezynfekcja | B16: Narzędzie pojedyncze | C16: Dezynfekcja | D16: Sterylizacja parowa | E16: 6 | F16: 6 | H16: PA R 7,5 x 40 | I16: UK-UKB-0040-001 | J16: STER PARA NARZ 1->4 W REK DO 40|7,5 | L16: =H16&I16 -> PA R 7,5 x 40UK-UKB-0040-001 | M16: =IF(F16=0,E16,F16)/3 -> 2
A17: Poz 13 Narzędzie/pakiet - 7,5 cm | B17: Bielizna, opatrunki | C17: Dezynfekcja | D17: Sterylizacja parowa | E17: 0 | F17: 474 | H17: BIE R 7,5 x 40 | L17: =H17&I17 -> BIE R 7,5 x 40 | M17: =IF(F17=0,E17,F17)/3 -> 158
A18: Poz 13 Narzędzie/pakiet - 7,5 cm | B18: Narzędzie pojedyncze | C18: Dezynfekcja | D18: Sterylizacja parowa | E18: 7093 | F18: 7571 | H18: PA R 7,5 x 40 | I18: UK-UKB-0040-001 | J18: STER PARA NARZ 1->4 W REK DO 40|7,5 | L18: =H18&I18 -> PA R 7,5 x 40UK-UKB-0040-001 | M18: =IF(F18=0,E18,F18)/3 -> 2523.6667
A19: Poz 13 Narzędzie/pakiet - 7,5 cm | B19: Narzędzie pojedyncze | D19: Sterylizacja parowa | E19: 0 | F19: 66 | H19: BIE R 7,5 x 40 | L19: =H19&I19 -> BIE R 7,5 x 40 | M19: =IF(F19=0,E19,F19)/3 -> 22
A20: Poz 15 Narzędzie/pakiet - 10 cm | B20: Bielizna, opatrunki | C20: Dezynfekcja | D20: Sterylizacja parowa | E20: 0 | F20: 526 | H20: BIE R 10 x 40 | L20: =H20&I20 -> BIE R 10 x 40 | M20: =IF(F20=0,E20,F20)/3 -> 175.33333
A21: Poz 15 Narzędzie/pakiet - 10 cm | B21: Narzędzie pojedyncze | C21: Dezynfekcja | D21: Sterylizacja parowa | E21: 5530 | F21: 5855 | H21: PA R 10 x 40 | I21: UK-UKB-0040-002 | J21: STER PARA NARZ 1->4 W REK DO 40|10 | L21: =H21&I21 -> PA R 10 x 40UK-UKB-0040-002 | M21: =IF(F21=0,E21,F21)/3 -> 1951.6667
A22: Poz 15 Narzędzie/pakiet - 10 cm | B22: Narzędzie pojedyncze | D22: Sterylizacja parowa | E22: 0 | F22: 21 | H22: BIE R 10 x 40 | L22: =H22&I22 -> BIE R 10 x 40 | M22: =IF(F22=0,E22,F22)/3 -> 7
A23: Poz 17 Narzędzie/pakiet - 12 cm | B23: Bielizna, opatrunki | C23: Dezynfekcja | D23: Sterylizacja parowa | E23: 0 | F23: 2837 | H23: BIE R 12 x 40 | L23: =H23&I23 -> BIE R 12 x 40 | M23: =IF(F23=0,E23,F23)/3 -> 945.66667
A24: Poz 17 Narzędzie/pakiet - 12 cm | B24: Narzędzie pojedyncze | C24: Dezynfekcja | D24: Sterylizacja parowa | E24: 10607 | F24: 11051 | H24: PA R 12 x 40 | I24: UK-UKB-0040-003 | J24: STER PARA NARZ 1->4 W REK DO 40|12 | L24: =H24&I24 -> PA R 12 x 40UK-UKB-0040-003 | M24: =IF(F24=0,E24,F24)/3 -> 3683.6667
A25: Poz 17 Narzędzie/pakiet - 12 cm | B25: Narzędzie pojedyncze | D25: Sterylizacja parowa | E25: 0 | F25: 20 | H25: BIE R 12 x 40 | L25: =H25&I25 -> BIE R 12 x 40 | M25: =IF(F25=0,E25,F25)/3 -> 6.6666667
A26: Poz 17 Narzędzie/pakiet - 12 cm | B26: Zestaw narzędziowy | C26: Dezynfekcja | D26: Sterylizacja parowa | E26: 4 | F26: 5 | H26: PA P <10 | I26: UK-UKB-WB10-001 | J26: STER PARA, <10 NARZ, BLOK OP. | L26: =H26&I26 -> PA P <10UK-UKB-WB10-001 | M26: =IF(F26=0,E26,F26)/3 -> 1.6666667
A27: Poz 17 Narzędzie/pakiet - 15 cm dezynfekcja | B27: Narzędzie pojedyncze | C27: Dezynfekcja | E27: 39 | F27: 0 | H27: DEZ R 15 x 40 | I27: UK-UKB-A040-106 | J27: AUTOMATYCZNA DEZYNFEKCJA NARZĘDZI W RĘKAWIE DO 40|15 | L27: =H27&I27 -> DEZ R 15 x 40UK-UKB-A040-106 | M27: =IF(F27=0,E27,F27)/3 -> 13
A28: Poz 18 Narzędzie/pakiet - 15 cm | B28: Bielizna, opatrunki | C28: Dezynfekcja | D28: Sterylizacja parowa | E28: 0 | F28: 2594 | H28: BIE R 15 x 40 | L28: =H28&I28 -> BIE R 15 x 40 | M28: =IF(F28=0,E28,F28)/3 -> 864.66667
A29: Poz 18 Narzędzie/pakiet - 15 cm | B29: Bielizna, opatrunki | D29: Sterylizacja parowa | E29: 0 | F29: 25 | H29: BIE R 15 x 40 | L29: =H29&I29 -> BIE R 15 x 40 | M29: =IF(F29=0,E29,F29)/3 -> 8.3333333
A30: Poz 18 Narzędzie/pakiet - 15 cm | B30: Narzędzie pojedyncze | C30: Dezynfekcja | D30: Sterylizacja parowa | E30: 9953 | F30: 10944 | H30: PA R 15 x 40 | I30: UK-UKB-0040-004 | J30: STER PARA NARZ 1->4 W REK DO 40|15 | L30: =H30&I30 -> PA R 15 x 40UK-UKB-0040-004 | M30: =IF(F30=0,E30,F30)/3 -> 3648
A31: Poz 18 Narzędzie/pakiet - 15 cm | B31: Narzędzie pojedyncze | C31: Dezynfekcja | D31: Sterylizacja plazmowa | E31: 2 | F31: 4 | H31: Tyvek 15 x 40 | I31: UK-UKB-N040-003 | J31: STER NISKOT NARZ 1->4 W REK DO 40|15 | L31: =H31&I31 -> Tyvek 15 x 40UK-UKB-N040-003 | M31: =IF(F31=0,E31,F31)/3 -> 1.3333333
A32: Poz 18 Narzędzie/pakiet - 15 cm | B32: Narzędzie pojedyncze | D32: Sterylizacja parowa | E32: 0 | F32: 68 | H32: BIE R 15 x 40 | L32: =H32&I32 -> BIE R 15 x 40 | M32: =IF(F32=0,E32,F32)/3 -> 22.666667
A33: Poz 18 Narzędzie/pakiet - 15 cm | B33: Zestaw narzędziowy | C33: Dezynfekcja | D33: Sterylizacja parowa | E33: 381 | F33: 385 | H33: PA P <30 | I33: UK-UKB-WB30-001 | J33: STER PARA, <30 NARZ, BLOK OP. | L33: =H33&I33 -> PA P <30UK-UKB-WB30-001 | M33: =IF(F33=0,E33,F33)/3 -> 128.33333
A34: Poz 19 Plazma - pakiet bardzo mały (PM 1) | B34: Narzędzie pojedyncze | C34: Dezynfekcja | D34: Sterylizacja parowa | E34: 6 | F34: 6 | H34: PA R 7,5 x 40 | I34: UK-UKB-0040-001 | J34: STER PARA NARZ 1->4 W REK DO 40|7,5 | L34: =H34&I34 -> PA R 7,5 x 40UK-UKB-0040-001 | M34: =IF(F34=0,E34,F34)/3 -> 2
A35: Poz 19 Plazma - pakiet bardzo mały (PM 1) | B35: Narzędzie pojedyncze | C35: Dezynfekcja | D35: Sterylizacja plazmowa | E35: 524 | F35: 554 | H35: Tyvek 7,5 x 40 | I35: UK-UKB-N040-008 | J35: STER NISKOT NARZ 1->4 W REK DO 40|7,5 | L35: =H35&I35 -> Tyvek 7,5 x 40UK-UKB-N040-008 | M35: =IF(F35=0,E35,F35)/3 -> 184.66667
A36: Poz 20 Plazma - pakiet mały (PM 2) | B36: Narzędzie pojedyncze | C36: Dezynfekcja | D36: Sterylizacja plazmowa | E36: 846 | F36: 1877 | H36: Tyvek 12 x 40 | I36: UK-UKB-N040-002 | J36: STER NISKOT NARZ 1->4 W REK DO 40|12 | L36: =H36&I36 -> Tyvek 12 x 40UK-UKB-N040-002 | M36: =IF(F36=0,E36,F36)/3 -> 625.66667
A37: Poz 20 Plazma - pakiet mały (PM 2) | B37: Narzędzie pojedyncze | D37: Sterylizacja plazmowa | E37: 0 | F37: 125 | H37: Tyvek 12 x 40 | I37: UK-UKB-N040-002 | J37: STER NISKOT NARZ 1->4 W REK DO 40|12 | L37: =H37&I37 -> Tyvek 12 x 40UK-UKB-N040-002 | M37: =IF(F37=0,E37,F37)/3 -> 41.666667
A38: Poz 21 Plazma - pakiet średni (PS) | B38: Narzędzie pojedyncze | C38: Dezynfekcja | D38: Sterylizacja plazmowa | E38: 2029 | F38: 4055 | H38: Tyvek 20 x 40 | I38: UK-UKB-N040-004 | J38: STER NISKOT NARZ 1->4 W REK DO 40|20 | L38: =H38&I38 -> Tyvek 20 x 40UK-UKB-N040-004 | M38: =IF(F38=0,E38,F38)/3 -> 1351.6667
A39: Poz 21 Plazma - pakiet średni (PS) | B39: Narzędzie pojedyncze | D39: Sterylizacja plazmowa | E39: 0 | F39: 88 | H39: Tyvek 20 x 40 | I39: UK-UKB-N040-004 | J39: STER NISKOT NARZ 1->4 W REK DO 40|20 | L39: =H39&I39 -> Tyvek 20 x 40UK-UKB-N040-004 | M39: =IF(F39=0,E39,F39)/3 -> 29.333333
A40: Poz 21 Plazma - pakiet średni (PS) | B40: Zestaw narzędziowy | C40: Dezynfekcja | D40: Sterylizacja plazmowa | E40: 1 | F40: 1 | H40: Tyvek 20 x 40 | I40: UK-UKB-N040-004 | J40: STER NISKOT NARZ 1->4 W REK DO 40|20 | L40: =H40&I40 -> Tyvek 20 x 40UK-UKB-N040-004 | M40: =IF(F40=0,E40,F40)/3 -> 0.33333333
A41: Poz 21 Plazma - pakiet średni (PS) | B41: Zestaw narzędziowy | D41: Sterylizacja plazmowa | E41: 0 | F41: 5 | H41: Tyvek 20 x 40 | I41: UK-UKB-N040-004 | J41: STER NISKOT NARZ 1->4 W REK DO 40|20 | L41: =H41&I41 -> Tyvek 20 x 40UK-UKB-N040-004 | M41: =IF(F41=0,E41,F41)/3 -> 1.6666667
A42: Poz 22 Plazma - pakiet duży (PD 3) | B42: Narzędzie pojedyncze | C42: Dezynfekcja | D42: Sterylizacja plazmowa | E42: 403 | F42: 768 | H42: Tyvek 32 x 40 | I42: UK-UKB-N040-006 | J42: STER NISKOT NARZ 1->4 W REK DO 40|32 | L42: =H42&I42 -> Tyvek 32 x 40UK-UKB-N040-006 | M42: =IF(F42=0,E42,F42)/3 -> 256
A43: Poz 22 Plazma - pakiet duży (PD 3) | B43: Narzędzie pojedyncze | D43: Sterylizacja plazmowa | E43: 0 | F43: 5 | H43: Tyvek 32 x 40 | I43: UK-UKB-N040-006 | J43: STER NISKOT NARZ 1->4 W REK DO 40|32 | L43: =H43&I43 -> Tyvek 32 x 40UK-UKB-N040-006 | M43: =IF(F43=0,E43,F43)/3 -> 1.6666667
A44: Poz 23 Plazma - pakiet bardzo duży (PD 4) | B44: Narzędzie pojedyncze | C44: Dezynfekcja | D44: Sterylizacja plazmowa | E44: 54 | F44: 99 | H44: Tyvek 42 x 40 | I44: UK-UKB-N040-007 | J44: STER NISKOT NARZ 1->4 W REK DO 40|42 | L44: =H44&I44 -> Tyvek 42 x 40UK-UKB-N040-007 | M44: =IF(F44=0,E44,F44)/3 -> 33
A45: Poz 23 Plazma - pakiet bardzo duży (PD 4) | B45: Zestaw narzędziowy | C45: Dezynfekcja | D45: Sterylizacja plazmowa | E45: 1 | F45: 2 | H45: Tyvek 42 x 40 | I45: UK-UKB-N040-007 | J45: STER NISKOT NARZ 1->4 W REK DO 40|42 | L45: =H45&I45 -> Tyvek 42 x 40UK-UKB-N040-007 | M45: =IF(F45=0,E45,F45)/3 -> 0.66666667
A46: Poz 24 Materiał opatrunkowy - 15 cm | B46: Bielizna, opatrunki | C46: Dezynfekcja | D46: Sterylizacja parowa | E46: 0 | F46: 128 | H46: BIE R 15 x 40 | L46: =H46&I46 -> BIE R 15 x 40 | M46: =IF(F46=0,E46,F46)/3 -> 42.666667
A47: Poz 25 Dezynfekcja obuwia chirurgicznego(1para) | B47: Buty | C47: Dezynfekcja | E47: 884 | F47: 0 | H47: DEZ OBUWIE | I47: UK-UKB-XXXX-060 | L47: =H47&I47 -> DEZ OBUWIEUK-UKB-XXXX-060 | M47: =IF(F47=0,E47,F47)/3 -> 294.66667
E49: =SUM(E3:E48) -> 45461 | F49: =SUM(F3:F48) -> 65931 | M49: =SUM(M3:M48) -> 22284.667
